| SummarizedExperiment 1.0.2 Bioconductor Package Maintainer
 
 | Snapshot Date: 2016-04-22 16:20:12 -0700 (Fri, 22 Apr 2016) |  | URL: https://hedgehog.fhcrc.org/bioconductor/branches/RELEASE_3_2/madman/Rpacks/SummarizedExperiment |  | Last Changed Rev: 112061 / Revision: 116712 |  | Last Changed Date: 2015-12-30 19:34:34 -0800 (Wed, 30 Dec 2015) | 
 | zin1 | Linux (Ubuntu 14.04.2 LTS) / x86_64 | OK | OK | OK |  |  | 
| moscato1 | Windows Server 2008 R2 Standard (64-bit) / x64 | OK | OK | OK | [ OK ] |  | 
| oaxaca | Mac OS X Mavericks (10.9.5) / x86_64 | OK | OK | OK | OK |  | 
##############################################################################
##############################################################################
###
### Running command:
###
###   cd SummarizedExperiment.buildbin-libdir/SummarizedExperiment && zip -r ../../SummarizedExperiment_1.0.2.zip . & cd ../..
###
##############################################################################
##############################################################################
  adding: DESCRIPTION (188 bytes security) (deflated 46%)
  adding: doc/ (208 bytes security) (stored 0%)
  adding: doc/index.html (188 bytes security) (deflated 60%)
  adding: doc/SummarizedExperiment.html (188 bytes security) (deflated 83%)
  adding: doc/SummarizedExperiment.Rmd (188 bytes security) (deflated 58%)
  adding: extdata/ (208 bytes security) (stored 0%)
  adding: extdata/kallisto/ (208 bytes security) (stored 0%)
  adding: extdata/kallisto/abundance.h5 (188 bytes security) (deflated 24%)
  adding: extdata/kallisto/abundance.tsv (188 bytes security) (deflated 65%)
  adding: extdata/kallisto/abundance.txt (188 bytes security) (deflated 44%)
  adding: extdata/kallisto/run_info.json (188 bytes security) (deflated 27%)
  adding: help/ (208 bytes security) (stored 0%)
  adding: help/aliases.rds (188 bytes security) (stored 0%)
  adding: help/AnIndex (188 bytes security) (deflated 90%)
  adding: help/paths.rds (188 bytes security) (stored 0%)
  adding: help/SummarizedExperiment.rdb (188 bytes security) (deflated 1%)
  adding: help/SummarizedExperiment.rdx (188 bytes security) (stored 0%)
  adding: html/ (208 bytes security) (stored 0%)
  adding: html/00Index.html (188 bytes security) (deflated 92%)
  adding: html/R.css (188 bytes security) (deflated 75%)
  adding: INDEX (188 bytes security) (deflated 72%)
  adding: MD5 (188 bytes security) (deflated 49%)
  adding: Meta/ (208 bytes security) (stored 0%)
  adding: Meta/hsearch.rds (188 bytes security) (stored 0%)
  adding: Meta/links.rds (188 bytes security) (stored 0%)
  adding: Meta/nsInfo.rds (188 bytes security) (stored 0%)
  adding: Meta/package.rds (188 bytes security) (stored 0%)
  adding: Meta/Rd.rds (188 bytes security) (stored 0%)
  adding: Meta/vignette.rds (188 bytes security) (stored 0%)
  adding: NAMESPACE (188 bytes security) (deflated 64%)
  adding: NEWS (188 bytes security) (deflated 30%)
  adding: R/ (208 bytes security) (stored 0%)
  adding: R/SummarizedExperiment (188 bytes security) (deflated 41%)
  adding: R/SummarizedExperiment.rdb (188 bytes security) (deflated 35%)
  adding: R/SummarizedExperiment.rdx (188 bytes security) (deflated 5%)
  adding: scripts/ (208 bytes security) (stored 0%)
  adding: scripts/Find_and_update_objects/ (208 bytes security) (stored 0%)
  adding: scripts/Find_and_update_objects/collect_rda_objects_to_update.R (188 bytes security) (deflated 66%)
  adding: scripts/Find_and_update_objects/data_store_RDA_OBJECTS_TO_UPDATE (188 bytes security) (deflated 70%)
  adding: scripts/Find_and_update_objects/pkgs_RDA_OBJECTS_TO_UPDATE (188 bytes security) (deflated 39%)
  adding: scripts/Find_and_update_objects/README (188 bytes security) (deflated 67%)
  adding: scripts/Find_and_update_objects/scan_rda_files.R (188 bytes security) (deflated 57%)
  adding: scripts/Find_and_update_objects/update_rda_objects.R (188 bytes security) (deflated 61%)
  adding: unitTests/ (208 bytes security) (stored 0%)
  adding: unitTests/test_intra-range-methods.R (188 bytes security) (deflated 74%)
  adding: unitTests/test_makeSummarizedExperimentFromExpressionSet.R (188 bytes security) (deflated 77%)
  adding: unitTests/test_RangedSummarizedExperiment-class.R (188 bytes security) (deflated 78%)
  adding: unitTests/test_SummarizedExperiment0-class.R (188 bytes security) (deflated 78%)