| KEGGgraph 1.28.0 Jitao David Zhang
 
 | Snapshot Date: 2016-04-22 16:20:12 -0700 (Fri, 22 Apr 2016) |  | URL: https://hedgehog.fhcrc.org/bioconductor/branches/RELEASE_3_2/madman/Rpacks/KEGGgraph |  | Last Changed Rev: 109589 / Revision: 116712 |  | Last Changed Date: 2015-10-13 12:36:05 -0700 (Tue, 13 Oct 2015) | 
 | zin1 | Linux (Ubuntu 14.04.2 LTS) / x86_64 | OK | OK | WARNINGS |  |  | 
| moscato1 | Windows Server 2008 R2 Standard (64-bit) / x64 | OK | OK | WARNINGS | [ OK ] |  | 
| oaxaca | Mac OS X Mavericks (10.9.5) / x86_64 | OK | OK | WARNINGS | OK |  | 
##############################################################################
##############################################################################
###
### Running command:
###
###   cd KEGGgraph.buildbin-libdir/KEGGgraph && zip -r ../../KEGGgraph_1.28.0.zip . & cd ../..
###
##############################################################################
##############################################################################
Scanning files 
  adding: CITATION (188 bytes security) (deflated 51%)
  adding: data/ (208 bytes security) (stored 0%)
  adding: data/colorectalcancerSPIA.RData (188 bytes security) (deflated 0%)
  adding: data/KEGGEdgeSubtype.csv (188 bytes security) (deflated 72%)
  adding: data/KEGGEdgeType.csv (188 bytes security) (deflated 42%)
  adding: data/KEGGNodeType.csv (188 bytes security) (deflated 52%)
  adding: DESCRIPTION (188 bytes security) (deflated 40%)
  adding: doc/ (208 bytes security) (stored 0%)
  adding: doc/index.html (188 bytes security) (deflated 67%)
  adding: doc/KEGGgraph.pdf (188 bytes security) (deflated 12%)
  adding: doc/KEGGgraph.R (188 bytes security) (deflated 77%)
  adding: doc/KEGGgraph.Rnw (188 bytes security) (deflated 64%)
  adding: doc/KEGGgraphApp.pdf (188 bytes security) (deflated 9%)
  adding: doc/KEGGgraphApp.R (188 bytes security) (deflated 66%)
  adding: doc/KEGGgraphApp.Rnw (188 bytes security) (deflated 59%)
  adding: extdata/ (208 bytes security) (stored 0%)
  adding: extdata/hsa00020.xml (188 bytes security) (deflated 90%)
  adding: extdata/hsa04010.xml (188 bytes security) (deflated 91%)
  adding: extdata/hsa04012.xml (188 bytes security) (deflated 91%)
  adding: extdata/hsa04110.xml (188 bytes security) (deflated 90%)
  adding: extdata/hsa04115.xml (188 bytes security) (deflated 91%)
  adding: extdata/hsa04210.xml (188 bytes security) (deflated 90%)
  adding: extdata/hsa04310.xml (188 bytes security) (deflated 89%)
  adding: extdata/hsa04350.xml (188 bytes security) (deflated 89%)
  adding: extdata/hsa04370.xml (188 bytes security) (deflated 87%)
  adding: extdata/hsa04630.xml (188 bytes security) (deflated 85%)
  adding: extdata/hsa05210.xml (188 bytes security) (deflated 89%)
  adding: extdata/hsa05212.xml (188 bytes security) (deflated 89%)
  adding: extdata/kgml-ed-toy.xml (188 bytes security) (deflated 75%)
  adding: extdata/ko00051.xml (188 bytes security) (deflated 93%)
  adding: extdata/map00260.xml (188 bytes security) (deflated 93%)
  adding: help/ (208 bytes security) (stored 0%)
  adding: help/aliases.rds (188 bytes security) (stored 0%)
  adding: help/AnIndex (188 bytes security) (deflated 81%)
  adding: help/KEGGgraph.rdb (188 bytes security) (deflated 2%)
  adding: help/KEGGgraph.rdx (188 bytes security) (stored 0%)
  adding: help/paths.rds (188 bytes security) (stored 0%)
  adding: html/ (208 bytes security) (stored 0%)
  adding: html/00Index.html (188 bytes security) (deflated 85%)
  adding: html/R.css (188 bytes security) (deflated 75%)
  adding: INDEX (188 bytes security) (deflated 67%)
  adding: MD5 (188 bytes security) (deflated 47%)
  adding: Meta/ (208 bytes security) (stored 0%)
  adding: Meta/data.rds (188 bytes security) (stored 0%)
  adding: Meta/hsearch.rds (188 bytes security) (stored 0%)
  adding: Meta/links.rds (188 bytes security) (stored 0%)
  adding: Meta/nsInfo.rds (188 bytes security) (stored 0%)
  adding: Meta/package.rds (188 bytes security) (stored 0%)
  adding: Meta/Rd.rds (188 bytes security) (stored 0%)
  adding: Meta/vignette.rds (188 bytes security) (stored 0%)
  adding: NAMESPACE (188 bytes security) (deflated 69%)
  adding: NEWS (188 bytes security) (deflated 61%)
  adding: R/ (208 bytes security) (stored 0%)
  adding: R/KEGGgraph (188 bytes security) (deflated 41%)
  adding: R/KEGGgraph.rdb (188 bytes security) (deflated 28%)
  adding: R/KEGGgraph.rdx (188 bytes security) (deflated 1%)
  adding: unitTests/ (208 bytes security) (stored 0%)
  adding: unitTests/test_KEGGgraph.R (188 bytes security) (deflated 68%)