| BioNet 1.30.0 Marcus Dittrich
 
 | Snapshot Date: 2016-04-22 16:20:12 -0700 (Fri, 22 Apr 2016) |  | URL: https://hedgehog.fhcrc.org/bioconductor/branches/RELEASE_3_2/madman/Rpacks/BioNet |  | Last Changed Rev: 109589 / Revision: 116712 |  | Last Changed Date: 2015-10-13 12:36:05 -0700 (Tue, 13 Oct 2015) | 
 | zin1 | Linux (Ubuntu 14.04.2 LTS) / x86_64 | OK | OK | OK |  |  | 
| moscato1 | Windows Server 2008 R2 Standard (64-bit) / x64 | [ OK ] | OK | OK | OK |  | 
| oaxaca | Mac OS X Mavericks (10.9.5) / x86_64 | OK | OK | OK | OK |  | 
##############################################################################
##############################################################################
###
### Running command:
###
###   rm -rf BioNet.buildbin-libdir && mkdir BioNet.buildbin-libdir  && C:\cygwin\bin\curl.exe -O http://zin1/BBS/3.2/bioc/src/contrib/BioNet_1.30.0.tar.gz && D:\biocbld\bbs-3.2-bioc\R\bin\R.exe CMD INSTALL --build --library=BioNet.buildbin-libdir --merge-multiarch BioNet_1.30.0.tar.gz && D:\biocbld\bbs-3.2-bioc\R\bin\R.exe CMD INSTALL BioNet_1.30.0.zip  && rm BioNet_1.30.0.tar.gz BioNet_1.30.0.zip
###
##############################################################################
##############################################################################
  % Total    % Received % Xferd  Average Speed   Time    Time     Time  Current
                                 Dload  Upload   Total   Spent    Left  Speed
  0     0    0     0    0     0      0      0 --:--:-- --:--:-- --:--:--     0
100 1766k  100 1766k    0     0  60.7M      0 --:--:-- --:--:-- --:--:-- 68.9M
install for i386
* installing *source* package 'BioNet' ...
** R
** data
** inst
** preparing package for lazy loading
** help
*** installing help indices
** building package indices
** installing vignettes
** testing if installed package can be loaded
install for x64
* installing *source* package 'BioNet' ...
** testing if installed package can be loaded
* MD5 sums
packaged installation of 'BioNet' as BioNet_1.30.0.zip
* DONE (BioNet)
* installing to library 'D:/biocbld/bbs-3.2-bioc/R/library'
package 'BioNet' successfully unpacked and MD5 sums checked