BiSeq 1.10.0 Katja Hebestreit
 | Snapshot Date: 2016-04-22 16:20:12 -0700 (Fri, 22 Apr 2016) |  | URL: https://hedgehog.fhcrc.org/bioconductor/branches/RELEASE_3_2/madman/Rpacks/BiSeq |  | Last Changed Rev: 109589 / Revision: 116712 |  | Last Changed Date: 2015-10-13 12:36:05 -0700 (Tue, 13 Oct 2015) |  
  | zin1  | Linux (Ubuntu 14.04.2 LTS) / x86_64  |  OK  |  OK  |  OK  |  |   | 
| moscato1  | Windows Server 2008 R2 Standard (64-bit) / x64  | [ OK ] |  OK  |  ERROR  |  OK  |  | 
| oaxaca  | Mac OS X Mavericks (10.9.5) / x86_64  |  OK  |  OK  |  OK  |  OK  |   | 
##############################################################################
##############################################################################
###
### Running command:
###
###   rm -rf BiSeq.buildbin-libdir && mkdir BiSeq.buildbin-libdir  && C:\cygwin\bin\curl.exe -O http://zin1/BBS/3.2/bioc/src/contrib/BiSeq_1.10.0.tar.gz && D:\biocbld\bbs-3.2-bioc\R\bin\R.exe CMD INSTALL --build --library=BiSeq.buildbin-libdir --merge-multiarch BiSeq_1.10.0.tar.gz && D:\biocbld\bbs-3.2-bioc\R\bin\R.exe CMD INSTALL BiSeq_1.10.0.zip  && rm BiSeq_1.10.0.tar.gz BiSeq_1.10.0.zip
###
##############################################################################
##############################################################################
  % Total    % Received % Xferd  Average Speed   Time    Time     Time  Current
                                 Dload  Upload   Total   Spent    Left  Speed
  0     0    0     0    0     0      0      0 --:--:-- --:--:-- --:--:--     0
100  486k  100  486k    0     0  26.0M      0 --:--:-- --:--:-- --:--:-- 31.6M
install for i386
* installing *source* package 'BiSeq' ...
** R
** data
** inst
** preparing package for lazy loading
** help
*** installing help indices
** building package indices
** installing vignettes
** testing if installed package can be loaded
install for x64
* installing *source* package 'BiSeq' ...
** testing if installed package can be loaded
* MD5 sums
packaged installation of 'BiSeq' as BiSeq_1.10.0.zip
* DONE (BiSeq)
* installing to library 'D:/biocbld/bbs-3.2-bioc/R/library'
package 'BiSeq' successfully unpacked and MD5 sums checked