| BeadDataPackR 1.22.0 Mike Smith
 
 | Snapshot Date: 2016-04-22 16:20:12 -0700 (Fri, 22 Apr 2016) |  | URL: https://hedgehog.fhcrc.org/bioconductor/branches/RELEASE_3_2/madman/Rpacks/BeadDataPackR |  | Last Changed Rev: 109589 / Revision: 116712 |  | Last Changed Date: 2015-10-13 12:36:05 -0700 (Tue, 13 Oct 2015) | 
 | zin1 | Linux (Ubuntu 14.04.2 LTS) / x86_64 | OK | OK | OK |  |  | 
| moscato1 | Windows Server 2008 R2 Standard (64-bit) / x64 | [ OK ] | OK | OK | OK |  | 
| oaxaca | Mac OS X Mavericks (10.9.5) / x86_64 | OK | OK | OK | OK |  | 
##############################################################################
##############################################################################
###
### Running command:
###
###   rm -rf BeadDataPackR.buildbin-libdir && mkdir BeadDataPackR.buildbin-libdir  && C:\cygwin\bin\curl.exe -O http://zin1/BBS/3.2/bioc/src/contrib/BeadDataPackR_1.22.0.tar.gz && D:\biocbld\bbs-3.2-bioc\R\bin\R.exe CMD INSTALL --build --library=BeadDataPackR.buildbin-libdir --merge-multiarch BeadDataPackR_1.22.0.tar.gz && D:\biocbld\bbs-3.2-bioc\R\bin\R.exe CMD INSTALL BeadDataPackR_1.22.0.zip  && rm BeadDataPackR_1.22.0.tar.gz BeadDataPackR_1.22.0.zip
###
##############################################################################
##############################################################################
  % Total    % Received % Xferd  Average Speed   Time    Time     Time  Current
                                 Dload  Upload   Total   Spent    Left  Speed
  0     0    0     0    0     0      0      0 --:--:-- --:--:-- --:--:--     0
  0     0    0     0    0     0      0      0 --:--:-- --:--:-- --:--:--     0
100 81167  100 81167    0     0   356k      0 --:--:-- --:--:-- --:--:--  871k
install for i386
* installing *source* package 'BeadDataPackR' ...
** libs
gcc -m32 -I"D:/biocbld/BBS-3˜1.2-B/R/include" -DNDEBUG     -I"d:/RCompile/r-compiling/local/local323/include"     -O3 -Wall  -std=gnu99 -mtune=core2 -c BeadDataPackR.c -o BeadDataPackR.o
gcc -m32 -I"D:/biocbld/BBS-3˜1.2-B/R/include" -DNDEBUG     -I"d:/RCompile/r-compiling/local/local323/include"     -O3 -Wall  -std=gnu99 -mtune=core2 -c R_init_BeadDataPackR.c -o R_init_BeadDataPackR.o
gcc -m32 -shared -s -static-libgcc -o BeadDataPackR.dll tmp.def BeadDataPackR.o R_init_BeadDataPackR.o -Ld:/RCompile/r-compiling/local/local323/lib/i386 -Ld:/RCompile/r-compiling/local/local323/lib -LD:/biocbld/BBS-3˜1.2-B/R/bin/i386 -lR
installing to D:/biocbld/bbs-3.2-bioc/meat/BeadDataPackR.buildbin-libdir/BeadDataPackR/libs/i386
** R
** inst
** preparing package for lazy loading
** help
*** installing help indices
** building package indices
** installing vignettes
   'BeadDataPackR.rnw' 
** testing if installed package can be loaded
install for x64
* installing *source* package 'BeadDataPackR' ...
** libs
gcc -m64 -I"D:/biocbld/BBS-3˜1.2-B/R/include" -DNDEBUG     -I"d:/RCompile/r-compiling/local/local323/include"     -O2 -Wall  -std=gnu99 -mtune=core2 -c BeadDataPackR.c -o BeadDataPackR.o
gcc -m64 -I"D:/biocbld/BBS-3˜1.2-B/R/include" -DNDEBUG     -I"d:/RCompile/r-compiling/local/local323/include"     -O2 -Wall  -std=gnu99 -mtune=core2 -c R_init_BeadDataPackR.c -o R_init_BeadDataPackR.o
gcc -m64 -shared -s -static-libgcc -o BeadDataPackR.dll tmp.def BeadDataPackR.o R_init_BeadDataPackR.o -Ld:/RCompile/r-compiling/local/local323/lib/x64 -Ld:/RCompile/r-compiling/local/local323/lib -LD:/biocbld/BBS-3˜1.2-B/R/bin/x64 -lR
installing to D:/biocbld/bbs-3.2-bioc/meat/BeadDataPackR.buildbin-libdir/BeadDataPackR/libs/x64
** testing if installed package can be loaded
* MD5 sums
packaged installation of 'BeadDataPackR' as BeadDataPackR_1.22.0.zip
* DONE (BeadDataPackR)
* installing to library 'D:/biocbld/bbs-3.2-bioc/R/library'
package 'BeadDataPackR' successfully unpacked and MD5 sums checked