| AnnotationHub 2.2.5 Bioconductor Package Maintainer
 
 | Snapshot Date: 2016-04-22 16:20:12 -0700 (Fri, 22 Apr 2016) |  | URL: https://hedgehog.fhcrc.org/bioconductor/branches/RELEASE_3_2/madman/Rpacks/AnnotationHub |  | Last Changed Rev: 114611 / Revision: 116712 |  | Last Changed Date: 2016-03-10 07:42:44 -0800 (Thu, 10 Mar 2016) | 
 | zin1 | Linux (Ubuntu 14.04.2 LTS) / x86_64 | OK | OK | OK |  |  | 
| moscato1 | Windows Server 2008 R2 Standard (64-bit) / x64 | OK | OK | OK | [ OK ] |  | 
| oaxaca | Mac OS X Mavericks (10.9.5) / x86_64 | OK | OK | OK | OK |  | 
##############################################################################
##############################################################################
###
### Running command:
###
###   cd AnnotationHub.buildbin-libdir/AnnotationHub && zip -r ../../AnnotationHub_2.2.5.zip . & cd ../..
###
##############################################################################
##############################################################################
  adding: DESCRIPTION (188 bytes security) (deflated 50%)
  adding: doc/ (208 bytes security) (stored 0%)
  adding: doc/AnnotationHub-HOWTO.html (188 bytes security) (deflated 71%)
  adding: doc/AnnotationHub-HOWTO.Rmd (188 bytes security) (deflated 60%)
  adding: doc/AnnotationHub.html (188 bytes security) (deflated 33%)
  adding: doc/AnnotationHub.Rmd (188 bytes security) (deflated 59%)
  adding: doc/AnnotationHubRecipes.html (188 bytes security) (deflated 63%)
  adding: doc/AnnotationHubRecipes.Rmd (188 bytes security) (deflated 62%)
  adding: doc/index.html (188 bytes security) (deflated 73%)
  adding: help/ (208 bytes security) (stored 0%)
  adding: help/aliases.rds (188 bytes security) (stored 0%)
  adding: help/AnIndex (188 bytes security) (deflated 84%)
  adding: help/AnnotationHub.rdb (188 bytes security) (deflated 1%)
  adding: help/AnnotationHub.rdx (188 bytes security) (stored 0%)
  adding: help/paths.rds (188 bytes security) (stored 0%)
  adding: html/ (208 bytes security) (stored 0%)
  adding: html/00Index.html (188 bytes security) (deflated 87%)
  adding: html/R.css (188 bytes security) (deflated 75%)
  adding: INDEX (188 bytes security) (deflated 41%)
  adding: MD5 (188 bytes security) (deflated 46%)
  adding: Meta/ (208 bytes security) (stored 0%)
  adding: Meta/hsearch.rds (188 bytes security) (stored 0%)
  adding: Meta/links.rds (188 bytes security) (stored 0%)
  adding: Meta/nsInfo.rds (188 bytes security) (stored 0%)
  adding: Meta/package.rds (188 bytes security) (stored 0%)
  adding: Meta/Rd.rds (188 bytes security) (stored 0%)
  adding: Meta/vignette.rds (188 bytes security) (stored 0%)
  adding: NAMESPACE (188 bytes security) (deflated 51%)
  adding: NEWS (188 bytes security) (deflated 54%)
  adding: R/ (208 bytes security) (stored 0%)
  adding: R/AnnotationHub (188 bytes security) (deflated 41%)
  adding: R/AnnotationHub.rdb (188 bytes security) (deflated 28%)
  adding: R/AnnotationHub.rdx (188 bytes security) (stored 0%)
  adding: scripts/ (208 bytes security) (stored 0%)
  adding: scripts/shinyTest.R (188 bytes security) (deflated 81%)
  adding: scripts/test.R (188 bytes security) (deflated 63%)
  adding: unitTests/ (208 bytes security) (stored 0%)
  adding: unitTests/test_AnnotationHub-class.R (188 bytes security) (deflated 60%)
  adding: unitTests/test_cache.R (188 bytes security) (deflated 56%)
  adding: unitTests/test_tidyGRanges.R (188 bytes security) (deflated 72%)
  adding: unitTests/test_utilities.R (188 bytes security) (deflated 11%)