| AffyCompatible 1.30.0 Martin Morgan
 
 | Snapshot Date: 2016-04-22 16:20:12 -0700 (Fri, 22 Apr 2016) |  | URL: https://hedgehog.fhcrc.org/bioconductor/branches/RELEASE_3_2/madman/Rpacks/AffyCompatible |  | Last Changed Rev: 109589 / Revision: 116712 |  | Last Changed Date: 2015-10-13 12:36:05 -0700 (Tue, 13 Oct 2015) | 
 | zin1 | Linux (Ubuntu 14.04.2 LTS) / x86_64 | OK | OK | OK |  |  | 
| moscato1 | Windows Server 2008 R2 Standard (64-bit) / x64 | OK | OK | OK | [ OK ] |  | 
| oaxaca | Mac OS X Mavericks (10.9.5) / x86_64 | OK | OK | OK | OK |  | 
##############################################################################
##############################################################################
###
### Running command:
###
###   cd AffyCompatible.buildbin-libdir/AffyCompatible && zip -r ../../AffyCompatible_1.30.0.zip . & cd ../..
###
##############################################################################
##############################################################################
Scanning files 
  adding: DESCRIPTION (188 bytes security) (deflated 41%)
  adding: doc/ (208 bytes security) (stored 0%)
  adding: doc/index.html (188 bytes security) (deflated 67%)
  adding: doc/MAGEAndARR.pdf (188 bytes security) (deflated 8%)
  adding: doc/MAGEAndARR.R (188 bytes security) (deflated 81%)
  adding: doc/MAGEAndARR.Rnw (188 bytes security) (deflated 61%)
  adding: doc/NetAffxResource.pdf (188 bytes security) (deflated 6%)
  adding: doc/NetAffxResource.R (188 bytes security) (deflated 76%)
  adding: doc/NetAffxResource.Rnw (188 bytes security) (deflated 59%)
  adding: extdata/ (208 bytes security) (stored 0%)
  adding: extdata/ARR/ (208 bytes security) (stored 0%)
  adding: extdata/ARR/TisMap_Brain_01_v1_WTGene1.ARR (188 bytes security) (deflated 85%)
  adding: extdata/ARR/TisMap_Breast_01_v1_WTGene1.ARR (188 bytes security) (deflated 85%)
  adding: extdata/ARR/TisMap_Heart_01_v1_WTGene1.ARR (188 bytes security) (deflated 85%)
  adding: extdata/ARR/TisMap_Kidney_01_v1_WTGene1.ARR (188 bytes security) (deflated 85%)
  adding: extdata/ArraySetAndTemplateFile.dtd (188 bytes security) (deflated 68%)
  adding: extdata/DTT/ (208 bytes security) (stored 0%)
  adding: extdata/DTT/MPRO_0hr_A.xml (188 bytes security) (deflated 92%)
  adding: extdata/DTT/Sample_1_Wash_Stain_Param.xml (188 bytes security) (deflated 92%)
  adding: extdata/DTT/Sample_2_4C_Scan.xml (188 bytes security) (deflated 94%)
  adding: extdata/MAGE-ML.dtd (188 bytes security) (deflated 81%)
  adding: extdata/NetAffxAnnotFileList.dtd (188 bytes security) (deflated 61%)
  adding: help/ (208 bytes security) (stored 0%)
  adding: help/AffyCompatible.rdb (188 bytes security) (deflated 2%)
  adding: help/AffyCompatible.rdx (188 bytes security) (stored 0%)
  adding: help/aliases.rds (188 bytes security) (deflated 2%)
  adding: help/AnIndex (188 bytes security) (deflated 92%)
  adding: help/paths.rds (188 bytes security) (stored 0%)
  adding: html/ (208 bytes security) (stored 0%)
  adding: html/00Index.html (188 bytes security) (deflated 97%)
  adding: html/R.css (188 bytes security) (deflated 75%)
  adding: INDEX (188 bytes security) (deflated 69%)
  adding: MD5 (188 bytes security) (deflated 46%)
  adding: Meta/ (208 bytes security) (stored 0%)
  adding: Meta/hsearch.rds (188 bytes security) (deflated 2%)
  adding: Meta/links.rds (188 bytes security) (deflated 5%)
  adding: Meta/nsInfo.rds (188 bytes security) (stored 0%)
  adding: Meta/package.rds (188 bytes security) (stored 0%)
  adding: Meta/Rd.rds (188 bytes security) (stored 0%)
  adding: Meta/vignette.rds (188 bytes security) (stored 0%)
  adding: NAMESPACE (188 bytes security) (deflated 39%)
  adding: R/ (208 bytes security) (stored 0%)
  adding: R/AffyCompatible (188 bytes security) (deflated 41%)
  adding: R/AffyCompatible.rdb (188 bytes security) (deflated 34%)
  adding: R/AffyCompatible.rdx (188 bytes security) (deflated 11%)
  adding: R/sysdata.rdb (188 bytes security) (stored 0%)
  adding: R/sysdata.rdx (188 bytes security) (stored 0%)