viper 1.6.0 Mariano J Alvarez
Snapshot Date: 2015-10-26 19:24:07 -0400 (Mon, 26 Oct 2015) | URL: https://hedgehog.fhcrc.org/bioconductor/branches/RELEASE_3_2/madman/Rpacks/viper | Last Changed Rev: 109589 / Revision: 109947 | Last Changed Date: 2015-10-13 15:36:05 -0400 (Tue, 13 Oct 2015) |
| linux1.bioconductor.org | Linux (Ubuntu 14.04.2 LTS) / x86_64 | OK | OK | [ OK ] | | |
windows1.bioconductor.org | Windows Server 2012 R2 Enterprise SP1 (64-bit) / x64 | OK | OK | OK | OK | |
perceval | Mac OS X Snow Leopard (10.6.8) / x86_64 | OK | OK | OK | OK | |
oaxaca | Mac OS X Mavericks (10.9.5) / x86_64 | OK | OK | OK | OK | |
##############################################################################
##############################################################################
###
### Running command:
###
### /home/biocbuild/bbs-3.2-bioc/R/bin/R CMD check --no-vignettes --timings viper_1.6.0.tar.gz
###
##############################################################################
##############################################################################
* using log directory ‘/home/biocbuild/bbs-3.2-bioc/meat/viper.Rcheck’
* using R version 3.2.2 (2015-08-14)
* using platform: x86_64-pc-linux-gnu (64-bit)
* using session charset: UTF-8
* using option ‘--no-vignettes’
* checking for file ‘viper/DESCRIPTION’ ... OK
* this is package ‘viper’ version ‘1.6.0’
* checking package namespace information ... OK
* checking package dependencies ... OK
* checking if this is a source package ... OK
* checking if there is a namespace ... OK
* checking for hidden files and directories ... OK
* checking for portable file names ... OK
* checking for sufficient/correct file permissions ... OK
* checking whether package ‘viper’ can be installed ... [2s/2s] OK
* checking installed package size ... OK
* checking package directory ... OK
* checking ‘build’ directory ... OK
* checking DESCRIPTION meta-information ... NOTE
Malformed Description field: should contain one or more complete sentences.
* checking top-level files ... OK
* checking for left-over files ... OK
* checking index information ... OK
* checking package subdirectories ... OK
* checking R files for non-ASCII characters ... OK
* checking R files for syntax errors ... OK
* checking whether the package can be loaded ... OK
* checking whether the package can be loaded with stated dependencies ... OK
* checking whether the package can be unloaded cleanly ... OK
* checking whether the namespace can be loaded with stated dependencies ... OK
* checking whether the namespace can be unloaded cleanly ... OK
* checking dependencies in R code ... OK
* checking S3 generic/method consistency ... OK
* checking replacement functions ... OK
* checking foreign function calls ... OK
* checking R code for possible problems ... OK
* checking Rd files ... OK
* checking Rd metadata ... OK
* checking Rd cross-references ... OK
* checking for missing documentation entries ... OK
* checking for code/documentation mismatches ... OK
* checking Rd \usage sections ... OK
* checking Rd contents ... OK
* checking for unstated dependencies in examples ... OK
* checking installed files from ‘inst/doc’ ... OK
* checking files in ‘vignettes’ ... OK
* checking examples ... [17m/17m] OK
Examples with CPU or elapsed time > 5s
user system elapsed
shadow 409.445 1.139 411.429
viperSignature-methods 188.319 1.652 190.025
msviperSynergy 90.315 0.635 91.047
msviperCombinatorial 79.342 0.284 79.690
plot.msviper 65.716 0.220 65.999
msviper 65.260 0.192 66.771
bootstrapViper 62.154 0.196 62.438
viperRPT 8.598 0.000 8.600
bootstrapmsviper 8.498 0.012 8.521
viper 7.832 0.040 7.873
ledge 7.091 0.008 7.100
bootstrapTtest-methods 6.354 0.032 6.399
ttestNull-methods 5.221 0.024 5.246
* checking for unstated dependencies in vignettes ... OK
* checking package vignettes in ‘inst/doc’ ... OK
* checking running R code from vignettes ... SKIPPED
* checking re-building of vignette outputs ... SKIPPED
* checking PDF version of manual ... OK
* DONE
Status: 1 NOTE
See
‘/home/biocbuild/bbs-3.2-bioc/meat/viper.Rcheck/00check.log’
for details.