Back to the "Multiple platform build/check report" A  B  C  D  E  F  G  H  I  J  K  L  M  N  O  P  Q  R [S] T  U  V  W  X  Y  Z 

BioC 3.2: BUILD BIN report for sva on windows1.bioconductor.org

This page was generated on 2015-10-27 17:29:43 -0400 (Tue, 27 Oct 2015).

Package 1034/1104HostnameOS / ArchINSTALLBUILDCHECKBUILD BIN
sva 3.18.0
Jeffrey T. Leek , John D. Storey , W. Evan Johnson
Snapshot Date: 2015-10-26 19:24:07 -0400 (Mon, 26 Oct 2015)
URL: https://hedgehog.fhcrc.org/bioconductor/branches/RELEASE_3_2/madman/Rpacks/sva
Last Changed Rev: 109589 / Revision: 109947
Last Changed Date: 2015-10-13 15:36:05 -0400 (Tue, 13 Oct 2015)
linux1.bioconductor.org Linux (Ubuntu 14.04.2 LTS) / x86_64  OK  OK  WARNINGS UNNEEDED, same version exists in internal repository
windows1.bioconductor.org Windows Server 2012 R2 Enterprise SP1 (64-bit) / x64  OK  OK  WARNINGS [ OK ]UNNEEDED, same version exists in internal repository
perceval Mac OS X Snow Leopard (10.6.8) / x86_64  OK  OK  WARNINGS  OK UNNEEDED, same version exists in internal repository
oaxaca Mac OS X Mavericks (10.9.5) / x86_64  OK  OK  WARNINGS  OK UNNEEDED, same version exists in internal repository

Summary

Package: sva
Version: 3.18.0
Command: cd sva.buildbin-libdir/sva && zip -r ../../sva_3.18.0.zip . & cd ../..
StartedAt: 2015-10-27 07:32:50 -0400 (Tue, 27 Oct 2015)
EndedAt: 2015-10-27 07:33:05 -0400 (Tue, 27 Oct 2015)
EllapsedTime: 15.1 seconds
RetCode: 0
Status:  OK  
PackageFile: sva_3.18.0.zip
PackageFileSize: 462.9 KiB

Command output

##############################################################################
##############################################################################
###
### Running command:
###
###   cd sva.buildbin-libdir/sva && zip -r ../../sva_3.18.0.zip . & cd ../..
###
##############################################################################
##############################################################################


  adding: DESCRIPTION (188 bytes security) (deflated 50%)
  adding: doc/ (208 bytes security) (stored 0%)
  adding: doc/index.html (188 bytes security) (deflated 57%)
  adding: doc/sva.pdf (188 bytes security) (deflated 12%)
  adding: doc/sva.R (188 bytes security) (deflated 81%)
  adding: doc/sva.Rnw (188 bytes security) (deflated 67%)
  adding: help/ (208 bytes security) (stored 0%)
  adding: help/aliases.rds (188 bytes security) (stored 0%)
  adding: help/AnIndex (188 bytes security) (deflated 49%)
  adding: help/paths.rds (188 bytes security) (stored 0%)
  adding: help/sva.rdb (188 bytes security) (deflated 3%)
  adding: help/sva.rdx (188 bytes security) (stored 0%)
  adding: html/ (208 bytes security) (stored 0%)
  adding: html/00Index.html (188 bytes security) (deflated 68%)
  adding: html/R.css (188 bytes security) (deflated 75%)
  adding: INDEX (188 bytes security) (deflated 71%)
  adding: libs/ (208 bytes security) (stored 0%)
  adding: libs/i386/ (208 bytes security) (stored 0%)
  adding: libs/i386/sva.dll (188 bytes security) (deflated 58%)
  adding: libs/x64/ (208 bytes security) (stored 0%)
  adding: libs/x64/sva.dll (188 bytes security) (deflated 59%)
  adding: MD5 (188 bytes security) (deflated 41%)
  adding: Meta/ (208 bytes security) (stored 0%)
  adding: Meta/hsearch.rds (188 bytes security) (stored 0%)
  adding: Meta/links.rds (188 bytes security) (stored 0%)
  adding: Meta/nsInfo.rds (188 bytes security) (stored 0%)
  adding: Meta/package.rds (188 bytes security) (stored 0%)
  adding: Meta/Rd.rds (188 bytes security) (stored 0%)
  adding: Meta/vignette.rds (188 bytes security) (stored 0%)
  adding: NAMESPACE (188 bytes security) (deflated 45%)
  adding: R/ (208 bytes security) (stored 0%)
  adding: R/sva (188 bytes security) (deflated 41%)
  adding: R/sva.rdb (188 bytes security) (deflated 4%)
  adding: R/sva.rdx (188 bytes security) (stored 0%)