sigPathway 1.38.0 Weil Lai
Snapshot Date: 2016-04-22 16:20:12 -0700 (Fri, 22 Apr 2016) | URL: https://hedgehog.fhcrc.org/bioconductor/branches/RELEASE_3_2/madman/Rpacks/sigPathway | Last Changed Rev: 109589 / Revision: 116712 | Last Changed Date: 2015-10-13 12:36:05 -0700 (Tue, 13 Oct 2015) |
| zin1 | Linux (Ubuntu 14.04.2 LTS) / x86_64 | OK | OK | OK | | |
moscato1 | Windows Server 2008 R2 Standard (64-bit) / x64 | [ OK ] | OK | OK | OK | |
oaxaca | Mac OS X Mavericks (10.9.5) / x86_64 | OK | OK | OK | OK | |
##############################################################################
##############################################################################
###
### Running command:
###
### rm -rf sigPathway.buildbin-libdir && mkdir sigPathway.buildbin-libdir && C:\cygwin\bin\curl.exe -O http://zin1/BBS/3.2/bioc/src/contrib/sigPathway_1.38.0.tar.gz && D:\biocbld\bbs-3.2-bioc\R\bin\R.exe CMD INSTALL --build --library=sigPathway.buildbin-libdir --merge-multiarch sigPathway_1.38.0.tar.gz && D:\biocbld\bbs-3.2-bioc\R\bin\R.exe CMD INSTALL sigPathway_1.38.0.zip && rm sigPathway_1.38.0.tar.gz sigPathway_1.38.0.zip
###
##############################################################################
##############################################################################
% Total % Received % Xferd Average Speed Time Time Time Current
Dload Upload Total Spent Left Speed
0 0 0 0 0 0 0 0 --:--:-- --:--:-- --:--:-- 0
0 0 0 0 0 0 0 0 --:--:-- --:--:-- --:--:-- 0
100 457k 100 457k 0 0 1995k 0 --:--:-- --:--:-- --:--:-- 4717k
install for i386
* installing *source* package 'sigPathway' ...
** libs
gcc -m32 -I"D:/biocbld/BBS-3˜1.2-B/R/include" -DNDEBUG -I"d:/RCompile/r-compiling/local/local323/include" -O3 -Wall -std=gnu99 -mtune=core2 -c calc_gene_set_internal.c -o calc_gene_set_internal.o
gcc -m32 -I"D:/biocbld/BBS-3˜1.2-B/R/include" -DNDEBUG -I"d:/RCompile/r-compiling/local/local323/include" -O3 -Wall -std=gnu99 -mtune=core2 -c calc_gene_set_stat.c -o calc_gene_set_stat.o
gcc -m32 -I"D:/biocbld/BBS-3˜1.2-B/R/include" -DNDEBUG -I"d:/RCompile/r-compiling/local/local323/include" -O3 -Wall -std=gnu99 -mtune=core2 -c calc_probe_stat.c -o calc_probe_stat.o
gcc -m32 -I"D:/biocbld/BBS-3˜1.2-B/R/include" -DNDEBUG -I"d:/RCompile/r-compiling/local/local323/include" -O3 -Wall -std=gnu99 -mtune=core2 -c calc_weights.c -o calc_weights.o
gcc -m32 -I"D:/biocbld/BBS-3˜1.2-B/R/include" -DNDEBUG -I"d:/RCompile/r-compiling/local/local323/include" -O3 -Wall -std=gnu99 -mtune=core2 -c matrix_fn.c -o matrix_fn.o
gcc -m32 -I"D:/biocbld/BBS-3˜1.2-B/R/include" -DNDEBUG -I"d:/RCompile/r-compiling/local/local323/include" -O3 -Wall -std=gnu99 -mtune=core2 -c permute.c -o permute.o
gcc -m32 -I"D:/biocbld/BBS-3˜1.2-B/R/include" -DNDEBUG -I"d:/RCompile/r-compiling/local/local323/include" -O3 -Wall -std=gnu99 -mtune=core2 -c shuffle.c -o shuffle.o
gcc -m32 -I"D:/biocbld/BBS-3˜1.2-B/R/include" -DNDEBUG -I"d:/RCompile/r-compiling/local/local323/include" -O3 -Wall -std=gnu99 -mtune=core2 -c sigPathway.c -o sigPathway.o
gcc -m32 -shared -s -static-libgcc -o sigPathway.dll tmp.def calc_gene_set_internal.o calc_gene_set_stat.o calc_probe_stat.o calc_weights.o matrix_fn.o permute.o shuffle.o sigPathway.o -LD:/biocbld/BBS-3˜1.2-B/R/bin/i386 -lRlapack -LD:/biocbld/BBS-3˜1.2-B/R/bin/i386 -lRblas -lgfortran -Ld:/RCompile/r-compiling/local/local323/lib/i386 -Ld:/RCompile/r-compiling/local/local323/lib -LD:/biocbld/BBS-3˜1.2-B/R/bin/i386 -lR
installing to D:/biocbld/bbs-3.2-bioc/meat/sigPathway.buildbin-libdir/sigPathway/libs/i386
** R
** data
** preparing package for lazy loading
** help
*** installing help indices
** building package indices
** installing vignettes
** testing if installed package can be loaded
install for x64
* installing *source* package 'sigPathway' ...
** libs
gcc -m64 -I"D:/biocbld/BBS-3˜1.2-B/R/include" -DNDEBUG -I"d:/RCompile/r-compiling/local/local323/include" -O2 -Wall -std=gnu99 -mtune=core2 -c calc_gene_set_internal.c -o calc_gene_set_internal.o
gcc -m64 -I"D:/biocbld/BBS-3˜1.2-B/R/include" -DNDEBUG -I"d:/RCompile/r-compiling/local/local323/include" -O2 -Wall -std=gnu99 -mtune=core2 -c calc_gene_set_stat.c -o calc_gene_set_stat.o
gcc -m64 -I"D:/biocbld/BBS-3˜1.2-B/R/include" -DNDEBUG -I"d:/RCompile/r-compiling/local/local323/include" -O2 -Wall -std=gnu99 -mtune=core2 -c calc_probe_stat.c -o calc_probe_stat.o
gcc -m64 -I"D:/biocbld/BBS-3˜1.2-B/R/include" -DNDEBUG -I"d:/RCompile/r-compiling/local/local323/include" -O2 -Wall -std=gnu99 -mtune=core2 -c calc_weights.c -o calc_weights.o
gcc -m64 -I"D:/biocbld/BBS-3˜1.2-B/R/include" -DNDEBUG -I"d:/RCompile/r-compiling/local/local323/include" -O2 -Wall -std=gnu99 -mtune=core2 -c matrix_fn.c -o matrix_fn.o
gcc -m64 -I"D:/biocbld/BBS-3˜1.2-B/R/include" -DNDEBUG -I"d:/RCompile/r-compiling/local/local323/include" -O2 -Wall -std=gnu99 -mtune=core2 -c permute.c -o permute.o
gcc -m64 -I"D:/biocbld/BBS-3˜1.2-B/R/include" -DNDEBUG -I"d:/RCompile/r-compiling/local/local323/include" -O2 -Wall -std=gnu99 -mtune=core2 -c shuffle.c -o shuffle.o
gcc -m64 -I"D:/biocbld/BBS-3˜1.2-B/R/include" -DNDEBUG -I"d:/RCompile/r-compiling/local/local323/include" -O2 -Wall -std=gnu99 -mtune=core2 -c sigPathway.c -o sigPathway.o
gcc -m64 -shared -s -static-libgcc -o sigPathway.dll tmp.def calc_gene_set_internal.o calc_gene_set_stat.o calc_probe_stat.o calc_weights.o matrix_fn.o permute.o shuffle.o sigPathway.o -LD:/biocbld/BBS-3˜1.2-B/R/bin/x64 -lRlapack -LD:/biocbld/BBS-3˜1.2-B/R/bin/x64 -lRblas -lgfortran -Ld:/RCompile/r-compiling/local/local323/lib/x64 -Ld:/RCompile/r-compiling/local/local323/lib -LD:/biocbld/BBS-3˜1.2-B/R/bin/x64 -lR
installing to D:/biocbld/bbs-3.2-bioc/meat/sigPathway.buildbin-libdir/sigPathway/libs/x64
** testing if installed package can be loaded
* MD5 sums
packaged installation of 'sigPathway' as sigPathway_1.38.0.zip
* DONE (sigPathway)
* installing to library 'D:/biocbld/bbs-3.2-bioc/R/library'
package 'sigPathway' successfully unpacked and MD5 sums checked