rnaSeqMap 2.28.0 Michal Okoniewski
Snapshot Date: 2015-10-26 19:24:07 -0400 (Mon, 26 Oct 2015) | URL: https://hedgehog.fhcrc.org/bioconductor/branches/RELEASE_3_2/madman/Rpacks/rnaSeqMap | Last Changed Rev: 109589 / Revision: 109947 | Last Changed Date: 2015-10-13 15:36:05 -0400 (Tue, 13 Oct 2015) |
| linux1.bioconductor.org | Linux (Ubuntu 14.04.2 LTS) / x86_64 | OK | OK | OK | | |
windows1.bioconductor.org | Windows Server 2012 R2 Enterprise SP1 (64-bit) / x64 | [ OK ] | OK | OK | OK | |
perceval | Mac OS X Snow Leopard (10.6.8) / x86_64 | OK | OK | OK | OK | |
oaxaca | Mac OS X Mavericks (10.9.5) / x86_64 | OK | OK | OK | OK | |
##############################################################################
##############################################################################
###
### Running command:
###
### C:\cygwin64\bin\curl.exe -O http://linux1.bioconductor.org/BBS/3.2/bioc/src/contrib/rnaSeqMap_2.28.0.tar.gz && C:\biocbld\bbs-3.2-bioc\R\bin\R.exe CMD INSTALL --merge-multiarch rnaSeqMap_2.28.0.tar.gz && rm rnaSeqMap_2.28.0.tar.gz
###
##############################################################################
##############################################################################
% Total % Received % Xferd Average Speed Time Time Time Current
Dload Upload Total Spent Left Speed
0 0 0 0 0 0 0 0 --:--:-- --:--:-- --:--:-- 0
100 707k 100 707k 0 0 65.1M 0 --:--:-- --:--:-- --:--:-- 98.6M
install for i386
* installing to library 'C:/biocbld/bbs-3.2-bioc/R/library'
* installing *source* package 'rnaSeqMap' ...
** libs
gcc -m32 -I"C:/biocbld/BBS-3˜1.2-B/R/include" -DNDEBUG -I"d:/RCompile/r-compiling/local/local320/include" -O3 -Wall -std=gnu99 -mtune=core2 -c Rinit.c -o Rinit.o
gcc -m32 -I"C:/biocbld/BBS-3˜1.2-B/R/include" -DNDEBUG -I"d:/RCompile/r-compiling/local/local320/include" -O3 -Wall -std=gnu99 -mtune=core2 -c gcoverage.c -o gcoverage.o
gcoverage.c: In function 'gcoverage':
gcoverage.c:7:31: warning: variable 'nc' set but not used [-Wunused-but-set-variable]
gcc -m32 -I"C:/biocbld/BBS-3˜1.2-B/R/include" -DNDEBUG -I"d:/RCompile/r-compiling/local/local320/include" -O3 -Wall -std=gnu99 -mtune=core2 -c ghistogram.c -o ghistogram.o
ghistogram.c: In function 'ghistogram':
ghistogram.c:9:10: warning: variable 'xa' set but not used [-Wunused-but-set-variable]
ghistogram.c:8:20: warning: variable 'nb' set but not used [-Wunused-but-set-variable]
gcc -m32 -I"C:/biocbld/BBS-3˜1.2-B/R/include" -DNDEBUG -I"d:/RCompile/r-compiling/local/local320/include" -O3 -Wall -std=gnu99 -mtune=core2 -c regionmining.c -o regionmining.o
regionmining.c: In function 'regionmining':
regionmining.c:22:18: warning: variable 'start' set but not used [-Wunused-but-set-variable]
gcc -m32 -I"C:/biocbld/BBS-3˜1.2-B/R/include" -DNDEBUG -I"d:/RCompile/r-compiling/local/local320/include" -O3 -Wall -std=gnu99 -mtune=core2 -c splicingind.c -o splicingind.o
splicingind.c: In function 'splicingind':
splicingind.c:8:13: warning: variable 'nb' set but not used [-Wunused-but-set-variable]
gcc -m32 -shared -s -static-libgcc -o rnaSeqMap.dll tmp.def Rinit.o gcoverage.o ghistogram.o regionmining.o splicingind.o -Ld:/RCompile/r-compiling/local/local320/lib/i386 -Ld:/RCompile/r-compiling/local/local320/lib -LC:/biocbld/BBS-3˜1.2-B/R/bin/i386 -lR
installing to C:/biocbld/bbs-3.2-bioc/R/library/rnaSeqMap/libs/i386
** R
** data
** inst
** preparing package for lazy loading
** help
*** installing help indices
** building package indices
** installing vignettes
** testing if installed package can be loaded
install for x64
* installing to library 'C:/biocbld/bbs-3.2-bioc/R/library'
* installing *source* package 'rnaSeqMap' ...
** libs
gcc -m64 -I"C:/biocbld/BBS-3˜1.2-B/R/include" -DNDEBUG -I"d:/RCompile/r-compiling/local/local320/include" -O2 -Wall -std=gnu99 -mtune=core2 -c Rinit.c -o Rinit.o
gcc -m64 -I"C:/biocbld/BBS-3˜1.2-B/R/include" -DNDEBUG -I"d:/RCompile/r-compiling/local/local320/include" -O2 -Wall -std=gnu99 -mtune=core2 -c gcoverage.c -o gcoverage.o
gcoverage.c: In function 'gcoverage':
gcoverage.c:7:31: warning: variable 'nc' set but not used [-Wunused-but-set-variable]
gcc -m64 -I"C:/biocbld/BBS-3˜1.2-B/R/include" -DNDEBUG -I"d:/RCompile/r-compiling/local/local320/include" -O2 -Wall -std=gnu99 -mtune=core2 -c ghistogram.c -o ghistogram.o
ghistogram.c: In function 'ghistogram':
ghistogram.c:9:10: warning: variable 'xa' set but not used [-Wunused-but-set-variable]
ghistogram.c:8:20: warning: variable 'nb' set but not used [-Wunused-but-set-variable]
gcc -m64 -I"C:/biocbld/BBS-3˜1.2-B/R/include" -DNDEBUG -I"d:/RCompile/r-compiling/local/local320/include" -O2 -Wall -std=gnu99 -mtune=core2 -c regionmining.c -o regionmining.o
regionmining.c: In function 'regionmining':
regionmining.c:22:18: warning: variable 'start' set but not used [-Wunused-but-set-variable]
gcc -m64 -I"C:/biocbld/BBS-3˜1.2-B/R/include" -DNDEBUG -I"d:/RCompile/r-compiling/local/local320/include" -O2 -Wall -std=gnu99 -mtune=core2 -c splicingind.c -o splicingind.o
splicingind.c: In function 'splicingind':
splicingind.c:8:13: warning: variable 'nb' set but not used [-Wunused-but-set-variable]
gcc -m64 -shared -s -static-libgcc -o rnaSeqMap.dll tmp.def Rinit.o gcoverage.o ghistogram.o regionmining.o splicingind.o -Ld:/RCompile/r-compiling/local/local320/lib/x64 -Ld:/RCompile/r-compiling/local/local320/lib -LC:/biocbld/BBS-3˜1.2-B/R/bin/x64 -lR
installing to C:/biocbld/bbs-3.2-bioc/R/library/rnaSeqMap/libs/x64
** testing if installed package can be loaded
* DONE (rnaSeqMap)