qpgraph 2.4.2 Robert Castelo
 | Snapshot Date: 2016-04-22 16:20:12 -0700 (Fri, 22 Apr 2016) |  | URL: https://hedgehog.fhcrc.org/bioconductor/branches/RELEASE_3_2/madman/Rpacks/qpgraph |  | Last Changed Rev: 114807 / Revision: 116712 |  | Last Changed Date: 2016-03-15 14:05:27 -0700 (Tue, 15 Mar 2016) |  
  | zin1  | Linux (Ubuntu 14.04.2 LTS) / x86_64  |  OK  |  OK  |  OK  |  |   | 
| moscato1  | Windows Server 2008 R2 Standard (64-bit) / x64  |  OK  |  OK  |  OK  | [ OK ] |   | 
| oaxaca  | Mac OS X Mavericks (10.9.5) / x86_64  |  OK  |  OK  |  OK  |  OK  |   | 
##############################################################################
##############################################################################
###
### Running command:
###
###   cd qpgraph.buildbin-libdir/qpgraph && zip -r ../../qpgraph_2.4.2.zip . & cd ../..
###
##############################################################################
##############################################################################
  adding: CITATION (188 bytes security) (deflated 70%)
  adding: data/ (208 bytes security) (stored 0%)
  adding: data/datalist (188 bytes security) (deflated 34%)
  adding: data/Rdata.rdb (188 bytes security) (deflated 0%)
  adding: data/Rdata.rds (188 bytes security) (stored 0%)
  adding: data/Rdata.rdx (188 bytes security) (stored 0%)
  adding: DESCRIPTION (188 bytes security) (deflated 41%)
  adding: doc/ (208 bytes security) (stored 0%)
  adding: doc/BasicUsersGuide.pdf (188 bytes security) (deflated 8%)
  adding: doc/eQTLnetworks.pdf (188 bytes security) (deflated 11%)
  adding: doc/eQTLnetworks.R (188 bytes security) (deflated 79%)
  adding: doc/eQTLnetworks.Rnw (188 bytes security) (deflated 68%)
  adding: doc/index.html (188 bytes security) (deflated 72%)
  adding: doc/qpgraphSimulate.pdf (188 bytes security) (deflated 20%)
  adding: doc/qpgraphSimulate.R (188 bytes security) (deflated 82%)
  adding: doc/qpgraphSimulate.Rnw (188 bytes security) (deflated 68%)
  adding: doc/qpTxRegNet.pdf (188 bytes security) (deflated 13%)
  adding: doc/qpTxRegNet.R (188 bytes security) (deflated 81%)
  adding: doc/qpTxRegNet.Rnw (188 bytes security) (deflated 69%)
  adding: help/ (208 bytes security) (stored 0%)
  adding: help/aliases.rds (188 bytes security) (stored 0%)
  adding: help/AnIndex (188 bytes security) (deflated 85%)
  adding: help/paths.rds (188 bytes security) (stored 0%)
  adding: help/qpgraph.rdb (188 bytes security) (deflated 1%)
  adding: help/qpgraph.rdx (188 bytes security) (stored 0%)
  adding: html/ (208 bytes security) (stored 0%)
  adding: html/00Index.html (188 bytes security) (deflated 89%)
  adding: html/R.css (188 bytes security) (deflated 75%)
  adding: INDEX (188 bytes security) (deflated 66%)
  adding: libs/ (208 bytes security) (stored 0%)
  adding: libs/i386/ (208 bytes security) (stored 0%)
  adding: libs/i386/qpgraph.dll (188 bytes security) (deflated 56%)
  adding: libs/x64/ (208 bytes security) (stored 0%)
  adding: libs/x64/qpgraph.dll (188 bytes security) (deflated 53%)
  adding: MD5 (188 bytes security) (deflated 44%)
  adding: Meta/ (208 bytes security) (stored 0%)
  adding: Meta/data.rds (188 bytes security) (stored 0%)
  adding: Meta/hsearch.rds (188 bytes security) (stored 0%)
  adding: Meta/links.rds (188 bytes security) (stored 0%)
  adding: Meta/nsInfo.rds (188 bytes security) (stored 0%)
  adding: Meta/package.rds (188 bytes security) (stored 0%)
  adding: Meta/Rd.rds (188 bytes security) (stored 0%)
  adding: Meta/vignette.rds (188 bytes security) (stored 0%)
  adding: NAMESPACE (188 bytes security) (deflated 75%)
  adding: NEWS (188 bytes security) (deflated 66%)
  adding: R/ (208 bytes security) (stored 0%)
  adding: R/qpgraph (188 bytes security) (deflated 41%)
  adding: R/qpgraph.rdb (188 bytes security) (deflated 29%)
  adding: R/qpgraph.rdx (188 bytes security) (deflated 3%)
  adding: snow/ (208 bytes security) (stored 0%)
  adding: snow/RMPInode.R (188 bytes security) (deflated 51%)
  adding: snow/RNWSnode.R (188 bytes security) (deflated 57%)
  adding: snow/RPVMnode.R (188 bytes security) (deflated 54%)
  adding: snow/RSOCKnode.R (188 bytes security) (deflated 53%)
  adding: unitTests/ (208 bytes security) (stored 0%)
  adding: unitTests/test_qpCItest.R (188 bytes security) (deflated 50%)
  adding: unitTests/test_qpNrr.R (188 bytes security) (deflated 58%)
  adding: unitTests/test_rgraphBAM.R (188 bytes security) (deflated 39%)