pRoloc 1.10.0 Laurent Gatto
Snapshot Date: 2015-10-26 19:24:07 -0400 (Mon, 26 Oct 2015) | URL: https://hedgehog.fhcrc.org/bioconductor/branches/RELEASE_3_2/madman/Rpacks/pRoloc | Last Changed Rev: 109589 / Revision: 109947 | Last Changed Date: 2015-10-13 15:36:05 -0400 (Tue, 13 Oct 2015) |
| linux1.bioconductor.org | Linux (Ubuntu 14.04.2 LTS) / x86_64 | [ OK ] | OK | OK | | |
windows1.bioconductor.org | Windows Server 2012 R2 Enterprise SP1 (64-bit) / x64 | OK | OK | OK | OK | |
perceval | Mac OS X Snow Leopard (10.6.8) / x86_64 | OK | OK | OK | OK | |
oaxaca | Mac OS X Mavericks (10.9.5) / x86_64 | OK | OK | OK | OK | |
##############################################################################
##############################################################################
###
### Running command:
###
### /home/biocbuild/bbs-3.2-bioc/R/bin/R CMD INSTALL pRoloc
###
##############################################################################
##############################################################################
* installing to library ‘/home/biocbuild/bbs-3.2-bioc/R/library’
* installing *source* package ‘pRoloc’ ...
** libs
g++ -I/home/biocbuild/bbs-3.2-bioc/R/include -DNDEBUG -I/usr/local/include -I"/home/biocbuild/bbs-3.2-bioc/R/library/Rcpp/include" -I"/home/biocbuild/bbs-3.2-bioc/R/library/RcppArmadillo/include" -fpic -g -O2 -Wall -c pRoloc.cpp -o pRoloc.o
g++ -shared -L/home/biocbuild/bbs-3.2-bioc/R/lib -L/usr/local/lib -o pRoloc.so pRoloc.o -L/home/biocbuild/bbs-3.2-bioc/R/lib -lRlapack -L/home/biocbuild/bbs-3.2-bioc/R/lib -lRblas -lgfortran -lm -lquadmath -L/home/biocbuild/bbs-3.2-bioc/R/lib -lR
installing to /home/biocbuild/bbs-3.2-bioc/R/library/pRoloc/libs
** R
** data
** inst
** preparing package for lazy loading
Note: the specification for S3 class “family” in package ‘MatrixModels’ seems equivalent to one from package ‘lme4’: not turning on duplicate class definitions for this class.
** help
*** installing help indices
** building package indices
** installing vignettes
** testing if installed package can be loaded
Note: the specification for S3 class “family” in package ‘MatrixModels’ seems equivalent to one from package ‘lme4’: not turning on duplicate class definitions for this class.
* DONE (pRoloc)