| kebabs 1.4.0 Ulrich Bodenhofer
 
 | Snapshot Date: 2015-10-26 19:24:07 -0400 (Mon, 26 Oct 2015) |  | URL: https://hedgehog.fhcrc.org/bioconductor/branches/RELEASE_3_2/madman/Rpacks/kebabs |  | Last Changed Rev: 109589 / Revision: 109947 |  | Last Changed Date: 2015-10-13 15:36:05 -0400 (Tue, 13 Oct 2015) | 
 | linux1.bioconductor.org | Linux (Ubuntu 14.04.2 LTS) / x86_64 | OK | OK | [ OK ] |  |  | 
| windows1.bioconductor.org | Windows Server 2012 R2 Enterprise SP1 (64-bit) / x64 | OK | OK | OK | OK |  | 
| perceval | Mac OS X Snow Leopard (10.6.8) / x86_64 | OK | OK | OK | OK |  | 
| oaxaca | Mac OS X Mavericks (10.9.5) / x86_64 | OK | OK | OK | OK |  | 
##############################################################################
##############################################################################
###
### Running command:
###
###   /home/biocbuild/bbs-3.2-bioc/R/bin/R CMD check --no-vignettes --timings kebabs_1.4.0.tar.gz
###
##############################################################################
##############################################################################
* using log directory ‘/home/biocbuild/bbs-3.2-bioc/meat/kebabs.Rcheck’
* using R version 3.2.2 (2015-08-14)
* using platform: x86_64-pc-linux-gnu (64-bit)
* using session charset: UTF-8
* using option ‘--no-vignettes’
* checking for file ‘kebabs/DESCRIPTION’ ... OK
* checking extension type ... Package
* this is package ‘kebabs’ version ‘1.4.0’
* checking package namespace information ... OK
* checking package dependencies ... OK
* checking if this is a source package ... OK
* checking if there is a namespace ... OK
* checking for hidden files and directories ... OK
* checking for portable file names ... OK
* checking for sufficient/correct file permissions ... OK
* checking whether package ‘kebabs’ can be installed ... [77s/77s] OK
* checking installed package size ... NOTE
  installed size is  8.8Mb
  sub-directories of 1Mb or more:
    data   1.2Mb
    libs   5.8Mb
* checking package directory ... OK
* checking ‘build’ directory ... OK
* checking DESCRIPTION meta-information ... OK
* checking top-level files ... OK
* checking for left-over files ... OK
* checking index information ... OK
* checking package subdirectories ... OK
* checking R files for non-ASCII characters ... OK
* checking R files for syntax errors ... OK
* checking whether the package can be loaded ... OK
* checking whether the package can be loaded with stated dependencies ... OK
* checking whether the package can be unloaded cleanly ... OK
* checking whether the namespace can be loaded with stated dependencies ... OK
* checking whether the namespace can be unloaded cleanly ... OK
* checking dependencies in R code ... OK
* checking S3 generic/method consistency ... OK
* checking replacement functions ... OK
* checking foreign function calls ... OK
* checking R code for possible problems ... NOTE
kebabsDemo: no visible binding for global variable ‘enhancerFB’
kebabsDemo: no visible binding for global variable ‘yFB’
kebabsDemo: no visible binding for global variable ‘ccseq’
kebabsDemo: no visible binding for global variable ‘yCC’
* checking Rd files ... OK
* checking Rd metadata ... OK
* checking Rd cross-references ... OK
* checking for missing documentation entries ... OK
* checking for code/documentation mismatches ... OK
* checking Rd \usage sections ... OK
* checking Rd contents ... OK
* checking for unstated dependencies in examples ... OK
* checking contents of ‘data’ directory ... OK
* checking data for non-ASCII characters ... OK
* checking data for ASCII and uncompressed saves ... OK
* checking line endings in C/C++/Fortran sources/headers ... OK
* checking compiled code ... OK
* checking installed files from ‘inst/doc’ ... OK
* checking files in ‘vignettes’ ... OK
* checking examples ... [34s/34s] OK
Examples with CPU or elapsed time > 5s
                       user system elapsed
performModelSelection 8.514  0.000   8.516
LinearKernel          5.178  0.028   5.215
* checking for unstated dependencies in vignettes ... OK
* checking package vignettes in ‘inst/doc’ ... OK
* checking running R code from vignettes ... SKIPPED
* checking re-building of vignette outputs ... SKIPPED
* checking PDF version of manual ... OK
* DONE
Status: 2 NOTEs
See
  ‘/home/biocbuild/bbs-3.2-bioc/meat/kebabs.Rcheck/00check.log’
for details.
 
* installing *source* package ‘kebabs’ ...
** libs
gcc -std=gnu99 -I/home/biocbuild/bbs-3.2-bioc/R/include -DNDEBUG  -I/usr/local/include -I"/home/biocbuild/bbs-3.2-bioc/R/library/IRanges/include" -I"/home/biocbuild/bbs-3.2-bioc/R/library/XVector/include" -I"/home/biocbuild/bbs-3.2-bioc/R/library/Biostrings/include" -I"/home/biocbuild/bbs-3.2-bioc/R/library/Rcpp/include" -I"/home/biocbuild/bbs-3.2-bioc/R/library/S4Vectors/include"   -fpic  -g -O2  -Wall -c Biostrings_stubs.c -o Biostrings_stubs.o
gcc -std=gnu99 -I/home/biocbuild/bbs-3.2-bioc/R/include -DNDEBUG  -I/usr/local/include -I"/home/biocbuild/bbs-3.2-bioc/R/library/IRanges/include" -I"/home/biocbuild/bbs-3.2-bioc/R/library/XVector/include" -I"/home/biocbuild/bbs-3.2-bioc/R/library/Biostrings/include" -I"/home/biocbuild/bbs-3.2-bioc/R/library/Rcpp/include" -I"/home/biocbuild/bbs-3.2-bioc/R/library/S4Vectors/include"   -fpic  -g -O2  -Wall -c ByteStringVector.c -o ByteStringVector.o
g++ -I/home/biocbuild/bbs-3.2-bioc/R/include -DNDEBUG  -I/usr/local/include -I"/home/biocbuild/bbs-3.2-bioc/R/library/IRanges/include" -I"/home/biocbuild/bbs-3.2-bioc/R/library/XVector/include" -I"/home/biocbuild/bbs-3.2-bioc/R/library/Biostrings/include" -I"/home/biocbuild/bbs-3.2-bioc/R/library/Rcpp/include" -I"/home/biocbuild/bbs-3.2-bioc/R/library/S4Vectors/include"   -fpic  -g -O2  -Wall -c ExplicitRepC.cpp -o ExplicitRepC.o
g++ -I/home/biocbuild/bbs-3.2-bioc/R/include -DNDEBUG  -I/usr/local/include -I"/home/biocbuild/bbs-3.2-bioc/R/library/IRanges/include" -I"/home/biocbuild/bbs-3.2-bioc/R/library/XVector/include" -I"/home/biocbuild/bbs-3.2-bioc/R/library/Biostrings/include" -I"/home/biocbuild/bbs-3.2-bioc/R/library/Rcpp/include" -I"/home/biocbuild/bbs-3.2-bioc/R/library/S4Vectors/include"   -fpic  -g -O2  -Wall -c FeatureWeightsPosDepC.cpp -o FeatureWeightsPosDepC.o
g++ -I/home/biocbuild/bbs-3.2-bioc/R/include -DNDEBUG  -I/usr/local/include -I"/home/biocbuild/bbs-3.2-bioc/R/library/IRanges/include" -I"/home/biocbuild/bbs-3.2-bioc/R/library/XVector/include" -I"/home/biocbuild/bbs-3.2-bioc/R/library/Biostrings/include" -I"/home/biocbuild/bbs-3.2-bioc/R/library/Rcpp/include" -I"/home/biocbuild/bbs-3.2-bioc/R/library/S4Vectors/include"   -fpic  -g -O2  -Wall -c GappyPairC.cpp -o GappyPairC.o
gcc -std=gnu99 -I/home/biocbuild/bbs-3.2-bioc/R/include -DNDEBUG  -I/usr/local/include -I"/home/biocbuild/bbs-3.2-bioc/R/library/IRanges/include" -I"/home/biocbuild/bbs-3.2-bioc/R/library/XVector/include" -I"/home/biocbuild/bbs-3.2-bioc/R/library/Biostrings/include" -I"/home/biocbuild/bbs-3.2-bioc/R/library/Rcpp/include" -I"/home/biocbuild/bbs-3.2-bioc/R/library/S4Vectors/include"   -fpic  -g -O2  -Wall -c IRanges_stubs.c -o IRanges_stubs.o
g++ -I/home/biocbuild/bbs-3.2-bioc/R/include -DNDEBUG  -I/usr/local/include -I"/home/biocbuild/bbs-3.2-bioc/R/library/IRanges/include" -I"/home/biocbuild/bbs-3.2-bioc/R/library/XVector/include" -I"/home/biocbuild/bbs-3.2-bioc/R/library/Biostrings/include" -I"/home/biocbuild/bbs-3.2-bioc/R/library/Rcpp/include" -I"/home/biocbuild/bbs-3.2-bioc/R/library/S4Vectors/include"   -fpic  -g -O2  -Wall -c KernelUtils.cpp -o KernelUtils.o
g++ -I/home/biocbuild/bbs-3.2-bioc/R/include -DNDEBUG  -I/usr/local/include -I"/home/biocbuild/bbs-3.2-bioc/R/library/IRanges/include" -I"/home/biocbuild/bbs-3.2-bioc/R/library/XVector/include" -I"/home/biocbuild/bbs-3.2-bioc/R/library/Biostrings/include" -I"/home/biocbuild/bbs-3.2-bioc/R/library/Rcpp/include" -I"/home/biocbuild/bbs-3.2-bioc/R/library/S4Vectors/include"   -fpic  -g -O2  -Wall -c MismatchC.cpp -o MismatchC.o
g++ -I/home/biocbuild/bbs-3.2-bioc/R/include -DNDEBUG  -I/usr/local/include -I"/home/biocbuild/bbs-3.2-bioc/R/library/IRanges/include" -I"/home/biocbuild/bbs-3.2-bioc/R/library/XVector/include" -I"/home/biocbuild/bbs-3.2-bioc/R/library/Biostrings/include" -I"/home/biocbuild/bbs-3.2-bioc/R/library/Rcpp/include" -I"/home/biocbuild/bbs-3.2-bioc/R/library/S4Vectors/include"   -fpic  -g -O2  -Wall -c MotifC.cpp -o MotifC.o
g++ -I/home/biocbuild/bbs-3.2-bioc/R/include -DNDEBUG  -I/usr/local/include -I"/home/biocbuild/bbs-3.2-bioc/R/library/IRanges/include" -I"/home/biocbuild/bbs-3.2-bioc/R/library/XVector/include" -I"/home/biocbuild/bbs-3.2-bioc/R/library/Biostrings/include" -I"/home/biocbuild/bbs-3.2-bioc/R/library/Rcpp/include" -I"/home/biocbuild/bbs-3.2-bioc/R/library/S4Vectors/include"   -fpic  -g -O2  -Wall -c PredictionC.cpp -o PredictionC.o
g++ -I/home/biocbuild/bbs-3.2-bioc/R/include -DNDEBUG  -I/usr/local/include -I"/home/biocbuild/bbs-3.2-bioc/R/library/IRanges/include" -I"/home/biocbuild/bbs-3.2-bioc/R/library/XVector/include" -I"/home/biocbuild/bbs-3.2-bioc/R/library/Biostrings/include" -I"/home/biocbuild/bbs-3.2-bioc/R/library/Rcpp/include" -I"/home/biocbuild/bbs-3.2-bioc/R/library/S4Vectors/include"   -fpic  -g -O2  -Wall -c PredictionProfileC.cpp -o PredictionProfileC.o
g++ -I/home/biocbuild/bbs-3.2-bioc/R/include -DNDEBUG  -I/usr/local/include -I"/home/biocbuild/bbs-3.2-bioc/R/library/IRanges/include" -I"/home/biocbuild/bbs-3.2-bioc/R/library/XVector/include" -I"/home/biocbuild/bbs-3.2-bioc/R/library/Biostrings/include" -I"/home/biocbuild/bbs-3.2-bioc/R/library/Rcpp/include" -I"/home/biocbuild/bbs-3.2-bioc/R/library/S4Vectors/include"   -fpic  -g -O2  -Wall -c R_init_kebabs.cpp -o R_init_kebabs.o
gcc -std=gnu99 -I/home/biocbuild/bbs-3.2-bioc/R/include -DNDEBUG  -I/usr/local/include -I"/home/biocbuild/bbs-3.2-bioc/R/library/IRanges/include" -I"/home/biocbuild/bbs-3.2-bioc/R/library/XVector/include" -I"/home/biocbuild/bbs-3.2-bioc/R/library/Biostrings/include" -I"/home/biocbuild/bbs-3.2-bioc/R/library/Rcpp/include" -I"/home/biocbuild/bbs-3.2-bioc/R/library/S4Vectors/include"   -fpic  -g -O2  -Wall -c Rsvm.c -o Rsvm.o
g++ -I/home/biocbuild/bbs-3.2-bioc/R/include -DNDEBUG  -I/usr/local/include -I"/home/biocbuild/bbs-3.2-bioc/R/library/IRanges/include" -I"/home/biocbuild/bbs-3.2-bioc/R/library/XVector/include" -I"/home/biocbuild/bbs-3.2-bioc/R/library/Biostrings/include" -I"/home/biocbuild/bbs-3.2-bioc/R/library/Rcpp/include" -I"/home/biocbuild/bbs-3.2-bioc/R/library/S4Vectors/include"   -fpic  -g -O2  -Wall -c SparseMatrixHash.cpp -o SparseMatrixHash.o
g++ -I/home/biocbuild/bbs-3.2-bioc/R/include -DNDEBUG  -I/usr/local/include -I"/home/biocbuild/bbs-3.2-bioc/R/library/IRanges/include" -I"/home/biocbuild/bbs-3.2-bioc/R/library/XVector/include" -I"/home/biocbuild/bbs-3.2-bioc/R/library/Biostrings/include" -I"/home/biocbuild/bbs-3.2-bioc/R/library/Rcpp/include" -I"/home/biocbuild/bbs-3.2-bioc/R/library/S4Vectors/include"   -fpic  -g -O2  -Wall -c SpectrumC.cpp -o SpectrumC.o
g++ -I/home/biocbuild/bbs-3.2-bioc/R/include -DNDEBUG  -I/usr/local/include -I"/home/biocbuild/bbs-3.2-bioc/R/library/IRanges/include" -I"/home/biocbuild/bbs-3.2-bioc/R/library/XVector/include" -I"/home/biocbuild/bbs-3.2-bioc/R/library/Biostrings/include" -I"/home/biocbuild/bbs-3.2-bioc/R/library/Rcpp/include" -I"/home/biocbuild/bbs-3.2-bioc/R/library/S4Vectors/include"   -fpic  -g -O2  -Wall -c SymmetricPairC.cpp -o SymmetricPairC.o
g++ -I/home/biocbuild/bbs-3.2-bioc/R/include -DNDEBUG  -I/usr/local/include -I"/home/biocbuild/bbs-3.2-bioc/R/library/IRanges/include" -I"/home/biocbuild/bbs-3.2-bioc/R/library/XVector/include" -I"/home/biocbuild/bbs-3.2-bioc/R/library/Biostrings/include" -I"/home/biocbuild/bbs-3.2-bioc/R/library/Rcpp/include" -I"/home/biocbuild/bbs-3.2-bioc/R/library/S4Vectors/include"   -fpic  -g -O2  -Wall -c Utils.cpp -o Utils.o
gcc -std=gnu99 -I/home/biocbuild/bbs-3.2-bioc/R/include -DNDEBUG  -I/usr/local/include -I"/home/biocbuild/bbs-3.2-bioc/R/library/IRanges/include" -I"/home/biocbuild/bbs-3.2-bioc/R/library/XVector/include" -I"/home/biocbuild/bbs-3.2-bioc/R/library/Biostrings/include" -I"/home/biocbuild/bbs-3.2-bioc/R/library/Rcpp/include" -I"/home/biocbuild/bbs-3.2-bioc/R/library/S4Vectors/include"   -fpic  -g -O2  -Wall -c XVector_stubs.c -o XVector_stubs.o
g++ -I/home/biocbuild/bbs-3.2-bioc/R/include -DNDEBUG  -I/usr/local/include -I"/home/biocbuild/bbs-3.2-bioc/R/library/IRanges/include" -I"/home/biocbuild/bbs-3.2-bioc/R/library/XVector/include" -I"/home/biocbuild/bbs-3.2-bioc/R/library/Biostrings/include" -I"/home/biocbuild/bbs-3.2-bioc/R/library/Rcpp/include" -I"/home/biocbuild/bbs-3.2-bioc/R/library/S4Vectors/include"   -fpic  -g -O2  -Wall -c svm.cpp -o svm.o
g++ -shared -L/home/biocbuild/bbs-3.2-bioc/R/lib -L/usr/local/lib -o kebabs.so Biostrings_stubs.o ByteStringVector.o ExplicitRepC.o FeatureWeightsPosDepC.o GappyPairC.o IRanges_stubs.o KernelUtils.o MismatchC.o MotifC.o PredictionC.o PredictionProfileC.o R_init_kebabs.o Rsvm.o SparseMatrixHash.o SpectrumC.o SymmetricPairC.o Utils.o XVector_stubs.o svm.o -L/home/biocbuild/bbs-3.2-bioc/R/lib -lR
installing to /home/biocbuild/bbs-3.2-bioc/meat/kebabs.Rcheck/kebabs/libs
** R
** data
** inst
** preparing package for lazy loading
Creating a new generic function for ‘heatmap’ in package ‘kebabs’
** help
*** installing help indices
** building package indices
** installing vignettes
** testing if installed package can be loaded
* DONE (kebabs)