| imageHTS 1.20.0 Joseph Barry
 
 | Snapshot Date: 2016-04-22 16:20:12 -0700 (Fri, 22 Apr 2016) |  | URL: https://hedgehog.fhcrc.org/bioconductor/branches/RELEASE_3_2/madman/Rpacks/imageHTS |  | Last Changed Rev: 109589 / Revision: 116712 |  | Last Changed Date: 2015-10-13 12:36:05 -0700 (Tue, 13 Oct 2015) | 
 | zin1 | Linux (Ubuntu 14.04.2 LTS) / x86_64 | OK | OK | OK |  |  | 
| moscato1 | Windows Server 2008 R2 Standard (64-bit) / x64 | OK | OK | OK | [ OK ] |  | 
| oaxaca | Mac OS X Mavericks (10.9.5) / x86_64 | OK | OK | OK | OK |  | 
##############################################################################
##############################################################################
###
### Running command:
###
###   rm -rf imageHTS.buildbin-libdir && mkdir imageHTS.buildbin-libdir && D:\biocbld\bbs-3.2-bioc\R\bin\R.exe --arch i386 CMD INSTALL --build --no-multiarch --library=imageHTS.buildbin-libdir imageHTS_1.20.0.tar.gz
###
##############################################################################
##############################################################################
* installing *source* package 'imageHTS' ...
** R
** inst
** preparing package for lazy loading
** help
*** installing help indices
** building package indices
** installing vignettes
** testing if installed package can be loaded
* MD5 sums
packaged installation of 'imageHTS' as imageHTS_1.20.0.zip
* DONE (imageHTS)