| flowViz 1.34.1 Mike Jiang
 
 | Snapshot Date: 2016-04-22 16:20:12 -0700 (Fri, 22 Apr 2016) |  | URL: https://hedgehog.fhcrc.org/bioconductor/branches/RELEASE_3_2/madman/Rpacks/flowViz |  | Last Changed Rev: 112881 / Revision: 116712 |  | Last Changed Date: 2016-01-25 13:29:24 -0800 (Mon, 25 Jan 2016) | 
 | zin1 | Linux (Ubuntu 14.04.2 LTS) / x86_64 | OK | OK | OK |  |  | 
| moscato1 | Windows Server 2008 R2 Standard (64-bit) / x64 | OK | OK | OK | [ OK ] |  | 
| oaxaca | Mac OS X Mavericks (10.9.5) / x86_64 | OK | OK | OK | OK |  | 
##############################################################################
##############################################################################
###
### Running command:
###
###   cd flowViz.buildbin-libdir/flowViz && zip -r ../../flowViz_1.34.1.zip . & cd ../..
###
##############################################################################
##############################################################################
  adding: DESCRIPTION (188 bytes security) (deflated 37%)
  adding: doc/ (208 bytes security) (stored 0%)
  adding: doc/filters.html (188 bytes security) (deflated 26%)
  adding: doc/filters.Rmd (188 bytes security) (deflated 65%)
  adding: doc/index.html (188 bytes security) (deflated 56%)
  adding: help/ (208 bytes security) (stored 0%)
  adding: help/aliases.rds (188 bytes security) (stored 0%)
  adding: help/AnIndex (188 bytes security) (deflated 89%)
  adding: help/flowViz.rdb (188 bytes security) (deflated 1%)
  adding: help/flowViz.rdx (188 bytes security) (stored 0%)
  adding: help/paths.rds (188 bytes security) (stored 0%)
  adding: html/ (208 bytes security) (stored 0%)
  adding: html/00Index.html (188 bytes security) (deflated 85%)
  adding: html/R.css (188 bytes security) (deflated 75%)
  adding: INDEX (188 bytes security) (deflated 66%)
  adding: MD5 (188 bytes security) (deflated 41%)
  adding: Meta/ (208 bytes security) (stored 0%)
  adding: Meta/hsearch.rds (188 bytes security) (stored 0%)
  adding: Meta/links.rds (188 bytes security) (stored 0%)
  adding: Meta/nsInfo.rds (188 bytes security) (stored 0%)
  adding: Meta/package.rds (188 bytes security) (stored 0%)
  adding: Meta/Rd.rds (188 bytes security) (stored 0%)
  adding: Meta/vignette.rds (188 bytes security) (stored 0%)
  adding: NAMESPACE (188 bytes security) (deflated 77%)
  adding: NEWS (188 bytes security) (deflated 47%)
  adding: R/ (208 bytes security) (stored 0%)
  adding: R/flowViz (188 bytes security) (deflated 41%)
  adding: R/flowViz.rdb (188 bytes security) (deflated 39%)
  adding: R/flowViz.rdx (188 bytes security) (deflated 0%)