flowMerge 2.18.0 Greg Finak
 | Snapshot Date: 2016-04-22 16:20:12 -0700 (Fri, 22 Apr 2016) |  | URL: https://hedgehog.fhcrc.org/bioconductor/branches/RELEASE_3_2/madman/Rpacks/flowMerge |  | Last Changed Rev: 109589 / Revision: 116712 |  | Last Changed Date: 2015-10-13 12:36:05 -0700 (Tue, 13 Oct 2015) |  
  | zin1  | Linux (Ubuntu 14.04.2 LTS) / x86_64  |  OK  |  OK  |  OK  |  |   | 
| moscato1  | Windows Server 2008 R2 Standard (64-bit) / x64  | [ OK ] |  OK  |  OK  |  OK  |   | 
| oaxaca  | Mac OS X Mavericks (10.9.5) / x86_64  |  OK  |  OK  |  WARNINGS  |  OK  |   | 
##############################################################################
##############################################################################
###
### Running command:
###
###   rm -rf flowMerge.buildbin-libdir && mkdir flowMerge.buildbin-libdir  && C:\cygwin\bin\curl.exe -O http://zin1/BBS/3.2/bioc/src/contrib/flowMerge_2.18.0.tar.gz && D:\biocbld\bbs-3.2-bioc\R\bin\R.exe CMD INSTALL --build --library=flowMerge.buildbin-libdir --merge-multiarch flowMerge_2.18.0.tar.gz && D:\biocbld\bbs-3.2-bioc\R\bin\R.exe CMD INSTALL flowMerge_2.18.0.zip  && rm flowMerge_2.18.0.tar.gz flowMerge_2.18.0.zip
###
##############################################################################
##############################################################################
  % Total    % Received % Xferd  Average Speed   Time    Time     Time  Current
                                 Dload  Upload   Total   Spent    Left  Speed
  0     0    0     0    0     0      0      0 --:--:-- --:--:-- --:--:--     0
100  399k  100  399k    0     0  21.8M      0 --:--:-- --:--:-- --:--:-- 29.9M
install for i386
* installing *source* package 'flowMerge' ...
** R
** data
** preparing package for lazy loading
Creating a generic function for 'merge' from package 'base' in package 'flowMerge'
** help
*** installing help indices
** building package indices
** installing vignettes
** testing if installed package can be loaded
install for x64
* installing *source* package 'flowMerge' ...
** testing if installed package can be loaded
* MD5 sums
packaged installation of 'flowMerge' as flowMerge_2.18.0.zip
* DONE (flowMerge)
* installing to library 'D:/biocbld/bbs-3.2-bioc/R/library'
package 'flowMerge' successfully unpacked and MD5 sums checked