biovizBase 1.18.0 Tengfei Yin
 | Snapshot Date: 2016-04-22 16:20:12 -0700 (Fri, 22 Apr 2016) |  | URL: https://hedgehog.fhcrc.org/bioconductor/branches/RELEASE_3_2/madman/Rpacks/biovizBase |  | Last Changed Rev: 109589 / Revision: 116712 |  | Last Changed Date: 2015-10-13 12:36:05 -0700 (Tue, 13 Oct 2015) |  
  | zin1  | Linux (Ubuntu 14.04.2 LTS) / x86_64  | [ OK ] |  OK  |  OK  |  |   | 
| moscato1  | Windows Server 2008 R2 Standard (64-bit) / x64  |  OK  |  OK  |  OK  |  OK  |   | 
| oaxaca  | Mac OS X Mavericks (10.9.5) / x86_64  |  OK  |  OK  |  OK  |  OK  |   | 
##############################################################################
##############################################################################
###
### Running command:
###
###   /home/biocbuild/bbs-3.2-bioc/R/bin/R CMD INSTALL biovizBase
###
##############################################################################
##############################################################################
* installing to library ‘/home/biocbuild/bbs-3.2-bioc/R/library’
* installing *source* package ‘biovizBase’ ...
** libs
gcc -std=gnu99 -I/home/biocbuild/bbs-3.2-bioc/R/include -DNDEBUG  -I/usr/local/include    -fpic  -g -O2  -Wall -c R_init_biovizBase.c -o R_init_biovizBase.o
gcc -std=gnu99 -I/home/biocbuild/bbs-3.2-bioc/R/include -DNDEBUG  -I/usr/local/include    -fpic  -g -O2  -Wall -c bin_offsets.c -o bin_offsets.o
bin_offsets.c: In function ‘scan_bam_bin_offsets’:
bin_offsets.c:57:3: warning: pointer targets in passing argument 1 of ‘strlen’ differ in signedness [-Wpointer-sign]
   if (strncmp(b, "BAI\1", 4))
   ^
In file included from /home/biocbuild/bbs-3.2-bioc/R/include/R_ext/RS.h:26:0,
                 from /home/biocbuild/bbs-3.2-bioc/R/include/Rdefines.h:26,
                 from bin_offsets.h:1,
                 from bin_offsets.c:3:
/usr/include/string.h:399:15: note: expected ‘const char *’ but argument is of type ‘Rbyte *’
 extern size_t strlen (const char *__s)
               ^
bin_offsets.c:57:3: warning: pointer targets in passing argument 1 of ‘__builtin_strlen’ differ in signedness [-Wpointer-sign]
   if (strncmp(b, "BAI\1", 4))
   ^
bin_offsets.c:57:3: note: expected ‘const char *’ but argument is of type ‘Rbyte *’
bin_offsets.c:57:3: warning: pointer targets in passing argument 1 of ‘__builtin_strcmp’ differ in signedness [-Wpointer-sign]
bin_offsets.c:57:3: note: expected ‘const char *’ but argument is of type ‘Rbyte *’
bin_offsets.c:57:3: warning: pointer targets in passing argument 1 of ‘__builtin_strlen’ differ in signedness [-Wpointer-sign]
bin_offsets.c:57:3: note: expected ‘const char *’ but argument is of type ‘Rbyte *’
bin_offsets.c:57:3: warning: pointer targets in passing argument 1 of ‘__builtin_strcmp’ differ in signedness [-Wpointer-sign]
bin_offsets.c:57:3: note: expected ‘const char *’ but argument is of type ‘Rbyte *’
bin_offsets.c:57:3: warning: pointer targets in passing argument 1 of ‘__builtin_strcmp’ differ in signedness [-Wpointer-sign]
bin_offsets.c:57:3: note: expected ‘const char *’ but argument is of type ‘Rbyte *’
bin_offsets.c:57:3: warning: pointer targets in passing argument 1 of ‘__builtin_strcmp’ differ in signedness [-Wpointer-sign]
bin_offsets.c:57:3: note: expected ‘const char *’ but argument is of type ‘Rbyte *’
bin_offsets.c:57:3: warning: pointer targets in passing argument 1 of ‘strncmp’ differ in signedness [-Wpointer-sign]
In file included from /home/biocbuild/bbs-3.2-bioc/R/include/R_ext/RS.h:26:0,
                 from /home/biocbuild/bbs-3.2-bioc/R/include/Rdefines.h:26,
                 from bin_offsets.h:1,
                 from bin_offsets.c:3:
/usr/include/string.h:147:12: note: expected ‘const char *’ but argument is of type ‘Rbyte *’
 extern int strncmp (const char *__s1, const char *__s2, size_t __n)
            ^
gcc -std=gnu99 -shared -L/home/biocbuild/bbs-3.2-bioc/R/lib -L/usr/local/lib -o biovizBase.so R_init_biovizBase.o bin_offsets.o -L/home/biocbuild/bbs-3.2-bioc/R/lib -lR
installing to /home/biocbuild/bbs-3.2-bioc/R/library/biovizBase/libs
** R
** data
** inst
** preparing package for lazy loading
** help
*** installing help indices
** building package indices
** installing vignettes
** testing if installed package can be loaded
* DONE (biovizBase)