| Streamer 1.16.0 Martin Morgan
 
 | Snapshot Date: 2016-04-22 16:20:12 -0700 (Fri, 22 Apr 2016) |  | URL: https://hedgehog.fhcrc.org/bioconductor/branches/RELEASE_3_2/madman/Rpacks/Streamer |  | Last Changed Rev: 109589 / Revision: 116712 |  | Last Changed Date: 2015-10-13 12:36:05 -0700 (Tue, 13 Oct 2015) | 
 | zin1 | Linux (Ubuntu 14.04.2 LTS) / x86_64 | OK | OK | TIMEOUT |  |  | 
| moscato1 | Windows Server 2008 R2 Standard (64-bit) / x64 | OK | OK | WARNINGS | [ OK ] |  | 
| oaxaca | Mac OS X Mavericks (10.9.5) / x86_64 | OK | OK | WARNINGS | OK |  | 
##############################################################################
##############################################################################
###
### Running command:
###
###   cd Streamer.buildbin-libdir/Streamer && zip -r ../../Streamer_1.16.0.zip . & cd ../..
###
##############################################################################
##############################################################################
  adding: DESCRIPTION (188 bytes security) (deflated 47%)
  adding: doc/ (208 bytes security) (stored 0%)
  adding: doc/index.html (188 bytes security) (deflated 58%)
  adding: doc/Streamer.pdf (188 bytes security) (deflated 7%)
  adding: doc/Streamer.R (188 bytes security) (deflated 70%)
  adding: doc/Streamer.Rnw (188 bytes security) (deflated 66%)
  adding: extdata/ (208 bytes security) (stored 0%)
  adding: extdata/NetCDFData.nc (188 bytes security) (deflated 60%)
  adding: extdata/s_1_sequence.txt (188 bytes security) (deflated 72%)
  adding: help/ (208 bytes security) (stored 0%)
  adding: help/aliases.rds (188 bytes security) (stored 0%)
  adding: help/AnIndex (188 bytes security) (deflated 81%)
  adding: help/paths.rds (188 bytes security) (stored 0%)
  adding: help/Streamer.rdb (188 bytes security) (deflated 1%)
  adding: help/Streamer.rdx (188 bytes security) (stored 0%)
  adding: html/ (208 bytes security) (stored 0%)
  adding: html/00Index.html (188 bytes security) (deflated 88%)
  adding: html/R.css (188 bytes security) (deflated 75%)
  adding: INDEX (188 bytes security) (deflated 66%)
  adding: libs/ (208 bytes security) (stored 0%)
  adding: libs/i386/ (208 bytes security) (stored 0%)
  adding: libs/i386/Streamer.dll (188 bytes security) (deflated 58%)
  adding: libs/x64/ (208 bytes security) (stored 0%)
  adding: libs/x64/Streamer.dll (188 bytes security) (deflated 58%)
  adding: MD5 (188 bytes security) (deflated 46%)
  adding: Meta/ (208 bytes security) (stored 0%)
  adding: Meta/hsearch.rds (188 bytes security) (stored 0%)
  adding: Meta/links.rds (188 bytes security) (stored 0%)
  adding: Meta/nsInfo.rds (188 bytes security) (stored 0%)
  adding: Meta/package.rds (188 bytes security) (stored 0%)
  adding: Meta/Rd.rds (188 bytes security) (stored 0%)
  adding: Meta/vignette.rds (188 bytes security) (stored 0%)
  adding: NAMESPACE (188 bytes security) (deflated 55%)
  adding: R/ (208 bytes security) (stored 0%)
  adding: R/Streamer (188 bytes security) (deflated 41%)
  adding: R/Streamer.rdb (188 bytes security) (deflated 9%)
  adding: R/Streamer.rdx (188 bytes security) (stored 0%)
  adding: README-ncdf4.txt (188 bytes security) (deflated 52%)
  adding: scripts/ (208 bytes security) (stored 0%)
  adding: scripts/NetCDFFile.R (188 bytes security) (deflated 63%)
  adding: scripts/NetCDFInput.R (188 bytes security) (deflated 69%)
  adding: scripts/testParallel.R (188 bytes security) (deflated 63%)
  adding: unitTests/ (208 bytes security) (stored 0%)
  adding: unitTests/test_ConnectionProducer.R (188 bytes security) (deflated 65%)
  adding: unitTests/test_DAGTeam.R (188 bytes security) (deflated 60%)
  adding: unitTests/test_Producer.R (188 bytes security) (deflated 59%)
  adding: unitTests/test_RawInput.R (188 bytes security) (deflated 82%)
  adding: unitTests/test_Reducer.R (188 bytes security) (deflated 73%)
  adding: unitTests/test_RevStream.R (188 bytes security) (deflated 24%)
  adding: unitTests/test_Stream.R (188 bytes security) (deflated 65%)
  adding: unitTests/test_Streamer.R (188 bytes security) (deflated 64%)
  adding: unitTests/test_Team.R (188 bytes security) (deflated 58%)