| Starr 1.26.0 Benedikt Zacher
 
 | Snapshot Date: 2016-04-22 16:20:12 -0700 (Fri, 22 Apr 2016) |  | URL: https://hedgehog.fhcrc.org/bioconductor/branches/RELEASE_3_2/madman/Rpacks/Starr |  | Last Changed Rev: 109589 / Revision: 116712 |  | Last Changed Date: 2015-10-13 12:36:05 -0700 (Tue, 13 Oct 2015) | 
 | zin1 | Linux (Ubuntu 14.04.2 LTS) / x86_64 | OK | OK | OK |  |  | 
| moscato1 | Windows Server 2008 R2 Standard (64-bit) / x64 | OK | OK | WARNINGS | OK |  | 
| oaxaca | Mac OS X Mavericks (10.9.5) / x86_64 | OK | OK | OK | [ OK ] |  | 
##############################################################################
##############################################################################
###
### Running command:
###
###   rm -rf Starr.buildbin-libdir && mkdir Starr.buildbin-libdir && /Users/biocbuild/BBS/utils/build-universal.sh Starr_1.26.0.tar.gz /Library/Frameworks/R.framework/Versions/Current/Resources/bin/R Starr.buildbin-libdir
###
##############################################################################
##############################################################################
>>>>>>> 
>>>>>>> INSTALLATION WITH 'R CMD INSTALL --preclean --no-multiarch --library=Starr.buildbin-libdir Starr_1.26.0.tar.gz'
>>>>>>> 
* installing *source* package ‘Starr’ ...
creating cache ./config.cache
checking how to run the C preprocessor... cc -E
checking for main in -lz... yes
checking for zlib.h... yes
checking if zlib version >= 1.1.3... yes
updating cache ./config.cache
creating ./config.status
creating src/Makevars
** libs
clang -I/Library/Frameworks/R.framework/Resources/include -DNDEBUG -DHAVE_ZLIB=1  -I/usr/local/include -I/usr/local/include/freetype2 -I/opt/X11/include    -fPIC  -Wall -mtune=core2 -g -O2  -c ahocorasick.c -o ahocorasick.o
ahocorasick.c:8:1: warning: unused function 'kseq_rewind' [-Wunused-function]
KSEQ_INIT(gzFile, gzread)
^
./kseq.h:220:2: note: expanded from macro 'KSEQ_INIT'
        __KSEQ_BASIC(type_t)                                            \
        ^
./kseq.h:152:21: note: expanded from macro '__KSEQ_BASIC'
        static inline void kseq_rewind(kseq_t *ks)                                                      \
                           ^
1 warning generated.
clang -I/Library/Frameworks/R.framework/Resources/include -DNDEBUG -DHAVE_ZLIB=1  -I/usr/local/include -I/usr/local/include/freetype2 -I/opt/X11/include    -fPIC  -Wall -mtune=core2 -g -O2  -c collect.c -o collect.o
clang -I/Library/Frameworks/R.framework/Resources/include -DNDEBUG -DHAVE_ZLIB=1  -I/usr/local/include -I/usr/local/include/freetype2 -I/opt/X11/include    -fPIC  -Wall -mtune=core2 -g -O2  -c rm_small_peak.c -o rm_small_peak.o
clang -I/Library/Frameworks/R.framework/Resources/include -DNDEBUG -DHAVE_ZLIB=1  -I/usr/local/include -I/usr/local/include/freetype2 -I/opt/X11/include    -fPIC  -Wall -mtune=core2 -g -O2  -c sort_by_genomic.c -o sort_by_genomic.o
clang -dynamiclib -Wl,-headerpad_max_install_names -undefined dynamic_lookup -single_module -multiply_defined suppress -L/Library/Frameworks/R.framework/Resources/lib -L/usr/local/lib -o Starr.so ahocorasick.o collect.o rm_small_peak.o sort_by_genomic.o -lz -F/Library/Frameworks/R.framework/.. -framework R -Wl,-framework -Wl,CoreFoundation
installing to /Users/biocbuild/bbs-3.2-bioc/meat/Starr.buildbin-libdir/Starr/libs
** R
** inst
** preparing package for lazy loading
** help
*** installing help indices
** building package indices
** installing vignettes
** testing if installed package can be loaded
* DONE (Starr)
>>>>>>> 
>>>>>>> FIXING LINKS FOR Starr.buildbin-libdir/Starr/libs//Starr.so
>>>>>>> 
install_name_tool -change "/usr/local/lib/libgcc_s.1.dylib" "/Library/Frameworks/R.framework/Versions/3.2/Resources/lib/libgcc_s.1.dylib" "Starr.buildbin-libdir/Starr/libs//Starr.so"
install_name_tool -change "/usr/local/lib/libgfortran.3.dylib" "/Library/Frameworks/R.framework/Versions/3.2/Resources/lib/libgfortran.3.dylib" "Starr.buildbin-libdir/Starr/libs//Starr.so"
install_name_tool -change "/usr/local/lib/libreadline.5.2.dylib" "/Library/Frameworks/R.framework/Versions/3.2/Resources/lib/libreadline.5.2.dylib" "Starr.buildbin-libdir/Starr/libs//Starr.so"
install_name_tool -change "/usr/local/lib/libreadline.dylib" "/Library/Frameworks/R.framework/Versions/3.2/Resources/lib/libreadline.dylib" "Starr.buildbin-libdir/Starr/libs//Starr.so"
install_name_tool -change "/usr/local/lib/libquadmath.0.dylib" "/Library/Frameworks/R.framework/Versions/3.2/Resources/lib/libquadmath.0.dylib" "Starr.buildbin-libdir/Starr/libs//Starr.so"