| SomaticSignatures 2.6.1 Julian Gehring
 
 | Snapshot Date: 2016-04-22 16:20:12 -0700 (Fri, 22 Apr 2016) |  | URL: https://hedgehog.fhcrc.org/bioconductor/branches/RELEASE_3_2/madman/Rpacks/SomaticSignatures |  | Last Changed Rev: 116064 / Revision: 116712 |  | Last Changed Date: 2016-04-10 02:13:40 -0700 (Sun, 10 Apr 2016) | 
 | zin1 | Linux (Ubuntu 14.04.2 LTS) / x86_64 | OK | OK | OK |  |  | 
| moscato1 | Windows Server 2008 R2 Standard (64-bit) / x64 | [ OK ] | OK | OK | OK |  | 
| oaxaca | Mac OS X Mavericks (10.9.5) / x86_64 | OK | OK | OK | OK |  | 
##############################################################################
##############################################################################
###
### Running command:
###
###   rm -rf SomaticSignatures.buildbin-libdir && mkdir SomaticSignatures.buildbin-libdir  && C:\cygwin\bin\curl.exe -O http://zin1/BBS/3.2/bioc/src/contrib/SomaticSignatures_2.6.1.tar.gz && D:\biocbld\bbs-3.2-bioc\R\bin\R.exe CMD INSTALL --build --library=SomaticSignatures.buildbin-libdir --merge-multiarch SomaticSignatures_2.6.1.tar.gz && D:\biocbld\bbs-3.2-bioc\R\bin\R.exe CMD INSTALL SomaticSignatures_2.6.1.zip  && rm SomaticSignatures_2.6.1.tar.gz SomaticSignatures_2.6.1.zip
###
##############################################################################
##############################################################################
  % Total    % Received % Xferd  Average Speed   Time    Time     Time  Current
                                 Dload  Upload   Total   Spent    Left  Speed
  0     0    0     0    0     0      0      0 --:--:-- --:--:-- --:--:--     0
100  104k  100  104k    0     0  9069k      0 --:--:-- --:--:-- --:--:-- 12.7M
install for i386
* installing *source* package 'SomaticSignatures' ...
** R
** data
** inst
** byte-compile and prepare package for lazy loading
Warning: replacing previous import 'ggplot2::Position' by 'BiocGenerics::Position' when loading 'ggbio'
** help
*** installing help indices
** building package indices
** installing vignettes
   'SomaticSignatures-vignette.Rhtml' 
** testing if installed package can be loaded
Warning: replacing previous import 'ggplot2::Position' by 'BiocGenerics::Position' when loading 'ggbio'
install for x64
* installing *source* package 'SomaticSignatures' ...
** testing if installed package can be loaded
Warning: replacing previous import 'ggplot2::Position' by 'BiocGenerics::Position' when loading 'ggbio'
* MD5 sums
packaged installation of 'SomaticSignatures' as SomaticSignatures_2.6.1.zip
* DONE (SomaticSignatures)
* installing to library 'D:/biocbld/bbs-3.2-bioc/R/library'
package 'SomaticSignatures' successfully unpacked and MD5 sums checked