Back to the "Multiple platform build/check report" | A B C D E F G H I J K L [M] N O P Q R S T U V W X Y Z |
This page was generated on 2016-04-23 10:22:55 -0700 (Sat, 23 Apr 2016).
Package 658/1103 | Hostname | OS / Arch | INSTALL | BUILD | CHECK | BUILD BIN | |||||
MLInterfaces 1.50.0 V. Carey
| zin1 | Linux (Ubuntu 14.04.2 LTS) / x86_64 | OK | OK | OK | ![]() | |||||
moscato1 | Windows Server 2008 R2 Standard (64-bit) / x64 | OK | OK | OK | OK | ![]() | |||||
oaxaca | Mac OS X Mavericks (10.9.5) / x86_64 | OK | [ OK ] | WARNINGS | OK | ![]() |
Package: MLInterfaces |
Version: 1.50.0 |
Command: /Library/Frameworks/R.framework/Versions/Current/Resources/bin/R CMD build --keep-empty-dirs --no-resave-data MLInterfaces |
StartedAt: 2016-04-22 17:35:39 -0700 (Fri, 22 Apr 2016) |
EndedAt: 2016-04-22 17:36:35 -0700 (Fri, 22 Apr 2016) |
EllapsedTime: 55.7 seconds |
RetCode: 0 |
Status: OK |
PackageFile: MLInterfaces_1.50.0.tar.gz |
PackageFileSize: 1.072 MiB |
############################################################################## ############################################################################## ### ### Running command: ### ### /Library/Frameworks/R.framework/Versions/Current/Resources/bin/R CMD build --keep-empty-dirs --no-resave-data MLInterfaces ### ############################################################################## ############################################################################## * checking for file ‘MLInterfaces/DESCRIPTION’ ... OK * preparing ‘MLInterfaces’: * checking DESCRIPTION meta-information ... OK * installing the package to build vignettes * creating vignettes ... OK * checking for LF line-endings in source and make files * checking for empty or unneeded directories * building ‘MLInterfaces_1.50.0.tar.gz’