| GenomicFeatures 1.22.13 Bioconductor Package Maintainer
 
 | Snapshot Date: 2016-04-22 16:20:12 -0700 (Fri, 22 Apr 2016) |  | URL: https://hedgehog.fhcrc.org/bioconductor/branches/RELEASE_3_2/madman/Rpacks/GenomicFeatures |  | Last Changed Rev: 113512 / Revision: 116712 |  | Last Changed Date: 2016-02-10 14:25:37 -0800 (Wed, 10 Feb 2016) | 
 | zin1 | Linux (Ubuntu 14.04.2 LTS) / x86_64 | OK | OK | OK |  |  | 
| moscato1 | Windows Server 2008 R2 Standard (64-bit) / x64 | [ OK ] | OK | TIMEOUT | OK |  | 
| oaxaca | Mac OS X Mavericks (10.9.5) / x86_64 | OK | OK | OK | OK |  | 
##############################################################################
##############################################################################
###
### Running command:
###
###   rm -rf GenomicFeatures.buildbin-libdir && mkdir GenomicFeatures.buildbin-libdir  && C:\cygwin\bin\curl.exe -O http://zin1/BBS/3.2/bioc/src/contrib/GenomicFeatures_1.22.13.tar.gz && D:\biocbld\bbs-3.2-bioc\R\bin\R.exe CMD INSTALL --build --library=GenomicFeatures.buildbin-libdir --merge-multiarch GenomicFeatures_1.22.13.tar.gz && D:\biocbld\bbs-3.2-bioc\R\bin\R.exe CMD INSTALL GenomicFeatures_1.22.13.zip  && rm GenomicFeatures_1.22.13.tar.gz GenomicFeatures_1.22.13.zip
###
##############################################################################
##############################################################################
  % Total    % Received % Xferd  Average Speed   Time    Time     Time  Current
                                 Dload  Upload   Total   Spent    Left  Speed
  0     0    0     0    0     0      0      0 --:--:-- --:--:-- --:--:--     0
100  637k  100  637k    0     0  34.4M      0 --:--:-- --:--:-- --:--:-- 41.5M
install for i386
* installing *source* package 'GenomicFeatures' ...
** R
** inst
** preparing package for lazy loading
** help
*** installing help indices
** building package indices
** installing vignettes
** testing if installed package can be loaded
install for x64
* installing *source* package 'GenomicFeatures' ...
** testing if installed package can be loaded
* MD5 sums
packaged installation of 'GenomicFeatures' as GenomicFeatures_1.22.13.zip
* DONE (GenomicFeatures)
* installing to library 'D:/biocbld/bbs-3.2-bioc/R/library'
package 'GenomicFeatures' successfully unpacked and MD5 sums checked