| GSEABase 1.32.0 Bioconductor Package Maintainer
 
 | Snapshot Date: 2016-04-22 16:20:12 -0700 (Fri, 22 Apr 2016) |  | URL: https://hedgehog.fhcrc.org/bioconductor/branches/RELEASE_3_2/madman/Rpacks/GSEABase |  | Last Changed Rev: 109589 / Revision: 116712 |  | Last Changed Date: 2015-10-13 12:36:05 -0700 (Tue, 13 Oct 2015) | 
 | zin1 | Linux (Ubuntu 14.04.2 LTS) / x86_64 | OK | OK | OK |  |  | 
| moscato1 | Windows Server 2008 R2 Standard (64-bit) / x64 | OK | OK | OK | [ OK ] |  | 
| oaxaca | Mac OS X Mavericks (10.9.5) / x86_64 | OK | OK | OK | OK |  | 
##############################################################################
##############################################################################
###
### Running command:
###
###   cd GSEABase.buildbin-libdir/GSEABase && zip -r ../../GSEABase_1.32.0.zip . & cd ../..
###
##############################################################################
##############################################################################
  adding: DESCRIPTION (188 bytes security) (deflated 45%)
  adding: doc/ (208 bytes security) (stored 0%)
  adding: doc/GSEABase.pdf (188 bytes security) (deflated 8%)
  adding: doc/GSEABase.R (188 bytes security) (deflated 77%)
  adding: doc/GSEABase.Rnw (188 bytes security) (deflated 63%)
  adding: doc/index.html (188 bytes security) (deflated 58%)
  adding: extdata/ (208 bytes security) (stored 0%)
  adding: extdata/Broad.xml (188 bytes security) (deflated 62%)
  adding: extdata/Broad1.xml (188 bytes security) (deflated 64%)
  adding: extdata/goslim_plant.obo (188 bytes security) (deflated 78%)
  adding: help/ (208 bytes security) (stored 0%)
  adding: help/aliases.rds (188 bytes security) (stored 0%)
  adding: help/AnIndex (188 bytes security) (deflated 89%)
  adding: help/GSEABase.rdb (188 bytes security) (deflated 1%)
  adding: help/GSEABase.rdx (188 bytes security) (stored 0%)
  adding: help/paths.rds (188 bytes security) (stored 0%)
  adding: html/ (208 bytes security) (stored 0%)
  adding: html/00Index.html (188 bytes security) (deflated 92%)
  adding: html/R.css (188 bytes security) (deflated 75%)
  adding: INDEX (188 bytes security) (deflated 71%)
  adding: MD5 (188 bytes security) (deflated 45%)
  adding: Meta/ (208 bytes security) (stored 0%)
  adding: Meta/hsearch.rds (188 bytes security) (stored 0%)
  adding: Meta/links.rds (188 bytes security) (stored 0%)
  adding: Meta/nsInfo.rds (188 bytes security) (stored 0%)
  adding: Meta/package.rds (188 bytes security) (stored 0%)
  adding: Meta/Rd.rds (188 bytes security) (stored 0%)
  adding: Meta/vignette.rds (188 bytes security) (stored 0%)
  adding: NAMESPACE (188 bytes security) (deflated 71%)
  adding: NEWS (188 bytes security) (deflated 61%)
  adding: R/ (208 bytes security) (stored 0%)
  adding: R/GSEABase (188 bytes security) (deflated 41%)
  adding: R/GSEABase.rdb (188 bytes security) (deflated 35%)
  adding: R/GSEABase.rdx (188 bytes security) (deflated 5%)
  adding: unitTests/ (208 bytes security) (stored 0%)
  adding: unitTests/test_CollectionType.R (188 bytes security) (deflated 77%)
  adding: unitTests/test_ExpressionSet.R (188 bytes security) (deflated 49%)
  adding: unitTests/test_GeneColorSet.R (188 bytes security) (deflated 82%)
  adding: unitTests/test_GeneIdentifierType.R (188 bytes security) (deflated 78%)
  adding: unitTests/test_GeneSet.R (188 bytes security) (deflated 78%)
  adding: unitTests/test_GeneSetCollection.R (188 bytes security) (deflated 79%)
  adding: unitTests/test_getGeneSets.R (188 bytes security) (deflated 63%)
  adding: unitTests/test_OBOCollection.R (188 bytes security) (deflated 72%)