| DirichletMultinomial 1.12.1 Martin Morgan
 
 | Snapshot Date: 2016-04-22 16:20:12 -0700 (Fri, 22 Apr 2016) |  | URL: https://hedgehog.fhcrc.org/bioconductor/branches/RELEASE_3_2/madman/Rpacks/DirichletMultinomial |  | Last Changed Rev: 111812 / Revision: 116712 |  | Last Changed Date: 2015-12-21 18:23:18 -0800 (Mon, 21 Dec 2015) | 
 | zin1 | Linux (Ubuntu 14.04.2 LTS) / x86_64 | OK | OK | OK |  |  | 
| moscato1 | Windows Server 2008 R2 Standard (64-bit) / x64 | [ OK ] | OK | OK | OK |  | 
| oaxaca | Mac OS X Mavericks (10.9.5) / x86_64 | OK | OK | OK | OK |  | 
##############################################################################
##############################################################################
###
### Running command:
###
###   rm -rf DirichletMultinomial.buildbin-libdir && mkdir DirichletMultinomial.buildbin-libdir  && C:\cygwin\bin\curl.exe -O http://zin1/BBS/3.2/bioc/src/contrib/DirichletMultinomial_1.12.1.tar.gz && D:\biocbld\bbs-3.2-bioc\R\bin\R.exe CMD INSTALL --build --library=DirichletMultinomial.buildbin-libdir --merge-multiarch DirichletMultinomial_1.12.1.tar.gz && D:\biocbld\bbs-3.2-bioc\R\bin\R.exe CMD INSTALL DirichletMultinomial_1.12.1.zip  && rm DirichletMultinomial_1.12.1.tar.gz DirichletMultinomial_1.12.1.zip
###
##############################################################################
##############################################################################
  % Total    % Received % Xferd  Average Speed   Time    Time     Time  Current
                                 Dload  Upload   Total   Spent    Left  Speed
  0     0    0     0    0     0      0      0 --:--:-- --:--:-- --:--:--     0
100  197k  100  197k    0     0  10.0M      0 --:--:-- --:--:-- --:--:-- 13.7M
install for i386
* installing *source* package 'DirichletMultinomial' ...
** libs
gcc -m32 -I"D:/biocbld/BBS-3˜1.2-B/R/include" -DNDEBUG -I/src/include -IC:/GSL/i386/include    -I"d:/RCompile/r-compiling/local/local323/include"     -O3 -Wall  -std=gnu99 -mtune=core2 -c R_init_DirichletMultinomial.c -o R_init_DirichletMultinomial.o
gcc -m32 -I"D:/biocbld/BBS-3˜1.2-B/R/include" -DNDEBUG -I/src/include -IC:/GSL/i386/include    -I"d:/RCompile/r-compiling/local/local323/include"     -O3 -Wall  -std=gnu99 -mtune=core2 -c dirichlet_fit.c -o dirichlet_fit.o
gcc -m32 -I"D:/biocbld/BBS-3˜1.2-B/R/include" -DNDEBUG -I/src/include -IC:/GSL/i386/include    -I"d:/RCompile/r-compiling/local/local323/include"     -O3 -Wall  -std=gnu99 -mtune=core2 -c dirichlet_fit_main.c -o dirichlet_fit_main.o
dirichlet_fit_main.c: In function 'dirichlet_fit_main':
dirichlet_fit_main.c:542:17: warning: variable 'status' set but not used [-Wunused-but-set-variable]
gcc -m32 -shared -s -static-libgcc -o DirichletMultinomial.dll tmp.def R_init_DirichletMultinomial.o dirichlet_fit.o dirichlet_fit_main.o -LC:/GSL/i386/lib -lgsl -lgslcblas -lm -Ld:/RCompile/r-compiling/local/local323/lib/i386 -Ld:/RCompile/r-compiling/local/local323/lib -LD:/biocbld/BBS-3˜1.2-B/R/bin/i386 -lR
installing to D:/biocbld/bbs-3.2-bioc/meat/DirichletMultinomial.buildbin-libdir/DirichletMultinomial/libs/i386
** R
** data
** inst
** preparing package for lazy loading
** help
*** installing help indices
** building package indices
** installing vignettes
** testing if installed package can be loaded
install for x64
* installing *source* package 'DirichletMultinomial' ...
** libs
gcc -m64 -I"D:/biocbld/BBS-3˜1.2-B/R/include" -DNDEBUG -I/src/include -IC:/GSL/x64/include    -I"d:/RCompile/r-compiling/local/local323/include"     -O2 -Wall  -std=gnu99 -mtune=core2 -c R_init_DirichletMultinomial.c -o R_init_DirichletMultinomial.o
gcc -m64 -I"D:/biocbld/BBS-3˜1.2-B/R/include" -DNDEBUG -I/src/include -IC:/GSL/x64/include    -I"d:/RCompile/r-compiling/local/local323/include"     -O2 -Wall  -std=gnu99 -mtune=core2 -c dirichlet_fit.c -o dirichlet_fit.o
gcc -m64 -I"D:/biocbld/BBS-3˜1.2-B/R/include" -DNDEBUG -I/src/include -IC:/GSL/x64/include    -I"d:/RCompile/r-compiling/local/local323/include"     -O2 -Wall  -std=gnu99 -mtune=core2 -c dirichlet_fit_main.c -o dirichlet_fit_main.o
dirichlet_fit_main.c: In function 'dirichlet_fit_main':
dirichlet_fit_main.c:542:17: warning: variable 'status' set but not used [-Wunused-but-set-variable]
gcc -m64 -shared -s -static-libgcc -o DirichletMultinomial.dll tmp.def R_init_DirichletMultinomial.o dirichlet_fit.o dirichlet_fit_main.o -LC:/GSL/x64/lib -lgsl -lgslcblas -lm -Ld:/RCompile/r-compiling/local/local323/lib/x64 -Ld:/RCompile/r-compiling/local/local323/lib -LD:/biocbld/BBS-3˜1.2-B/R/bin/x64 -lR
installing to D:/biocbld/bbs-3.2-bioc/meat/DirichletMultinomial.buildbin-libdir/DirichletMultinomial/libs/x64
** testing if installed package can be loaded
* MD5 sums
packaged installation of 'DirichletMultinomial' as DirichletMultinomial_1.12.1.zip
* DONE (DirichletMultinomial)
* installing to library 'D:/biocbld/bbs-3.2-bioc/R/library'
package 'DirichletMultinomial' successfully unpacked and MD5 sums checked