CGHcall 2.32.0 Mark van de Wiel
 | Snapshot Date: 2016-04-22 16:20:12 -0700 (Fri, 22 Apr 2016) |  | URL: https://hedgehog.fhcrc.org/bioconductor/branches/RELEASE_3_2/madman/Rpacks/CGHcall |  | Last Changed Rev: 109589 / Revision: 116712 |  | Last Changed Date: 2015-10-13 12:36:05 -0700 (Tue, 13 Oct 2015) |  
  | zin1  | Linux (Ubuntu 14.04.2 LTS) / x86_64  |  OK  |  OK  |  OK  |  |   | 
| moscato1  | Windows Server 2008 R2 Standard (64-bit) / x64  | [ OK ] |  OK  |  OK  |  OK  |   | 
| oaxaca  | Mac OS X Mavericks (10.9.5) / x86_64  |  OK  |  OK  |  OK  |  OK  |   | 
##############################################################################
##############################################################################
###
### Running command:
###
###   rm -rf CGHcall.buildbin-libdir && mkdir CGHcall.buildbin-libdir  && C:\cygwin\bin\curl.exe -O http://zin1/BBS/3.2/bioc/src/contrib/CGHcall_2.32.0.tar.gz && D:\biocbld\bbs-3.2-bioc\R\bin\R.exe CMD INSTALL --build --library=CGHcall.buildbin-libdir --merge-multiarch CGHcall_2.32.0.tar.gz && D:\biocbld\bbs-3.2-bioc\R\bin\R.exe CMD INSTALL CGHcall_2.32.0.zip  && rm CGHcall_2.32.0.tar.gz CGHcall_2.32.0.zip
###
##############################################################################
##############################################################################
  % Total    % Received % Xferd  Average Speed   Time    Time     Time  Current
                                 Dload  Upload   Total   Spent    Left  Speed
  0     0    0     0    0     0      0      0 --:--:-- --:--:-- --:--:--     0
  3  365k    3 12898    0     0   707k      0 --:--:-- --:--:-- --:--:--  899k
100  365k  100  365k    0     0  17.0M      0 --:--:-- --:--:-- --:--:-- 20.9M
install for i386
* installing *source* package 'CGHcall' ...
** R
** data
** preparing package for lazy loading
** help
*** installing help indices
** building package indices
** installing vignettes
** testing if installed package can be loaded
install for x64
* installing *source* package 'CGHcall' ...
** testing if installed package can be loaded
* MD5 sums
packaged installation of 'CGHcall' as CGHcall_2.32.0.zip
* DONE (CGHcall)
* installing to library 'D:/biocbld/bbs-3.2-bioc/R/library'
package 'CGHcall' successfully unpacked and MD5 sums checked