Back to the "Multiple platform build/check report" A  B  C  D  E  F  G  H  I  J  K  L  M  N  O  P  Q  R [S] T  U  V  W  X  Y  Z 

BioC 3.2: BUILD report for sva on moscato1

This page was generated on 2015-08-20 13:20:31 -0700 (Thu, 20 Aug 2015).

Package 1000/1069HostnameOS / ArchINSTALLBUILDCHECKBUILD BIN
sva 3.16.0
Jeffrey T. Leek , John D. Storey , W. Evan Johnson
Snapshot Date: 2015-08-19 16:24:33 -0700 (Wed, 19 Aug 2015)
URL: https://hedgehog.fhcrc.org/bioconductor/trunk/madman/Rpacks/sva
Last Changed Rev: 107119 / Revision: 107602
Last Changed Date: 2015-08-04 10:35:05 -0700 (Tue, 04 Aug 2015)
zin1 Linux (Ubuntu 14.04.2 LTS) / x86_64  OK  OK  WARNINGS UNNEEDED, same version exists in internal repository
moscato1 Windows Server 2008 R2 Enterprise SP1 (64-bit) / x64  OK [ OK ] WARNINGS  OK UNNEEDED, same version exists in internal repository
perceval Mac OS X Snow Leopard (10.6.8) / x86_64  OK  OK  WARNINGS  OK UNNEEDED, same version exists in internal repository
oaxaca Mac OS X Mavericks (10.9.5) / x86_64  OK  OK  WARNINGS  OK UNNEEDED, same version exists in internal repository

Summary

Package: sva
Version: 3.16.0
Command: chmod a+r sva -R && D:\biocbld\bbs-3.2-bioc\R\bin\R.exe CMD build --keep-empty-dirs --no-resave-data sva
StartedAt: 2015-08-19 21:25:22 -0700 (Wed, 19 Aug 2015)
EndedAt: 2015-08-19 21:26:47 -0700 (Wed, 19 Aug 2015)
EllapsedTime: 84.2 seconds
RetCode: 0
Status:  OK  
PackageFile: sva_3.16.0.tar.gz
PackageFileSize: 193.5 KiB

Command output

##############################################################################
##############################################################################
###
### Running command:
###
###   chmod a+r sva -R && D:\biocbld\bbs-3.2-bioc\R\bin\R.exe CMD build --keep-empty-dirs --no-resave-data sva
###
##############################################################################
##############################################################################


* checking for file 'sva/DESCRIPTION' ... OK
* preparing 'sva':
* checking DESCRIPTION meta-information ... OK
* cleaning src
* installing the package to build vignettes
* creating vignettes ... OK
* cleaning src
* checking for LF line-endings in source and make files
* checking for empty or unneeded directories
* building 'sva_3.16.0.tar.gz'