Back to the "Multiple platform build/check report" A  B  C  D  E  F  G  H  I  J  K  L  M  N  O  P [Q] R  S  T  U  V  W  X  Y  Z 

BioC 3.2: CHECK report for qpgraph on perceval

This page was generated on 2015-10-27 17:33:53 -0400 (Tue, 27 Oct 2015).

Package 822/1104HostnameOS / ArchINSTALLBUILDCHECKBUILD BIN
qpgraph 2.4.0
Robert Castelo
Snapshot Date: 2015-10-26 19:24:07 -0400 (Mon, 26 Oct 2015)
URL: https://hedgehog.fhcrc.org/bioconductor/branches/RELEASE_3_2/madman/Rpacks/qpgraph
Last Changed Rev: 109589 / Revision: 109947
Last Changed Date: 2015-10-13 15:36:05 -0400 (Tue, 13 Oct 2015)
linux1.bioconductor.org Linux (Ubuntu 14.04.2 LTS) / x86_64  OK  OK  OK UNNEEDED, same version exists in internal repository
windows1.bioconductor.org Windows Server 2012 R2 Enterprise SP1 (64-bit) / x64  OK  OK  OK  OK UNNEEDED, same version exists in internal repository
perceval Mac OS X Snow Leopard (10.6.8) / x86_64  OK  OK [ OK ] OK UNNEEDED, same version exists in internal repository
oaxaca Mac OS X Mavericks (10.9.5) / x86_64  OK  OK  OK  OK UNNEEDED, same version exists in internal repository

Summary

Package: qpgraph
Version: 2.4.0
Command: /Library/Frameworks/R.framework/Versions/Current/Resources/bin/R CMD check --no-vignettes --timings qpgraph_2.4.0.tar.gz
StartedAt: 2015-10-27 11:18:00 -0400 (Tue, 27 Oct 2015)
EndedAt: 2015-10-27 11:23:20 -0400 (Tue, 27 Oct 2015)
EllapsedTime: 319.7 seconds
RetCode: 0
Status:  OK 
CheckDir: qpgraph.Rcheck
Warnings: 0

Command output

##############################################################################
##############################################################################
###
### Running command:
###
###   /Library/Frameworks/R.framework/Versions/Current/Resources/bin/R CMD check --no-vignettes --timings qpgraph_2.4.0.tar.gz
###
##############################################################################
##############################################################################


* using log directory ‘/Users/biocbuild/bbs-3.2-bioc/meat/qpgraph.Rcheck’
* using R version 3.2.2 Patched (2015-10-08 r69496)
* using platform: x86_64-apple-darwin10.8.0 (64-bit)
* using session charset: UTF-8
* using option ‘--no-vignettes’
* checking for file ‘qpgraph/DESCRIPTION’ ... OK
* this is package ‘qpgraph’ version ‘2.4.0’
* checking package namespace information ... OK
* checking package dependencies ... OK
* checking if this is a source package ... OK
* checking if there is a namespace ... OK
* checking for hidden files and directories ... OK
* checking for portable file names ... OK
* checking for sufficient/correct file permissions ... OK
* checking whether package ‘qpgraph’ can be installed ... [32s/33s] OK
* checking installed package size ... OK
* checking package directory ... OK
* checking ‘build’ directory ... OK
* checking DESCRIPTION meta-information ... OK
* checking top-level files ... OK
* checking for left-over files ... OK
* checking index information ... OK
* checking package subdirectories ... OK
* checking R files for non-ASCII characters ... OK
* checking R files for syntax errors ... OK
* checking whether the package can be loaded ... OK
* checking whether the package can be loaded with stated dependencies ... OK
* checking whether the package can be unloaded cleanly ... OK
* checking whether the namespace can be loaded with stated dependencies ... OK
* checking whether the namespace can be unloaded cleanly ... OK
* checking dependencies in R code ... NOTE
'library' or 'require' call to ‘GOstats’ in package code.
  Please use :: or requireNamespace() instead.
  See section 'Suggested packages' in the 'Writing R Extensions' manual.
* checking S3 generic/method consistency ... OK
* checking replacement functions ... OK
* checking foreign function calls ... OK
* checking R code for possible problems ... OK
* checking Rd files ... OK
* checking Rd metadata ... OK
* checking Rd cross-references ... OK
* checking for missing documentation entries ... OK
* checking for code/documentation mismatches ... OK
* checking Rd \usage sections ... OK
* checking Rd contents ... OK
* checking for unstated dependencies in examples ... OK
* checking contents of ‘data’ directory ... OK
* checking data for non-ASCII characters ... OK
* checking data for ASCII and uncompressed saves ... OK
* checking line endings in C/C++/Fortran sources/headers ... OK
* checking line endings in Makefiles ... OK
* checking compilation flags in Makevars ... OK
* checking for GNU extensions in Makefiles ... OK
* checking for portable use of $(BLAS_LIBS) and $(LAPACK_LIBS) ... OK
* checking compiled code ... OK
* checking sizes of PDF files under ‘inst/doc’ ... OK
* checking installed files from ‘inst/doc’ ... OK
* checking files in ‘vignettes’ ... OK
* checking examples ... [21s/21s] OK
* checking for unstated dependencies in ‘tests’ ... OK
* checking tests ...
  Running ‘runTests.R’ [18s/18s]
 [18s/18s] OK
* checking for unstated dependencies in vignettes ... OK
* checking package vignettes in ‘inst/doc’ ... OK
* checking running R code from vignettes ... SKIPPED
* checking re-building of vignette outputs ... SKIPPED
* checking PDF version of manual ... OK
* DONE

Status: 1 NOTE
See
  ‘/Users/biocbuild/bbs-3.2-bioc/meat/qpgraph.Rcheck/00check.log’
for details.


qpgraph.Rcheck/00install.out:

* installing *source* package ‘qpgraph’ ...
checking for gcc... gcc
checking for C compiler default output file name... a.out
checking whether the C compiler works... yes
checking whether we are cross compiling... no
checking for suffix of executables... 
checking for suffix of object files... o
checking whether we are using the GNU C compiler... yes
checking whether gcc accepts -g... yes
checking for gcc option to accept ANSI C... none needed
checking build system type... i686-apple-darwin10.8.0
checking host system type... i686-apple-darwin10.8.0
configure: creating ./config.status
config.status: creating src/Makevars
** libs
llvm-gcc-4.2 -arch x86_64 -std=gnu99 -I/Library/Frameworks/R.framework/Resources/include -DNDEBUG -I/usr/local/include -I/usr/local/include   -mtune=core2 -g -O2 -Wall -Wall -pedantic -fPIC  -mtune=core2 -g -O2 -Wall  -c cliquer.c -o cliquer.o
cliquer.c: In function ‘unweighted_clique_search_single’:
cliquer.c:229: warning: implicit declaration of function ‘R_ProcessEvents’
llvm-gcc-4.2 -arch x86_64 -std=gnu99 -I/Library/Frameworks/R.framework/Resources/include -DNDEBUG -I/usr/local/include -I/usr/local/include   -mtune=core2 -g -O2 -Wall -Wall -pedantic -fPIC  -mtune=core2 -g -O2 -Wall  -c graph.c -o graph.o
llvm-gcc-4.2 -arch x86_64 -std=gnu99 -I/Library/Frameworks/R.framework/Resources/include -DNDEBUG -I/usr/local/include -I/usr/local/include   -mtune=core2 -g -O2 -Wall -Wall -pedantic -fPIC  -mtune=core2 -g -O2 -Wall  -c qpgraph.c -o qpgraph.o
qpgraph.c: In function ‘qp_fast_path_weight’:
qpgraph.c:5849: warning: left-hand operand of comma expression has no effect
qpgraph.c:5850: warning: left-hand operand of comma expression has no effect
qpgraph.c: In function ‘ssd_A’:
qpgraph.c:8157: warning: unused variable ‘m’
qpgraph.c:8157: warning: unused variable ‘k’
qpgraph.c: In function ‘qp_fast_rnd_graph’:
qpgraph.c:8286: warning: assignment from incompatible pointer type
llvm-gcc-4.2 -arch x86_64 -std=gnu99 -I/Library/Frameworks/R.framework/Resources/include -DNDEBUG -I/usr/local/include -I/usr/local/include   -mtune=core2 -g -O2 -Wall -Wall -pedantic -fPIC  -mtune=core2 -g -O2 -Wall  -c reorder.c -o reorder.o
llvm-gcc-4.2 -arch x86_64 -std=gnu99 -dynamiclib -Wl,-headerpad_max_install_names -undefined dynamic_lookup -single_module -multiply_defined suppress -L/Library/Frameworks/R.framework/Resources/lib -L/usr/local/lib -L/usr/local/lib -o qpgraph.so cliquer.o graph.o qpgraph.o reorder.o -L/Library/Frameworks/R.framework/Resources/lib -lRblas -L/Library/Frameworks/R.framework/Resources/lib -lRlapack -L/usr/local/lib/gcc/i686-apple-darwin8/4.2.3/x86_64 -L/usr/local/lib/x86_64 -L/usr/local/lib/gcc/i686-apple-darwin8/4.2.3 -lgfortran -F/Library/Frameworks/R.framework/.. -framework R -Wl,-framework -Wl,CoreFoundation
installing to /Users/biocbuild/bbs-3.2-bioc/meat/qpgraph.Rcheck/qpgraph/libs
** R
** data
*** moving datasets to lazyload DB
** inst
** preparing package for lazy loading
Creating a generic function for ‘det’ from package ‘Matrix’ in package ‘qpgraph’
Creating a generic function from function ‘rmvnorm’ in package ‘qpgraph’
Creating a generic function from function ‘sim.cross’ in package ‘qpgraph’
** help
*** installing help indices
** building package indices
** installing vignettes
** testing if installed package can be loaded
* DONE (qpgraph)

qpgraph.Rcheck/qpgraph-Ex.timings:

nameusersystemelapsed
EcoliOxygen0.0030.0000.004
qpAllCItests0.6910.0050.696
qpAnyGraph0.1430.0020.144
qpAvgNrr2.3990.0072.405
qpBoundary0.5600.0040.563
qpCItest0.0450.0030.047
qpClique0.5690.0070.576
qpCliqueNumber0.3230.0040.327
qpCov0.1070.0030.110
qpEdgeNrr0.0430.0010.043
qpFunctionalCoherence0.0020.0000.003
qpG2Sigma0.0100.0000.011
qpGenNrr0.9440.0070.958
qpGetCliques0.4170.0020.420
qpGraphDensity0.5370.0010.538
qpHTF0.1380.0030.140
qpHist0.3830.0010.384
qpIPF0.1820.0010.184
qpK2ParCor0.0520.0010.052
qpNrr0.2770.0020.278
qpPAC0.5340.0130.546
qpPCC0.1480.0030.151
qpPRscoreThreshold0.2570.0010.257
qpPlotMap0.0660.0070.073
qpPlotNetwork0.0010.0000.001
qpPrecisionRecall0.4160.0010.417
qpRndGraph0.010.000.01
qpRndWishart0.0080.0010.009
qpTopPairs0.0030.0000.004
qpUnifRndAssociation0.0040.0000.005
qpUpdateCliquesRemoving0.0010.0000.001