| msmsTests 1.7.0 Josep Gregori i Font
 
 | Snapshot Date: 2015-08-19 16:24:33 -0700 (Wed, 19 Aug 2015) |  | URL: https://hedgehog.fhcrc.org/bioconductor/trunk/madman/Rpacks/msmsTests |  | Last Changed Rev: 102594 / Revision: 107602 |  | Last Changed Date: 2015-04-16 13:02:44 -0700 (Thu, 16 Apr 2015) | 
 | zin1 | Linux (Ubuntu 14.04.2 LTS) / x86_64 | OK | OK | OK |  |  | 
| moscato1 | Windows Server 2008 R2 Enterprise SP1 (64-bit) / x64 | [ OK ] | OK | OK | OK |  | 
| perceval | Mac OS X Snow Leopard (10.6.8) / x86_64 | OK | OK | OK | OK |  | 
| oaxaca | Mac OS X Mavericks (10.9.5) / x86_64 | OK | OK | OK | OK |  | 
##############################################################################
##############################################################################
###
### Running command:
###
###   C:\cygwin\bin\curl.exe -O http://zin1/BBS/3.2/bioc/src/contrib/msmsTests_1.7.0.tar.gz && D:\biocbld\bbs-3.2-bioc\R\bin\R.exe CMD INSTALL --merge-multiarch msmsTests_1.7.0.tar.gz && rm msmsTests_1.7.0.tar.gz
###
##############################################################################
##############################################################################
  % Total    % Received % Xferd  Average Speed   Time    Time     Time  Current
                                 Dload  Upload   Total   Spent    Left  Speed
  0     0    0     0    0     0      0      0 --:--:-- --:--:-- --:--:--     0
100 32956  100 32956    0     0  1965k      0 --:--:-- --:--:-- --:--:-- 3575k
install for i386
* installing to library 'D:/biocbld/bbs-3.2-bioc/R/library'
* installing *source* package 'msmsTests' ...
** R
** data
** preparing package for lazy loading
** help
*** installing help indices
** building package indices
** installing vignettes
** testing if installed package can be loaded
install for x64
* installing to library 'D:/biocbld/bbs-3.2-bioc/R/library'
* installing *source* package 'msmsTests' ...
** testing if installed package can be loaded
* DONE (msmsTests)