Back to the "Multiple platform build/check report" A  B  C  D  E  F  G  H  I  J  K  L [M] N  O  P  Q  R  S  T  U  V  W  X  Y  Z 

BioC 3.2: CHECK report for minfi on oaxaca

This page was generated on 2015-10-27 17:39:47 -0400 (Tue, 27 Oct 2015).

Package 646/1104HostnameOS / ArchINSTALLBUILDCHECKBUILD BIN
minfi 1.16.0
Kasper Daniel Hansen
Snapshot Date: 2015-10-26 19:24:07 -0400 (Mon, 26 Oct 2015)
URL: https://hedgehog.fhcrc.org/bioconductor/branches/RELEASE_3_2/madman/Rpacks/minfi
Last Changed Rev: 109589 / Revision: 109947
Last Changed Date: 2015-10-13 15:36:05 -0400 (Tue, 13 Oct 2015)
linux1.bioconductor.org Linux (Ubuntu 14.04.2 LTS) / x86_64  OK  OK  OK UNNEEDED, same version exists in internal repository
windows1.bioconductor.org Windows Server 2012 R2 Enterprise SP1 (64-bit) / x64  OK  OK  OK  OK UNNEEDED, same version exists in internal repository
perceval Mac OS X Snow Leopard (10.6.8) / x86_64  OK  OK  OK  OK UNNEEDED, same version exists in internal repository
oaxaca Mac OS X Mavericks (10.9.5) / x86_64  OK  OK [ OK ] OK UNNEEDED, same version exists in internal repository

Summary

Package: minfi
Version: 1.16.0
Command: /Library/Frameworks/R.framework/Versions/Current/Resources/bin/R CMD check --no-vignettes --timings minfi_1.16.0.tar.gz
StartedAt: 2015-10-27 05:40:01 -0400 (Tue, 27 Oct 2015)
EndedAt: 2015-10-27 05:56:35 -0400 (Tue, 27 Oct 2015)
EllapsedTime: 994.5 seconds
RetCode: 0
Status:  OK 
CheckDir: minfi.Rcheck
Warnings: 0

Command output

##############################################################################
##############################################################################
###
### Running command:
###
###   /Library/Frameworks/R.framework/Versions/Current/Resources/bin/R CMD check --no-vignettes --timings minfi_1.16.0.tar.gz
###
##############################################################################
##############################################################################


* using log directory ‘/Users/biocbuild/bbs-3.2-bioc/meat/minfi.Rcheck’
* using R version 3.2.2 (2015-08-14)
* using platform: x86_64-apple-darwin13.4.0 (64-bit)
* using session charset: UTF-8
* using option ‘--no-vignettes’
* checking for file ‘minfi/DESCRIPTION’ ... OK
* this is package ‘minfi’ version ‘1.16.0’
* checking package namespace information ... OK
* checking package dependencies ... NOTE
Depends: includes the non-default packages:
  ‘BiocGenerics’ ‘Biobase’ ‘lattice’ ‘GenomicRanges’
  ‘SummarizedExperiment’ ‘Biostrings’ ‘bumphunter’
Adding so many packages to the search path is excessive and importing
selectively is preferable.
* checking if this is a source package ... OK
* checking if there is a namespace ... OK
* checking for hidden files and directories ... OK
* checking for portable file names ... OK
* checking for sufficient/correct file permissions ... OK
* checking whether package ‘minfi’ can be installed ... [24s/24s] OK
* checking installed package size ... OK
* checking package directory ... OK
* checking ‘build’ directory ... OK
* checking DESCRIPTION meta-information ... OK
* checking top-level files ... OK
* checking for left-over files ... OK
* checking index information ... OK
* checking package subdirectories ... OK
* checking R files for non-ASCII characters ... OK
* checking R files for syntax errors ... OK
* checking whether the package can be loaded ... OK
* checking whether the package can be loaded with stated dependencies ... OK
* checking whether the package can be unloaded cleanly ... OK
* checking whether the namespace can be loaded with stated dependencies ... OK
* checking whether the namespace can be unloaded cleanly ... OK
* checking dependencies in R code ... NOTE
Unexported objects imported by ':::' calls:
  ‘BiocGenerics:::replaceSlots’
  ‘SummarizedExperiment:::.valid.SummarizedExperiment0.assays_ncol’
  ‘bumphunter:::.getEstimate’
  See the note in ?`:::` about the use of this operator.
* checking S3 generic/method consistency ... OK
* checking replacement functions ... OK
* checking foreign function calls ... OK
* checking R code for possible problems ... OK
* checking Rd files ... OK
* checking Rd metadata ... OK
* checking Rd cross-references ... OK
* checking for missing documentation entries ... OK
* checking for code/documentation mismatches ... OK
* checking Rd \usage sections ... OK
* checking Rd contents ... OK
* checking for unstated dependencies in examples ... OK
* checking sizes of PDF files under ‘inst/doc’ ... OK
* checking installed files from ‘inst/doc’ ... OK
* checking files in ‘vignettes’ ... OK
* checking examples ... [384s/385s] OK
Examples with CPU or elapsed time > 5s
                 user system elapsed
gaphunter     220.932  2.129 223.258
bumphunter     40.659  8.899  49.613
compartments   38.331  2.036  40.400
detectionP      8.862  0.648   9.519
read.450k.exp   7.062  0.286   7.354
read.450k       6.141  0.391   6.540
minfiQC         4.483  0.516   5.004
* checking for unstated dependencies in ‘tests’ ... OK
* checking tests ...
  Running ‘runTests.R’ [243s/370s]
 [243s/370s] OK
* checking for unstated dependencies in vignettes ... OK
* checking package vignettes in ‘inst/doc’ ... OK
* checking running R code from vignettes ... SKIPPED
* checking re-building of vignette outputs ... SKIPPED
* checking PDF version of manual ... OK
* DONE

Status: 2 NOTEs
See
  ‘/Users/biocbuild/bbs-3.2-bioc/meat/minfi.Rcheck/00check.log’
for details.


minfi.Rcheck/00install.out:

* installing *source* package ‘minfi’ ...
** R
** inst
** preparing package for lazy loading
Warning in rgl.init(initValue, onlyNULL) :
  RGL: GLX extension missing on server
Warning in fun(libname, pkgname) : Error in 'rgl_init'
** help
*** installing help indices
** building package indices
** installing vignettes
** testing if installed package can be loaded
Warning in rgl.init(initValue, onlyNULL) :
  RGL: GLX extension missing on server
Warning in fun(libname, pkgname) : Error in 'rgl_init'
* DONE (minfi)

minfi.Rcheck/minfi-Ex.timings:

nameusersystemelapsed
GenomicMethylSet-class0.0030.0010.003
GenomicRatioSet-class0.0010.0000.001
IlluminaMethylationManifest-class2.5260.1492.681
MethylSet-class0.0010.0010.002
RGChannelSet-class0.0010.0000.001
RatioSet-class0.0010.0000.002
bumphunter40.659 8.89949.613
compartments38.331 2.03640.400
controlStripPlot1.9680.1492.400
densityBeanPlot4.0810.2484.335
densityPlot3.5290.6184.150
detectionP8.8620.6489.519
dmpFinder0.2010.0120.214
estimateCellCounts0.0010.0000.001
fixMethOutliers0.9650.2061.172
gaphunter220.932 2.129223.258
getAnnotation1.6490.1121.761
getGenomicRatioSetFromGEO0.0000.0000.001
getQC0.2220.0100.233
getSex2.9840.3323.318
logit20.0000.0000.001
makeGenomicRatioSetFromMatrix1.3860.1341.522
mdsPlot0.6730.0840.780
minfiQC4.4830.5165.004
plotBetasByType0.0010.0000.001
plotCpg0.2750.0110.287
preprocessFunnorm0.0010.0000.001
preprocessIllumina3.2710.3003.574
preprocessNoob0.0010.0000.001
preprocessQuantile0.0000.0000.001
preprocessRaw2.5560.2712.829
preprocessSwan0.0010.0000.001
qcReport0.0950.0020.097
read.450k6.1410.3916.540
read.450k.exp7.0620.2867.354
read.450k.sheet0.0960.0030.130
readGEORawFile0.0000.0000.001
readTCGA0.0000.0000.001
utils2.1830.3992.584