graph 1.48.0 Bioconductor Package Maintainer
 | Snapshot Date: 2015-10-26 19:24:07 -0400 (Mon, 26 Oct 2015) |  | URL: https://hedgehog.fhcrc.org/bioconductor/branches/RELEASE_3_2/madman/Rpacks/graph |  | Last Changed Rev: 109589 / Revision: 109947 |  | Last Changed Date: 2015-10-13 15:36:05 -0400 (Tue, 13 Oct 2015) |  
  | linux1.bioconductor.org  | Linux (Ubuntu 14.04.2 LTS) / x86_64  |  OK  |  OK  |  WARNINGS  |  |   | 
| windows1.bioconductor.org  | Windows Server 2012 R2 Enterprise SP1 (64-bit) / x64  | [ OK ] |  OK  |  WARNINGS  |  OK  |   | 
| perceval  | Mac OS X Snow Leopard (10.6.8) / x86_64  |  OK  |  OK  |  WARNINGS  |  OK  |   | 
| oaxaca  | Mac OS X Mavericks (10.9.5) / x86_64  |  OK  |  OK  |  WARNINGS  |  OK  |   | 
##############################################################################
##############################################################################
###
### Running command:
###
###   C:\cygwin64\bin\curl.exe -O http://linux1.bioconductor.org/BBS/3.2/bioc/src/contrib/graph_1.48.0.tar.gz && C:\biocbld\bbs-3.2-bioc\R\bin\R.exe CMD INSTALL --merge-multiarch graph_1.48.0.tar.gz && rm graph_1.48.0.tar.gz
###
##############################################################################
##############################################################################
  % Total    % Received % Xferd  Average Speed   Time    Time     Time  Current
                                 Dload  Upload   Total   Spent    Left  Speed
  0     0    0     0    0     0      0      0 --:--:-- --:--:-- --:--:--     0
100  326k  100  326k    0     0  5939k      0 --:--:-- --:--:-- --:--:--  106M
install for i386
* installing to library 'C:/biocbld/bbs-3.2-bioc/R/library'
* installing *source* package 'graph' ...
** libs
gcc -m32 -I"C:/biocbld/BBS-3˜1.2-B/R/include" -DNDEBUG     -I"d:/RCompile/r-compiling/local/local320/include"     -O3 -Wall  -std=gnu99 -mtune=core2 -c graph.c -o graph.o
gcc -m32 -shared -s -static-libgcc -o graph.dll tmp.def graph.o -Ld:/RCompile/r-compiling/local/local320/lib/i386 -Ld:/RCompile/r-compiling/local/local320/lib -LC:/biocbld/BBS-3˜1.2-B/R/bin/i386 -lR
mv graph.dll BioC_graph.dll
installing to C:/biocbld/bbs-3.2-bioc/R/library/graph/libs/i386
** R
** data
** inst
** preparing package for lazy loading
** help
*** installing help indices
** building package indices
** installing vignettes
** testing if installed package can be loaded
install for x64
* installing to library 'C:/biocbld/bbs-3.2-bioc/R/library'
* installing *source* package 'graph' ...
** libs
gcc -m64 -I"C:/biocbld/BBS-3˜1.2-B/R/include" -DNDEBUG     -I"d:/RCompile/r-compiling/local/local320/include"     -O2 -Wall  -std=gnu99 -mtune=core2 -c graph.c -o graph.o
gcc -m64 -shared -s -static-libgcc -o graph.dll tmp.def graph.o -Ld:/RCompile/r-compiling/local/local320/lib/x64 -Ld:/RCompile/r-compiling/local/local320/lib -LC:/biocbld/BBS-3˜1.2-B/R/bin/x64 -lR
mv graph.dll BioC_graph.dll
installing to C:/biocbld/bbs-3.2-bioc/R/library/graph/libs/x64
** testing if installed package can be loaded
* DONE (graph)