| goseq 1.21.1 Nadia Davidson
 
 | Snapshot Date: 2015-08-19 16:24:33 -0700 (Wed, 19 Aug 2015) |  | URL: https://hedgehog.fhcrc.org/bioconductor/trunk/madman/Rpacks/goseq |  | Last Changed Rev: 104305 / Revision: 107602 |  | Last Changed Date: 2015-05-27 22:16:43 -0700 (Wed, 27 May 2015) | 
 | zin1 | Linux (Ubuntu 14.04.2 LTS) / x86_64 | OK | OK | OK |  |  | 
| moscato1 | Windows Server 2008 R2 Enterprise SP1 (64-bit) / x64 | [ OK ] | OK | OK | OK |  | 
| perceval | Mac OS X Snow Leopard (10.6.8) / x86_64 | OK | OK | OK | OK |  | 
| oaxaca | Mac OS X Mavericks (10.9.5) / x86_64 | OK | OK | OK | OK |  | 
##############################################################################
##############################################################################
###
### Running command:
###
###   C:\cygwin\bin\curl.exe -O http://zin1/BBS/3.2/bioc/src/contrib/goseq_1.21.1.tar.gz && D:\biocbld\bbs-3.2-bioc\R\bin\R.exe CMD INSTALL --merge-multiarch goseq_1.21.1.tar.gz && rm goseq_1.21.1.tar.gz
###
##############################################################################
##############################################################################
  % Total    % Received % Xferd  Average Speed   Time    Time     Time  Current
                                 Dload  Upload   Total   Spent    Left  Speed
  0     0    0     0    0     0      0      0 --:--:-- --:--:-- --:--:--     0
100  466k  100  466k    0     0  20.0M      0 --:--:-- --:--:-- --:--:-- 30.3M
install for i386
* installing to library 'D:/biocbld/bbs-3.2-bioc/R/library'
* installing *source* package 'goseq' ...
** R
** data
** inst
** preparing package for lazy loading
** help
*** installing help indices
** building package indices
** installing vignettes
** testing if installed package can be loaded
install for x64
* installing to library 'D:/biocbld/bbs-3.2-bioc/R/library'
* installing *source* package 'goseq' ...
** testing if installed package can be loaded
* DONE (goseq)