Back to the "Multiple platform build/check report" A  B  C  D  E [F] G  H  I  J  K  L  M  N  O  P  Q  R  S  T  U  V  W  X  Y  Z 

BioC 3.2: CHECK report for flowCore on oaxaca

This page was generated on 2015-10-23 13:28:05 -0400 (Fri, 23 Oct 2015).

Package 354/1104HostnameOS / ArchINSTALLBUILDCHECKBUILD BIN
flowCore 1.36.0
M.Jiang
Snapshot Date: 2015-10-22 19:24:08 -0400 (Thu, 22 Oct 2015)
URL: https://hedgehog.fhcrc.org/bioconductor/branches/RELEASE_3_2/madman/Rpacks/flowCore
Last Changed Rev: 109589 / Revision: 109845
Last Changed Date: 2015-10-13 15:36:05 -0400 (Tue, 13 Oct 2015)
linux1.bioconductor.org Linux (Ubuntu 14.04.2 LTS) / x86_64  OK  OK  OK UNNEEDED, same version exists in internal repository
windows1.bioconductor.org Windows Server 2012 R2 Enterprise SP1 (64-bit) / x64  OK  OK  OK  OK UNNEEDED, same version exists in internal repository
oaxaca Mac OS X Mavericks (10.9.5) / x86_64  OK  OK [ OK ] OK UNNEEDED, same version exists in internal repository

Summary

Package: flowCore
Version: 1.36.0
Command: /Library/Frameworks/R.framework/Versions/Current/Resources/bin/R CMD check --no-vignettes --timings flowCore_1.36.0.tar.gz
StartedAt: 2015-10-23 03:31:27 -0400 (Fri, 23 Oct 2015)
EndedAt: 2015-10-23 03:34:36 -0400 (Fri, 23 Oct 2015)
EllapsedTime: 188.3 seconds
RetCode: 0
Status:  OK 
CheckDir: flowCore.Rcheck
Warnings: 0

Command output

##############################################################################
##############################################################################
###
### Running command:
###
###   /Library/Frameworks/R.framework/Versions/Current/Resources/bin/R CMD check --no-vignettes --timings flowCore_1.36.0.tar.gz
###
##############################################################################
##############################################################################


* using log directory ‘/Users/biocbuild/bbs-3.2-bioc/meat/flowCore.Rcheck’
* using R version 3.2.2 (2015-08-14)
* using platform: x86_64-apple-darwin13.4.0 (64-bit)
* using session charset: UTF-8
* using option ‘--no-vignettes’
* checking for file ‘flowCore/DESCRIPTION’ ... OK
* this is package ‘flowCore’ version ‘1.36.0’
* checking package namespace information ... OK
* checking package dependencies ... OK
* checking if this is a source package ... NOTE
Found the following apparent object files/libraries:
  src/boost_regex/c_regex_traits.o src/boost_regex/cpp_regex_traits.o
  src/boost_regex/cregex.o src/boost_regex/fileiter.o
  src/boost_regex/icu.o src/boost_regex/instances.o
  src/boost_regex/posix_api.o src/boost_regex/regex.o
  src/boost_regex/regex_debug.o src/boost_regex/regex_raw_buffer.o
  src/boost_regex/regex_traits_defaults.o
  src/boost_regex/static_mutex.o src/boost_regex/usinstances.o
  src/boost_regex/w32_regex_traits.o src/boost_regex/wc_regex_traits.o
  src/boost_regex/wide_posix_api.o src/boost_regex/winstances.o
Object files/libraries should not be included in a source package.
* checking if there is a namespace ... OK
* checking for hidden files and directories ... OK
* checking for portable file names ... OK
* checking for sufficient/correct file permissions ... OK
* checking whether package ‘flowCore’ can be installed ... [58s/61s] OK
* checking installed package size ... NOTE
  installed size is 18.8Mb
  sub-directories of 1Mb or more:
    data      5.0Mb
    doc       1.3Mb
    extdata   1.1Mb
    lib       9.5Mb
* checking package directory ... OK
* checking ‘build’ directory ... OK
* checking DESCRIPTION meta-information ... OK
* checking top-level files ... OK
* checking for left-over files ... OK
* checking index information ... OK
* checking package subdirectories ... OK
* checking R files for non-ASCII characters ... OK
* checking R files for syntax errors ... OK
* checking whether the package can be loaded ... OK
* checking whether the package can be loaded with stated dependencies ... OK
* checking whether the package can be unloaded cleanly ... OK
* checking whether the namespace can be loaded with stated dependencies ... OK
* checking whether the namespace can be unloaded cleanly ... OK
* checking dependencies in R code ... NOTE
'library' or 'require' call to ‘Rgraphviz’ in package code.
  Please use :: or requireNamespace() instead.
  See section 'Suggested packages' in the 'Writing R Extensions' manual.
* checking S3 generic/method consistency ... OK
* checking replacement functions ... OK
* checking foreign function calls ... OK
* checking R code for possible problems ... NOTE
rbind2,flowSet-flowSet : .local: warning in assign(i, x[[i]], env =
  env): partial argument match of 'env' to 'envir'
rbind2,flowSet-flowSet : .local: warning in assign(i, y[[i]], env =
  env): partial argument match of 'env' to 'envir'
%in%,flowFrame-norm2Filter: no visible global function definition for
  ‘cov.rob’
spillover,flowSet : .local : <anonymous>: no visible global function
  definition for ‘rangeGate’
split,flowFrame-factor : .local: no visible binding for global variable
  ‘i’
summary,workFlow : .local: no visible binding for global variable ‘wf’
* checking Rd files ... OK
* checking Rd metadata ... OK
* checking Rd cross-references ... OK
* checking for missing documentation entries ... OK
* checking for code/documentation mismatches ... OK
* checking Rd \usage sections ... OK
* checking Rd contents ... OK
* checking for unstated dependencies in examples ... OK
* checking contents of ‘data’ directory ... OK
* checking data for non-ASCII characters ... OK
* checking data for ASCII and uncompressed saves ... OK
* checking line endings in C/C++/Fortran sources/headers ... OK
* checking line endings in Makefiles ... OK
* checking compilation flags in Makevars ... OK
* checking for GNU extensions in Makefiles ... NOTE
GNU make is a SystemRequirements.
* checking for portable use of $(BLAS_LIBS) and $(LAPACK_LIBS) ... OK
* checking compiled code ... OK
* checking sizes of PDF files under ‘inst/doc’ ... OK
* checking installed files from ‘inst/doc’ ... OK
* checking files in ‘vignettes’ ... OK
* checking examples ... [30s/31s] OK
* checking for unstated dependencies in ‘tests’ ... OK
* checking tests ...
  Running ‘run-all.R’ [7s/7s]
 [7s/7s] OK
* checking for unstated dependencies in vignettes ... OK
* checking package vignettes in ‘inst/doc’ ... OK
* checking running R code from vignettes ... SKIPPED
* checking re-building of vignette outputs ... SKIPPED
* checking PDF version of manual ... OK
* DONE

Status: 5 NOTEs
See
  ‘/Users/biocbuild/bbs-3.2-bioc/meat/flowCore.Rcheck/00check.log’
for details.


flowCore.Rcheck/00install.out:

* installing *source* package ‘flowCore’ ...
** libs
clang++ -I/Library/Frameworks/R.framework/Resources/include -DNDEBUG  -I/usr/local/include -I/usr/local/include/freetype2 -I/opt/X11/include -I"/Library/Frameworks/R.framework/Versions/3.2/Resources/library/Rcpp/include" -I"/Library/Frameworks/R.framework/Versions/3.2/Resources/library/BH/include"   -fPIC  -Wall -mtune=core2 -g -O2  -c FastLogicle.cpp -o FastLogicle.o
clang++ -I/Library/Frameworks/R.framework/Resources/include -DNDEBUG  -I/usr/local/include -I/usr/local/include/freetype2 -I/opt/X11/include -I"/Library/Frameworks/R.framework/Versions/3.2/Resources/library/Rcpp/include" -I"/Library/Frameworks/R.framework/Versions/3.2/Resources/library/BH/include"   -fPIC  -Wall -mtune=core2 -g -O2  -c Hyperlog.cpp -o Hyperlog.o
clang++ -I/Library/Frameworks/R.framework/Resources/include -DNDEBUG  -I/usr/local/include -I/usr/local/include/freetype2 -I/opt/X11/include -I"/Library/Frameworks/R.framework/Versions/3.2/Resources/library/Rcpp/include" -I"/Library/Frameworks/R.framework/Versions/3.2/Resources/library/BH/include"   -fPIC  -Wall -mtune=core2 -g -O2  -c Logicle.cpp -o Logicle.o
clang++ -I/Library/Frameworks/R.framework/Resources/include -DNDEBUG  -I/usr/local/include -I/usr/local/include/freetype2 -I/opt/X11/include -I"/Library/Frameworks/R.framework/Versions/3.2/Resources/library/Rcpp/include" -I"/Library/Frameworks/R.framework/Versions/3.2/Resources/library/BH/include"   -fPIC  -Wall -mtune=core2 -g -O2  -c RcppExports.cpp -o RcppExports.o
clang -I/Library/Frameworks/R.framework/Resources/include -DNDEBUG  -I/usr/local/include -I/usr/local/include/freetype2 -I/opt/X11/include -I"/Library/Frameworks/R.framework/Versions/3.2/Resources/library/Rcpp/include" -I"/Library/Frameworks/R.framework/Versions/3.2/Resources/library/BH/include"   -fPIC  -Wall -mtune=core2 -g -O2  -c biexponential.c -o biexponential.o
clang++ -I/Library/Frameworks/R.framework/Resources/include -DNDEBUG  -I/usr/local/include -I/usr/local/include/freetype2 -I/opt/X11/include -I"/Library/Frameworks/R.framework/Versions/3.2/Resources/library/Rcpp/include" -I"/Library/Frameworks/R.framework/Versions/3.2/Resources/library/BH/include"   -fPIC  -Wall -mtune=core2 -g -O2  -c fcsTextParse.cpp -o fcsTextParse.o
fcsTextParse.cpp:44:133: warning: multi-line // comment [-Wcomment]
                        txt = boost::regex_replace(txt, boost::regex(doubleDelimiter), magicString);//somehow boost::replace_all won't do the job for \\\\
                                                                                                                                                         ^
1 warning generated.
clang++ -I/Library/Frameworks/R.framework/Resources/include -DNDEBUG  -I/usr/local/include -I/usr/local/include/freetype2 -I/opt/X11/include -I"/Library/Frameworks/R.framework/Versions/3.2/Resources/library/Rcpp/include" -I"/Library/Frameworks/R.framework/Versions/3.2/Resources/library/BH/include"   -fPIC  -Wall -mtune=core2 -g -O2  -c hyperlogTransform.cpp -o hyperlogTransform.o
clang -I/Library/Frameworks/R.framework/Resources/include -DNDEBUG  -I/usr/local/include -I/usr/local/include/freetype2 -I/opt/X11/include -I"/Library/Frameworks/R.framework/Versions/3.2/Resources/library/Rcpp/include" -I"/Library/Frameworks/R.framework/Versions/3.2/Resources/library/BH/include"   -fPIC  -Wall -mtune=core2 -g -O2  -c inPolygon.c -o inPolygon.o
clang -I/Library/Frameworks/R.framework/Resources/include -DNDEBUG  -I/usr/local/include -I/usr/local/include/freetype2 -I/opt/X11/include -I"/Library/Frameworks/R.framework/Versions/3.2/Resources/library/Rcpp/include" -I"/Library/Frameworks/R.framework/Versions/3.2/Resources/library/BH/include"   -fPIC  -Wall -mtune=core2 -g -O2  -c inPolytope.c -o inPolytope.o
clang -I/Library/Frameworks/R.framework/Resources/include -DNDEBUG  -I/usr/local/include -I/usr/local/include/freetype2 -I/opt/X11/include -I"/Library/Frameworks/R.framework/Versions/3.2/Resources/library/Rcpp/include" -I"/Library/Frameworks/R.framework/Versions/3.2/Resources/library/BH/include"   -fPIC  -Wall -mtune=core2 -g -O2  -c init.c -o init.o
clang++ -I/Library/Frameworks/R.framework/Resources/include -DNDEBUG  -I/usr/local/include -I/usr/local/include/freetype2 -I/opt/X11/include -I"/Library/Frameworks/R.framework/Versions/3.2/Resources/library/Rcpp/include" -I"/Library/Frameworks/R.framework/Versions/3.2/Resources/library/BH/include"   -fPIC  -Wall -mtune=core2 -g -O2  -c logicleTransform.cpp -o logicleTransform.o
clang++ -I/Library/Frameworks/R.framework/Resources/include -DNDEBUG  -I/usr/local/include -I/usr/local/include/freetype2 -I/opt/X11/include -I"/Library/Frameworks/R.framework/Versions/3.2/Resources/library/Rcpp/include" -I"/Library/Frameworks/R.framework/Versions/3.2/Resources/library/BH/include"   -fPIC  -Wall -mtune=core2 -g -O2  -c pairVectorRcppWrap.cpp -o pairVectorRcppWrap.o
clang++ -I/Library/Frameworks/R.framework/Resources/include -DNDEBUG  -I/usr/local/include -I/usr/local/include/freetype2 -I/opt/X11/include -I"/Library/Frameworks/R.framework/Versions/3.2/Resources/library/Rcpp/include" -I"/Library/Frameworks/R.framework/Versions/3.2/Resources/library/BH/include"   -fPIC  -Wall -mtune=core2 -g -O2  -c uint2double.cpp -o uint2double.o
clang -I/Library/Frameworks/R.framework/Resources/include -DNDEBUG  -I/usr/local/include -I/usr/local/include/freetype2 -I/opt/X11/include -I"/Library/Frameworks/R.framework/Versions/3.2/Resources/library/Rcpp/include" -I"/Library/Frameworks/R.framework/Versions/3.2/Resources/library/BH/include"   -fPIC  -Wall -mtune=core2 -g -O2  -c zeroin.c -o zeroin.o
clang++ -I/Library/Frameworks/R.framework/Resources/include -DNDEBUG  -I/usr/local/include -I/usr/local/include/freetype2 -I/opt/X11/include -I"/Library/Frameworks/R.framework/Versions/3.2/Resources/library/Rcpp/include" -I"/Library/Frameworks/R.framework/Versions/3.2/Resources/library/BH/include"   -fPIC  -Wall -mtune=core2 -g -O2  -c boost_regex/c_regex_traits.cpp -o boost_regex/c_regex_traits.o
clang++ -I/Library/Frameworks/R.framework/Resources/include -DNDEBUG  -I/usr/local/include -I/usr/local/include/freetype2 -I/opt/X11/include -I"/Library/Frameworks/R.framework/Versions/3.2/Resources/library/Rcpp/include" -I"/Library/Frameworks/R.framework/Versions/3.2/Resources/library/BH/include"   -fPIC  -Wall -mtune=core2 -g -O2  -c boost_regex/cpp_regex_traits.cpp -o boost_regex/cpp_regex_traits.o
clang++ -I/Library/Frameworks/R.framework/Resources/include -DNDEBUG  -I/usr/local/include -I/usr/local/include/freetype2 -I/opt/X11/include -I"/Library/Frameworks/R.framework/Versions/3.2/Resources/library/Rcpp/include" -I"/Library/Frameworks/R.framework/Versions/3.2/Resources/library/BH/include"   -fPIC  -Wall -mtune=core2 -g -O2  -c boost_regex/cregex.cpp -o boost_regex/cregex.o
clang++ -I/Library/Frameworks/R.framework/Resources/include -DNDEBUG  -I/usr/local/include -I/usr/local/include/freetype2 -I/opt/X11/include -I"/Library/Frameworks/R.framework/Versions/3.2/Resources/library/Rcpp/include" -I"/Library/Frameworks/R.framework/Versions/3.2/Resources/library/BH/include"   -fPIC  -Wall -mtune=core2 -g -O2  -c boost_regex/fileiter.cpp -o boost_regex/fileiter.o
clang++ -I/Library/Frameworks/R.framework/Resources/include -DNDEBUG  -I/usr/local/include -I/usr/local/include/freetype2 -I/opt/X11/include -I"/Library/Frameworks/R.framework/Versions/3.2/Resources/library/Rcpp/include" -I"/Library/Frameworks/R.framework/Versions/3.2/Resources/library/BH/include"   -fPIC  -Wall -mtune=core2 -g -O2  -c boost_regex/icu.cpp -o boost_regex/icu.o
clang++ -I/Library/Frameworks/R.framework/Resources/include -DNDEBUG  -I/usr/local/include -I/usr/local/include/freetype2 -I/opt/X11/include -I"/Library/Frameworks/R.framework/Versions/3.2/Resources/library/Rcpp/include" -I"/Library/Frameworks/R.framework/Versions/3.2/Resources/library/BH/include"   -fPIC  -Wall -mtune=core2 -g -O2  -c boost_regex/instances.cpp -o boost_regex/instances.o
clang++ -I/Library/Frameworks/R.framework/Resources/include -DNDEBUG  -I/usr/local/include -I/usr/local/include/freetype2 -I/opt/X11/include -I"/Library/Frameworks/R.framework/Versions/3.2/Resources/library/Rcpp/include" -I"/Library/Frameworks/R.framework/Versions/3.2/Resources/library/BH/include"   -fPIC  -Wall -mtune=core2 -g -O2  -c boost_regex/posix_api.cpp -o boost_regex/posix_api.o
clang++ -I/Library/Frameworks/R.framework/Resources/include -DNDEBUG  -I/usr/local/include -I/usr/local/include/freetype2 -I/opt/X11/include -I"/Library/Frameworks/R.framework/Versions/3.2/Resources/library/Rcpp/include" -I"/Library/Frameworks/R.framework/Versions/3.2/Resources/library/BH/include"   -fPIC  -Wall -mtune=core2 -g -O2  -c boost_regex/regex.cpp -o boost_regex/regex.o
clang++ -I/Library/Frameworks/R.framework/Resources/include -DNDEBUG  -I/usr/local/include -I/usr/local/include/freetype2 -I/opt/X11/include -I"/Library/Frameworks/R.framework/Versions/3.2/Resources/library/Rcpp/include" -I"/Library/Frameworks/R.framework/Versions/3.2/Resources/library/BH/include"   -fPIC  -Wall -mtune=core2 -g -O2  -c boost_regex/regex_debug.cpp -o boost_regex/regex_debug.o
clang++ -I/Library/Frameworks/R.framework/Resources/include -DNDEBUG  -I/usr/local/include -I/usr/local/include/freetype2 -I/opt/X11/include -I"/Library/Frameworks/R.framework/Versions/3.2/Resources/library/Rcpp/include" -I"/Library/Frameworks/R.framework/Versions/3.2/Resources/library/BH/include"   -fPIC  -Wall -mtune=core2 -g -O2  -c boost_regex/regex_raw_buffer.cpp -o boost_regex/regex_raw_buffer.o
clang++ -I/Library/Frameworks/R.framework/Resources/include -DNDEBUG  -I/usr/local/include -I/usr/local/include/freetype2 -I/opt/X11/include -I"/Library/Frameworks/R.framework/Versions/3.2/Resources/library/Rcpp/include" -I"/Library/Frameworks/R.framework/Versions/3.2/Resources/library/BH/include"   -fPIC  -Wall -mtune=core2 -g -O2  -c boost_regex/regex_traits_defaults.cpp -o boost_regex/regex_traits_defaults.o
clang++ -I/Library/Frameworks/R.framework/Resources/include -DNDEBUG  -I/usr/local/include -I/usr/local/include/freetype2 -I/opt/X11/include -I"/Library/Frameworks/R.framework/Versions/3.2/Resources/library/Rcpp/include" -I"/Library/Frameworks/R.framework/Versions/3.2/Resources/library/BH/include"   -fPIC  -Wall -mtune=core2 -g -O2  -c boost_regex/static_mutex.cpp -o boost_regex/static_mutex.o
clang++ -I/Library/Frameworks/R.framework/Resources/include -DNDEBUG  -I/usr/local/include -I/usr/local/include/freetype2 -I/opt/X11/include -I"/Library/Frameworks/R.framework/Versions/3.2/Resources/library/Rcpp/include" -I"/Library/Frameworks/R.framework/Versions/3.2/Resources/library/BH/include"   -fPIC  -Wall -mtune=core2 -g -O2  -c boost_regex/usinstances.cpp -o boost_regex/usinstances.o
clang++ -I/Library/Frameworks/R.framework/Resources/include -DNDEBUG  -I/usr/local/include -I/usr/local/include/freetype2 -I/opt/X11/include -I"/Library/Frameworks/R.framework/Versions/3.2/Resources/library/Rcpp/include" -I"/Library/Frameworks/R.framework/Versions/3.2/Resources/library/BH/include"   -fPIC  -Wall -mtune=core2 -g -O2  -c boost_regex/w32_regex_traits.cpp -o boost_regex/w32_regex_traits.o
clang++ -I/Library/Frameworks/R.framework/Resources/include -DNDEBUG  -I/usr/local/include -I/usr/local/include/freetype2 -I/opt/X11/include -I"/Library/Frameworks/R.framework/Versions/3.2/Resources/library/Rcpp/include" -I"/Library/Frameworks/R.framework/Versions/3.2/Resources/library/BH/include"   -fPIC  -Wall -mtune=core2 -g -O2  -c boost_regex/wc_regex_traits.cpp -o boost_regex/wc_regex_traits.o
clang++ -I/Library/Frameworks/R.framework/Resources/include -DNDEBUG  -I/usr/local/include -I/usr/local/include/freetype2 -I/opt/X11/include -I"/Library/Frameworks/R.framework/Versions/3.2/Resources/library/Rcpp/include" -I"/Library/Frameworks/R.framework/Versions/3.2/Resources/library/BH/include"   -fPIC  -Wall -mtune=core2 -g -O2  -c boost_regex/wide_posix_api.cpp -o boost_regex/wide_posix_api.o
clang++ -I/Library/Frameworks/R.framework/Resources/include -DNDEBUG  -I/usr/local/include -I/usr/local/include/freetype2 -I/opt/X11/include -I"/Library/Frameworks/R.framework/Versions/3.2/Resources/library/Rcpp/include" -I"/Library/Frameworks/R.framework/Versions/3.2/Resources/library/BH/include"   -fPIC  -Wall -mtune=core2 -g -O2  -c boost_regex/winstances.cpp -o boost_regex/winstances.o
mkdir -p "/Users/biocbuild/bbs-3.2-bioc/meat/flowCore.Rcheck/flowCore/lib"
ar rs "/Users/biocbuild/bbs-3.2-bioc/meat/flowCore.Rcheck/flowCore/lib/libboost_regex.a" boost_regex/c_regex_traits.o boost_regex/cpp_regex_traits.o boost_regex/cregex.o boost_regex/fileiter.o boost_regex/icu.o boost_regex/instances.o boost_regex/posix_api.o boost_regex/regex.o boost_regex/regex_debug.o boost_regex/regex_raw_buffer.o boost_regex/regex_traits_defaults.o boost_regex/static_mutex.o boost_regex/usinstances.o boost_regex/w32_regex_traits.o boost_regex/wc_regex_traits.o boost_regex/wide_posix_api.o boost_regex/winstances.o
ar: creating archive /Users/biocbuild/bbs-3.2-bioc/meat/flowCore.Rcheck/flowCore/lib/libboost_regex.a
/Applications/Xcode.app/Contents/Developer/Toolchains/XcodeDefault.xctoolchain/usr/bin/ranlib: file: /Users/biocbuild/bbs-3.2-bioc/meat/flowCore.Rcheck/flowCore/lib/libboost_regex.a(icu.o) has no symbols
/Applications/Xcode.app/Contents/Developer/Toolchains/XcodeDefault.xctoolchain/usr/bin/ranlib: file: /Users/biocbuild/bbs-3.2-bioc/meat/flowCore.Rcheck/flowCore/lib/libboost_regex.a(regex_debug.o) has no symbols
/Applications/Xcode.app/Contents/Developer/Toolchains/XcodeDefault.xctoolchain/usr/bin/ranlib: file: /Users/biocbuild/bbs-3.2-bioc/meat/flowCore.Rcheck/flowCore/lib/libboost_regex.a(usinstances.o) has no symbols
/Applications/Xcode.app/Contents/Developer/Toolchains/XcodeDefault.xctoolchain/usr/bin/ranlib: file: /Users/biocbuild/bbs-3.2-bioc/meat/flowCore.Rcheck/flowCore/lib/libboost_regex.a(w32_regex_traits.o) has no symbols
clang++ -dynamiclib -Wl,-headerpad_max_install_names -undefined dynamic_lookup -single_module -multiply_defined suppress -L/Library/Frameworks/R.framework/Resources/lib -L/usr/local/lib -o flowCore.so FastLogicle.o Hyperlog.o Logicle.o RcppExports.o biexponential.o fcsTextParse.o hyperlogTransform.o inPolygon.o inPolytope.o init.o logicleTransform.o pairVectorRcppWrap.o uint2double.o zeroin.o /Users/biocbuild/bbs-3.2-bioc/meat/flowCore.Rcheck/flowCore/lib/libboost_regex.a -F/Library/Frameworks/R.framework/.. -framework R -Wl,-framework -Wl,CoreFoundation
installing to /Users/biocbuild/bbs-3.2-bioc/meat/flowCore.Rcheck/flowCore/libs
** R
** data
** inst
** preparing package for lazy loading
** help
*** installing help indices
** building package indices
** installing vignettes
** testing if installed package can be loaded
* DONE (flowCore)

flowCore.Rcheck/flowCore-Ex.timings:

nameusersystemelapsed
EHtrans-class0.0640.0040.067
FCSTransTransform1.0030.0531.057
Subset-methods0.3790.0190.399
actionItem-class0.0020.0000.002
arcsinhTransform0.0340.0020.036
asinht-class0.0260.0020.028
asinhtGml2-class0.0530.0010.055
biexponentialTransform3.4320.0933.532
boundaryFilter-class0.1130.0080.121
characterOrTransformation-class0.0020.0000.002
coerce0.1590.0160.174
compensateActionItem-class0.0010.0000.002
compensateView-class0.0010.0000.001
compensatedParameter-class0.1460.0100.156
compensation-class0.3660.0640.431
dg1polynomial-class0.0410.0020.043
each_col-methods0.0410.0030.043
ellipsoidGate0.0850.0050.090
exponential-class0.0370.0110.048
expressionFilter-class0.0770.0020.080
fcReference-class0.0020.0000.003
filter-methods0.8710.0560.929
filter-on-methods0.1340.0030.137
filterList-class0.0100.0000.009
filterResult-class0.0010.0000.001
filterResultList-class0.0010.0000.001
filterSummary-class0.0010.0000.002
filterSummaryList-class0.0020.0000.001
flowFrame-class2.9440.1413.166
flowSet-class2.4980.1042.608
fsApply0.1610.0120.173
gateActionItem-class0.0010.0000.001
gateView-class0.0010.0000.002
getIndexSort-methods0.0320.0010.033
hyperlog-class2.1620.0142.178
hyperlogtGml2-class0.0730.0010.075
identifier-methods0.0340.0030.036
inverseLogicleTransform0.7200.0520.773
invsplitscale-class0.0350.0010.036
keyword-methods0.8440.0670.914
kmeansFilter0.1980.0160.215
linearTransform0.0390.0000.041
lintGml2-class0.0680.0020.070
lnTransform1.2640.0781.348
logTransform0.0520.0020.053
logarithm-class0.0330.0010.034
logicalFilterResult-class0.0010.0000.002
logicleTransform0.8360.0590.897
logicletGml2-class0.0750.0030.080
logtGml2-class0.0590.0020.061
manyFilterResult-class0.0010.0010.001
multipleFilterResult-class0.0000.0000.001
norm2Filter-class0.1570.0030.186
normalizeActionItem-class0.0010.0000.001
normalizeView-class0.0010.0000.001
parameters-methods0.0380.0030.039
polygonGate0.0820.0090.091
quadGate0.2230.0040.227
quadratic-class0.0390.0020.041
quadraticTransform0.0520.0030.055
ratio-class0.0420.0030.045
ratiotGml2-class0.0660.0010.067
read.FCS0.0770.0020.079
read.FCSheader0.0070.0020.009
read.flowSet0.1190.0040.123
rectangleGate0.1050.0020.107
sampleFilter-class0.0740.0030.075
scaleTransform0.0420.0000.042
singleParameterTransform-class0.0020.0010.001
sinht-class0.0300.0010.030
split-methods1.3430.0691.413
splitScaleTransform1.1640.0741.238
splitscale-class0.1530.0150.168
squareroot-class0.0290.0000.030
subsettingActionItem-class0.0010.0010.002
subsettingView-class0.0010.0000.001
timeFilter-class1.5800.0641.648
transform-class0.0030.0000.003
transformActionItem-class0.0020.0000.002
transformFilter-class0.1390.0040.144
transformList-class0.7940.0620.857
transformMap-class0.0020.0000.001
transformView-class0.0020.0000.002
truncateTransform0.0460.0020.048
unitytransform-class0.0350.0030.037
view-class0.0010.0000.002
workFlow-class0.0030.0010.003
write.FCS0.0850.0100.095
write.flowSet1.0910.0661.158