| csaw 1.3.10 Aaron Lun
 
 | Snapshot Date: 2015-08-19 16:24:33 -0700 (Wed, 19 Aug 2015) |  | URL: https://hedgehog.fhcrc.org/bioconductor/trunk/madman/Rpacks/csaw |  | Last Changed Rev: 106814 / Revision: 107602 |  | Last Changed Date: 2015-07-27 16:52:51 -0700 (Mon, 27 Jul 2015) | 
 | zin1 | Linux (Ubuntu 14.04.2 LTS) / x86_64 | OK | OK | OK |  |  | 
| moscato1 | Windows Server 2008 R2 Enterprise SP1 (64-bit) / x64 | [ OK ] | OK | OK | OK |  | 
| perceval | Mac OS X Snow Leopard (10.6.8) / x86_64 | OK | OK | OK | OK |  | 
| oaxaca | Mac OS X Mavericks (10.9.5) / x86_64 | OK | OK | OK | OK |  | 
##############################################################################
##############################################################################
###
### Running command:
###
###   C:\cygwin\bin\curl.exe -O http://zin1/BBS/3.2/bioc/src/contrib/csaw_1.3.10.tar.gz && D:\biocbld\bbs-3.2-bioc\R\bin\R.exe CMD INSTALL --merge-multiarch csaw_1.3.10.tar.gz && rm csaw_1.3.10.tar.gz
###
##############################################################################
##############################################################################
  % Total    % Received % Xferd  Average Speed   Time    Time     Time  Current
                                 Dload  Upload   Total   Spent    Left  Speed
  0     0    0     0    0     0      0      0 --:--:-- --:--:-- --:--:--     0
100 1324k  100 1324k    0     0  29.5M      0 --:--:-- --:--:-- --:--:-- 34.9M
install for i386
* installing to library 'D:/biocbld/bbs-3.2-bioc/R/library'
* installing *source* package 'csaw' ...
** libs
g++ -m32 -I"D:/biocbld/BBS-3˜1.2-B/R/include" -DNDEBUG     -I"d:/RCompile/r-compiling/local/local320/include"     -O2 -Wall  -mtune=core2 -c annotator.cpp -o annotator.o
g++ -m32 -I"D:/biocbld/BBS-3˜1.2-B/R/include" -DNDEBUG     -I"d:/RCompile/r-compiling/local/local320/include"     -O2 -Wall  -mtune=core2 -c best_in_cluster.cpp -o best_in_cluster.o
g++ -m32 -I"D:/biocbld/BBS-3˜1.2-B/R/include" -DNDEBUG     -I"d:/RCompile/r-compiling/local/local320/include"     -O2 -Wall  -mtune=core2 -c check_bimodality.cpp -o check_bimodality.o
g++ -m32 -I"D:/biocbld/BBS-3˜1.2-B/R/include" -DNDEBUG     -I"d:/RCompile/r-compiling/local/local320/include"     -O2 -Wall  -mtune=core2 -c correlate_reads.cpp -o correlate_reads.o
g++ -m32 -I"D:/biocbld/BBS-3˜1.2-B/R/include" -DNDEBUG     -I"d:/RCompile/r-compiling/local/local320/include"     -O2 -Wall  -mtune=core2 -c find_maxima.cpp -o find_maxima.o
find_maxima.cpp: In function 'SEXPREC* find_maxima(SEXP, SEXP, SEXP, SEXP, SEXP)':
find_maxima.cpp:90:4: warning: 'is_max' may be used uninitialized in this function [-Wuninitialized]
g++ -m32 -I"D:/biocbld/BBS-3˜1.2-B/R/include" -DNDEBUG     -I"d:/RCompile/r-compiling/local/local320/include"     -O2 -Wall  -mtune=core2 -c get_cluster_stats.cpp -o get_cluster_stats.o
g++ -m32 -I"D:/biocbld/BBS-3˜1.2-B/R/include" -DNDEBUG     -I"d:/RCompile/r-compiling/local/local320/include"     -O2 -Wall  -mtune=core2 -c get_profile.cpp -o get_profile.o
g++ -m32 -I"D:/biocbld/BBS-3˜1.2-B/R/include" -DNDEBUG     -I"d:/RCompile/r-compiling/local/local320/include"     -O2 -Wall  -mtune=core2 -c get_rle_counts.cpp -o get_rle_counts.o
g++ -m32 -I"D:/biocbld/BBS-3˜1.2-B/R/include" -DNDEBUG     -I"d:/RCompile/r-compiling/local/local320/include"     -O2 -Wall  -mtune=core2 -c init.cpp -o init.o
g++ -m32 -I"D:/biocbld/BBS-3˜1.2-B/R/include" -DNDEBUG     -I"d:/RCompile/r-compiling/local/local320/include"     -O2 -Wall  -mtune=core2 -c merge_windows.cpp -o merge_windows.o
g++ -m32 -shared -s -static-libgcc -o csaw.dll tmp.def annotator.o best_in_cluster.o check_bimodality.o correlate_reads.o find_maxima.o get_cluster_stats.o get_profile.o get_rle_counts.o init.o merge_windows.o -Ld:/RCompile/r-compiling/local/local320/lib/i386 -Ld:/RCompile/r-compiling/local/local320/lib -LD:/biocbld/BBS-3˜1.2-B/R/bin/i386 -lR
installing to D:/biocbld/bbs-3.2-bioc/R/library/csaw/libs/i386
** R
** inst
** preparing package for lazy loading
** help
*** installing help indices
** building package indices
** installing vignettes
   'csaw.Rnw' 
** testing if installed package can be loaded
install for x64
* installing to library 'D:/biocbld/bbs-3.2-bioc/R/library'
* installing *source* package 'csaw' ...
** libs
g++ -m64 -I"D:/biocbld/BBS-3˜1.2-B/R/include" -DNDEBUG     -I"d:/RCompile/r-compiling/local/local320/include"     -O2 -Wall  -mtune=core2 -c annotator.cpp -o annotator.o
g++ -m64 -I"D:/biocbld/BBS-3˜1.2-B/R/include" -DNDEBUG     -I"d:/RCompile/r-compiling/local/local320/include"     -O2 -Wall  -mtune=core2 -c best_in_cluster.cpp -o best_in_cluster.o
g++ -m64 -I"D:/biocbld/BBS-3˜1.2-B/R/include" -DNDEBUG     -I"d:/RCompile/r-compiling/local/local320/include"     -O2 -Wall  -mtune=core2 -c check_bimodality.cpp -o check_bimodality.o
g++ -m64 -I"D:/biocbld/BBS-3˜1.2-B/R/include" -DNDEBUG     -I"d:/RCompile/r-compiling/local/local320/include"     -O2 -Wall  -mtune=core2 -c correlate_reads.cpp -o correlate_reads.o
g++ -m64 -I"D:/biocbld/BBS-3˜1.2-B/R/include" -DNDEBUG     -I"d:/RCompile/r-compiling/local/local320/include"     -O2 -Wall  -mtune=core2 -c find_maxima.cpp -o find_maxima.o
find_maxima.cpp: In function 'SEXPREC* find_maxima(SEXP, SEXP, SEXP, SEXP, SEXP)':
find_maxima.cpp:90:4: warning: 'is_max' may be used uninitialized in this function [-Wuninitialized]
g++ -m64 -I"D:/biocbld/BBS-3˜1.2-B/R/include" -DNDEBUG     -I"d:/RCompile/r-compiling/local/local320/include"     -O2 -Wall  -mtune=core2 -c get_cluster_stats.cpp -o get_cluster_stats.o
g++ -m64 -I"D:/biocbld/BBS-3˜1.2-B/R/include" -DNDEBUG     -I"d:/RCompile/r-compiling/local/local320/include"     -O2 -Wall  -mtune=core2 -c get_profile.cpp -o get_profile.o
g++ -m64 -I"D:/biocbld/BBS-3˜1.2-B/R/include" -DNDEBUG     -I"d:/RCompile/r-compiling/local/local320/include"     -O2 -Wall  -mtune=core2 -c get_rle_counts.cpp -o get_rle_counts.o
g++ -m64 -I"D:/biocbld/BBS-3˜1.2-B/R/include" -DNDEBUG     -I"d:/RCompile/r-compiling/local/local320/include"     -O2 -Wall  -mtune=core2 -c init.cpp -o init.o
g++ -m64 -I"D:/biocbld/BBS-3˜1.2-B/R/include" -DNDEBUG     -I"d:/RCompile/r-compiling/local/local320/include"     -O2 -Wall  -mtune=core2 -c merge_windows.cpp -o merge_windows.o
g++ -m64 -shared -s -static-libgcc -o csaw.dll tmp.def annotator.o best_in_cluster.o check_bimodality.o correlate_reads.o find_maxima.o get_cluster_stats.o get_profile.o get_rle_counts.o init.o merge_windows.o -Ld:/RCompile/r-compiling/local/local320/lib/x64 -Ld:/RCompile/r-compiling/local/local320/lib -LD:/biocbld/BBS-3˜1.2-B/R/bin/x64 -lR
installing to D:/biocbld/bbs-3.2-bioc/R/library/csaw/libs/x64
** testing if installed package can be loaded
* DONE (csaw)