Back to the "Multiple platform build/check report" A  B [C] D  E  F  G  H  I  J  K  L  M  N  O  P  Q  R  S  T  U  V  W  X  Y  Z 

BioC 3.2: CHECK report for cleanUpdTSeq on linux1.bioconductor.org

This page was generated on 2015-10-27 17:25:59 -0400 (Tue, 27 Oct 2015).

Package 178/1104HostnameOS / ArchINSTALLBUILDCHECKBUILD BIN
cleanUpdTSeq 1.8.0
Sarah Sheppard ; Jianhong Ou ; Lihua Julie Zhu
Snapshot Date: 2015-10-26 19:24:07 -0400 (Mon, 26 Oct 2015)
URL: https://hedgehog.fhcrc.org/bioconductor/branches/RELEASE_3_2/madman/Rpacks/cleanUpdTSeq
Last Changed Rev: 109589 / Revision: 109947
Last Changed Date: 2015-10-13 15:36:05 -0400 (Tue, 13 Oct 2015)
linux1.bioconductor.org Linux (Ubuntu 14.04.2 LTS) / x86_64  OK  OK [ OK ]UNNEEDED, same version exists in internal repository
windows1.bioconductor.org Windows Server 2012 R2 Enterprise SP1 (64-bit) / x64  OK  OK  OK  OK UNNEEDED, same version exists in internal repository
perceval Mac OS X Snow Leopard (10.6.8) / x86_64  OK  OK  OK  OK UNNEEDED, same version exists in internal repository
oaxaca Mac OS X Mavericks (10.9.5) / x86_64  OK  OK  OK  OK UNNEEDED, same version exists in internal repository

Summary

Package: cleanUpdTSeq
Version: 1.8.0
Command: /home/biocbuild/bbs-3.2-bioc/R/bin/R CMD check --no-vignettes --timings cleanUpdTSeq_1.8.0.tar.gz
StartedAt: 2015-10-27 02:06:58 -0400 (Tue, 27 Oct 2015)
EndedAt: 2015-10-27 02:10:47 -0400 (Tue, 27 Oct 2015)
EllapsedTime: 229.1 seconds
RetCode: 0
Status:  OK 
CheckDir: cleanUpdTSeq.Rcheck
Warnings: 0

Command output

##############################################################################
##############################################################################
###
### Running command:
###
###   /home/biocbuild/bbs-3.2-bioc/R/bin/R CMD check --no-vignettes --timings cleanUpdTSeq_1.8.0.tar.gz
###
##############################################################################
##############################################################################


* using log directory ‘/home/biocbuild/bbs-3.2-bioc/meat/cleanUpdTSeq.Rcheck’
* using R version 3.2.2 (2015-08-14)
* using platform: x86_64-pc-linux-gnu (64-bit)
* using session charset: UTF-8
* using option ‘--no-vignettes’
* checking for file ‘cleanUpdTSeq/DESCRIPTION’ ... OK
* checking extension type ... Package
* this is package ‘cleanUpdTSeq’ version ‘1.8.0’
* checking package namespace information ... OK
* checking package dependencies ... NOTE
Depends: includes the non-default packages:
  ‘BiocGenerics’ ‘BSgenome’ ‘BSgenome.Drerio.UCSC.danRer7’
  ‘GenomicRanges’ ‘seqinr’ ‘e1071’
Adding so many packages to the search path is excessive and importing
selectively is preferable.
* checking if this is a source package ... OK
* checking if there is a namespace ... OK
* checking for hidden files and directories ... OK
* checking for portable file names ... OK
* checking for sufficient/correct file permissions ... OK
* checking whether package ‘cleanUpdTSeq’ can be installed ... [14s/14s] OK
* checking installed package size ... OK
* checking package directory ... OK
* checking ‘build’ directory ... OK
* checking DESCRIPTION meta-information ... OK
* checking top-level files ... OK
* checking for left-over files ... OK
* checking index information ... OK
* checking package subdirectories ... OK
* checking R files for non-ASCII characters ... OK
* checking R files for syntax errors ... OK
* checking whether the package can be loaded ... OK
* checking whether the package can be loaded with stated dependencies ... OK
* checking whether the package can be unloaded cleanly ... OK
* checking whether the namespace can be loaded with stated dependencies ... OK
* checking whether the namespace can be unloaded cleanly ... OK
* checking dependencies in R code ... OK
* checking S3 generic/method consistency ... OK
* checking replacement functions ... OK
* checking foreign function calls ... OK
* checking R code for possible problems ... NOTE
BED2GRangesSeq: no visible global function definition for ‘IRanges’
getDownstreamSequence: no visible global function definition for
  ‘IRanges’
getDownstreamSequence: no visible global function definition for
  ‘seqlengths’
getUpstreamSequence: no visible global function definition for
  ‘IRanges’
getUpstreamSequence: no visible global function definition for
  ‘seqlengths’
* checking Rd files ... OK
* checking Rd metadata ... OK
* checking Rd cross-references ... OK
* checking for missing documentation entries ... OK
* checking for code/documentation mismatches ... OK
* checking Rd \usage sections ... OK
* checking Rd contents ... OK
* checking for unstated dependencies in examples ... OK
* checking contents of ‘data’ directory ... OK
* checking data for non-ASCII characters ... OK
* checking data for ASCII and uncompressed saves ... OK
* checking installed files from ‘inst/doc’ ... OK
* checking files in ‘vignettes’ ... OK
* checking examples ... [48s/48s] OK
Examples with CPU or elapsed time > 5s
                  user system elapsed
predictTestSet  18.954  0.079  19.050
data.NaiveBayes 17.777  0.248  18.032
* checking for unstated dependencies in ‘tests’ ... OK
* checking tests ...
  Running ‘runTests.R’ [19s/19s]
 [19s/19s] OK
* checking for unstated dependencies in vignettes ... OK
* checking package vignettes in ‘inst/doc’ ... OK
* checking running R code from vignettes ... SKIPPED
* checking re-building of vignette outputs ... SKIPPED
* checking PDF version of manual ... OK
* DONE

Status: 2 NOTEs
See
  ‘/home/biocbuild/bbs-3.2-bioc/meat/cleanUpdTSeq.Rcheck/00check.log’
for details.


cleanUpdTSeq.Rcheck/00install.out:

* installing *source* package ‘cleanUpdTSeq’ ...
** R
** data
** inst
** preparing package for lazy loading
** help
*** installing help indices
** building package indices
** installing vignettes
** testing if installed package can be loaded
* DONE (cleanUpdTSeq)

cleanUpdTSeq.Rcheck/cleanUpdTSeq-Ex.timings:

nameusersystemelapsed
BED2GRangesSeq0.0250.0000.026
PASclassifier-class0.0370.0000.037
buildClassifier0.0010.0000.000
buildFeatureVector4.2380.0084.246
classifier0.0350.0000.036
cleanUpdTSeq-package0.0030.0000.003
data.NaiveBayes17.777 0.24818.032
getDownstreamSequence0.1960.0030.200
getUpstreamSequence0.2650.0000.265
predictTestSet18.954 0.07919.050