Back to the "Multiple platform build/check report" A  B [C] D  E  F  G  H  I  J  K  L  M  N  O  P  Q  R  S  T  U  V  W  X  Y  Z 

BioC 3.2: CHECK report for chimera on perceval

This page was generated on 2015-10-27 17:35:27 -0400 (Tue, 27 Oct 2015).

Package 162/1104HostnameOS / ArchINSTALLBUILDCHECKBUILD BIN
chimera 1.12.0
Raffaele A Calogero
Snapshot Date: 2015-10-26 19:24:07 -0400 (Mon, 26 Oct 2015)
URL: https://hedgehog.fhcrc.org/bioconductor/branches/RELEASE_3_2/madman/Rpacks/chimera
Last Changed Rev: 109589 / Revision: 109947
Last Changed Date: 2015-10-13 15:36:05 -0400 (Tue, 13 Oct 2015)
linux1.bioconductor.org Linux (Ubuntu 14.04.2 LTS) / x86_64  OK  OK  OK UNNEEDED, same version exists in internal repository
windows1.bioconductor.org Windows Server 2012 R2 Enterprise SP1 (64-bit) / x64  OK  OK  OK  OK UNNEEDED, same version exists in internal repository
perceval Mac OS X Snow Leopard (10.6.8) / x86_64  OK  OK [ OK ] OK UNNEEDED, same version exists in internal repository
oaxaca Mac OS X Mavericks (10.9.5) / x86_64  OK  OK  OK  OK UNNEEDED, same version exists in internal repository

Summary

Package: chimera
Version: 1.12.0
Command: /Library/Frameworks/R.framework/Versions/Current/Resources/bin/R CMD check --no-vignettes --timings chimera_1.12.0.tar.gz
StartedAt: 2015-10-27 06:14:44 -0400 (Tue, 27 Oct 2015)
EndedAt: 2015-10-27 06:21:50 -0400 (Tue, 27 Oct 2015)
EllapsedTime: 426.0 seconds
RetCode: 0
Status:  OK 
CheckDir: chimera.Rcheck
Warnings: 0

Command output

##############################################################################
##############################################################################
###
### Running command:
###
###   /Library/Frameworks/R.framework/Versions/Current/Resources/bin/R CMD check --no-vignettes --timings chimera_1.12.0.tar.gz
###
##############################################################################
##############################################################################


* using log directory ‘/Users/biocbuild/bbs-3.2-bioc/meat/chimera.Rcheck’
* using R version 3.2.2 Patched (2015-10-08 r69496)
* using platform: x86_64-apple-darwin10.8.0 (64-bit)
* using session charset: UTF-8
* using option ‘--no-vignettes’
* checking for file ‘chimera/DESCRIPTION’ ... OK
* checking extension type ... Package
* this is package ‘chimera’ version ‘1.12.0’
* checking package namespace information ... OK
* checking package dependencies ... NOTE
Depends: includes the non-default packages:
  ‘Biobase’ ‘GenomicRanges’ ‘Rsamtools’ ‘GenomicAlignments’
  ‘AnnotationDbi’ ‘BSgenome.Hsapiens.UCSC.hg19’
  ‘TxDb.Hsapiens.UCSC.hg19.knownGene’ ‘Homo.sapiens’
Adding so many packages to the search path is excessive and importing
selectively is preferable.
* checking if this is a source package ... OK
* checking if there is a namespace ... OK
* checking for hidden files and directories ... OK
* checking for portable file names ... OK
* checking for sufficient/correct file permissions ... OK
* checking whether package ‘chimera’ can be installed ... [28s/28s] OK
* checking installed package size ... NOTE
  installed size is  6.3Mb
  sub-directories of 1Mb or more:
    examples   5.7Mb
* checking package directory ... OK
* checking ‘build’ directory ... OK
* checking DESCRIPTION meta-information ... OK
* checking top-level files ... OK
* checking for left-over files ... OK
* checking index information ... OK
* checking package subdirectories ... OK
* checking R files for non-ASCII characters ... OK
* checking R files for syntax errors ... OK
* checking whether the package can be loaded ... OK
* checking whether the package can be loaded with stated dependencies ... OK
* checking whether the package can be unloaded cleanly ... OK
* checking whether the namespace can be loaded with stated dependencies ... OK
* checking whether the namespace can be unloaded cleanly ... OK
* checking dependencies in R code ... NOTE
'library' or 'require' calls in package code:
  ‘BiocParallel’ ‘BSgenome.Hsapiens.NCBI.GRCh38’
  ‘BSgenome.Mmusculus.UCSC.mm10’ ‘BSgenome.Mmusculus.UCSC.mm9’
  ‘Mus.musculus’ ‘Rsubread’ ‘TxDb.Hsapiens.UCSC.hg38.knownGene’
  ‘TxDb.Mmusculus.UCSC.mm10.knownGene’
  ‘TxDb.Mmusculus.UCSC.mm9.knownGene’
  Please use :: or requireNamespace() instead.
  See section 'Suggested packages' in the 'Writing R Extensions' manual.
* checking S3 generic/method consistency ... OK
* checking replacement functions ... OK
* checking foreign function calls ... OK
* checking R code for possible problems ... NOTE
Loading required package: DBI


.bfImport: no visible global function definition for ‘IRanges’
.buildFusion: no visible global function definition for ‘exons’
.buildFusion: no visible global function definition for ‘IRanges’
.buildFusion: no visible global function definition for ‘DNAString’
.csImport: no visible global function definition for ‘IRanges’
.detectIntronic: no visible binding for global variable
  ‘org.Hs.egSYMBOL’
.detectIntronic: no visible global function definition for
  ‘transcripts’
.dfImport: no visible global function definition for ‘IRanges’
.fcImport: no visible global function definition for ‘IRanges’
.ffImport: no visible global function definition for ‘IRanges’
.fhImport: no visible global function definition for ‘IRanges’
.fmImport: no visible global function definition for ‘IRanges’
.geneLevelAnnotation: no visible global function definition for ‘genes’
.geneLevelAnnotation: no visible global function definition for
  ‘select’
.geneLevelAnnotation: no visible binding for global variable
  ‘TxDb.Mmusculus.UCSC.mm9.knownGene’
.geneLevelAnnotation: no visible binding for global variable
  ‘Mus.musculus’
.geneLevelAnnotation: no visible binding for global variable
  ‘TxDb.Mmusculus.UCSC.mm10.knownGene’
.geneLevelAnnotation: no visible binding for global variable
  ‘TxDb.Hsapiens.UCSC.hg38.knownGene’
.gfWrap: no visible global function definition for ‘writeXStringSet’
.msImport: no visible global function definition for ‘IRanges’
.onlyExons: no visible global function definition for ‘exons’
.rsImport: no visible global function definition for ‘MulticoreParam’
.rsImport : .fusionInfo: no visible global function definition for
  ‘IRanges’
.rsImport : .fusionInfo: no visible binding for global variable
  ‘BSgenome.Hsapiens.NCBI.GRCh38’
.rsImport : .fusionInfo: no visible global function definition for
  ‘seqlevelsStyle<-’
.rsImport: no visible global function definition for ‘bplapply’
.starImport: no visible global function definition for ‘IRanges’
.thfImport: no visible global function definition for ‘IRanges’
.thfPostImport: no visible global function definition for ‘IRanges’
bam2fastq: no visible global function definition for ‘MulticoreParam’
bam2fastq: no visible global function definition for ‘bplapply’
breakpointOverlaps: no visible global function definition for ‘IRanges’
breakpointOverlaps: no visible global function definition for
  ‘seqlengths<-’
breakpointOverlaps: no visible global function definition for
  ‘seqlengths’
chimeraSeqs: no visible binding for global variable ‘org.Hs.egSYMBOL’
chimeraSeqs: no visible global function definition for ‘transcripts’
chimeraSeqs: no visible global function definition for ‘DNAStringSet’
chimeraSeqSet: no visible global function definition for
  ‘MulticoreParam’
chimeraSeqSet: no visible global function definition for ‘bplapply’
chimeraSeqSet : <anonymous>: no visible global function definition for
  ‘DNAStringSet’
defuseTPTN : .my.newfset: no visible global function definition for
  ‘IRanges’
defuseTPTN : .my.newfset: no visible global function definition for
  ‘DNAStringSet’
filterList: no visible global function definition for ‘MulticoreParam’
filterList: no visible global function definition for ‘bplapply’
fusionName: no visible global function definition for ‘MulticoreParam’
fusionName: no visible global function definition for ‘bplapply’
fusionPeptides: no visible binding for global variable
  ‘org.Hs.egUCSCKG’
fusionPeptides: no visible binding for global variable
  ‘org.Hs.egSYMBOL’
fusionPeptides: no visible global function definition for ‘cdsBy’
fusionPeptides: no visible global function definition for
  ‘extractTranscriptSeqs’
fusionPeptides: no visible global function definition for ‘translate’
fusionPeptides: no visible global function definition for ‘AAStringSet’
fusionPeptides : <anonymous>: no visible global function definition for
  ‘pairwiseAlignment’
fusionPeptides: no visible global function definition for ‘pattern’
fusionPeptides: no visible global function definition for
  ‘matchPattern’
gapfillerRun: no visible global function definition for
  ‘readDNAStringSet’
gapfillerRun: no visible global function definition for
  ‘pairwiseAlignment’
gapfillerRun: no visible global function definition for ‘Views’
gapfillerRun: no visible global function definition for ‘DNAStringSet’
gapfillerWrap: no visible global function definition for
  ‘MulticoreParam’
gapfillerWrap: no visible global function definition for ‘bplapply’
newfSet: no visible global function definition for ‘DNAStringSet’
plotCoverage: no visible binding for global variable ‘org.Hs.egSYMBOL’
plotCoverage: no visible global function definition for ‘transcripts’
plotCoverage: no visible global function definition for ‘exons’
plotCoverage: no visible global function definition for ‘IRanges’
starReads: no visible global function definition for ‘MulticoreParam’
starReads: no visible global function definition for ‘IRanges’
subreadRun: no visible global function definition for ‘bowtie_build’
subreadRun: no visible global function definition for ‘bowtie’
supportingReads: no visible global function definition for
  ‘MulticoreParam’
supportingReads: no visible global function definition for ‘bplapply’
* checking Rd files ... OK
* checking Rd metadata ... OK
* checking Rd cross-references ... OK
* checking for missing documentation entries ... OK
* checking for code/documentation mismatches ... OK
* checking Rd \usage sections ... OK
* checking Rd contents ... OK
* checking for unstated dependencies in examples ... OK
* checking line endings in C/C++/Fortran sources/headers ... OK
* checking compiled code ... OK
* checking sizes of PDF files under ‘inst/doc’ ... OK
* checking installed files from ‘inst/doc’ ... OK
* checking files in ‘vignettes’ ... OK
* checking examples ... [172s/172s] OK
Examples with CPU or elapsed time > 5s
                 user system elapsed
fusionPeptides 62.602  1.052  63.687
plotCoverage   16.326  0.202  16.614
chimeraSeqSet  15.845  0.206  16.082
chimeraSeqs     9.136  0.094   9.263
class.fSet      8.508  0.110   8.619
subreadRun      3.001  4.741   7.975
defuseTPTN      7.292  0.003   7.295
filterList      5.678  0.080   5.758
fusionName      5.426  0.075   5.502
* checking for unstated dependencies in vignettes ... NOTE
'library' or 'require' call not declared from: ‘xtable’
* checking package vignettes in ‘inst/doc’ ... OK
* checking running R code from vignettes ... SKIPPED
* checking re-building of vignette outputs ... SKIPPED
* checking PDF version of manual ... OK
* DONE

Status: 5 NOTEs
See
  ‘/Users/biocbuild/bbs-3.2-bioc/meat/chimera.Rcheck/00check.log’
for details.


chimera.Rcheck/00install.out:

* installing *source* package ‘chimera’ ...
** libs
llvm-g++-4.2 -arch x86_64 -I/Library/Frameworks/R.framework/Resources/include -DNDEBUG  -I/usr/local/include    -fPIC  -mtune=core2 -g -O2 -Wall  -c StarParser.cpp -o StarParser.o
llvm-g++-4.2 -arch x86_64 -dynamiclib -Wl,-headerpad_max_install_names -undefined dynamic_lookup -single_module -multiply_defined suppress -L/Library/Frameworks/R.framework/Resources/lib -L/usr/local/lib -L/usr/local/lib -o chimera.so StarParser.o -F/Library/Frameworks/R.framework/.. -framework R -Wl,-framework -Wl,CoreFoundation
installing to /Users/biocbuild/bbs-3.2-bioc/meat/chimera.Rcheck/chimera/libs
** R
** inst
** preparing package for lazy loading
Now getting the GODb Object directly
Now getting the OrgDb Object directly
Now getting the TxDb Object directly
** help
*** installing help indices
** building package indices
** installing vignettes
** testing if installed package can be loaded
Now getting the GODb Object directly
Now getting the OrgDb Object directly
Now getting the TxDb Object directly
* DONE (chimera)

chimera.Rcheck/chimera-Ex.timings:

nameusersystemelapsed
MHmakeRandomString0.0020.0000.001
bam2fastq0.0000.0000.001
breakpointOverlaps3.5190.0963.645
chimeraSeqSet15.845 0.20616.082
chimeraSeqs9.1360.0949.263
class.fSet8.5080.1108.619
defuseTPTN7.2920.0037.295
filterList5.6780.0805.758
filterSamReads000
fusionName5.4260.0755.502
fusionPeptides62.602 1.05263.687
gapfillerInstallation0.0010.0000.000
gapfillerRun0.0010.0000.001
gapfillerWrap0.0010.0000.000
importFusionData4.7050.1274.832
is.fSet4.6910.1174.809
newfSet0.0450.0010.045
oncofuseInstallation0.0010.0000.000
oncofuseRun0.0010.0000.001
picardInstallation000
plotCoverage16.326 0.20216.614
prettyPrint0.0010.0000.001
removingErrorLine0.0010.0010.001
starInstallation0.0010.0000.001
starReads0.0010.0000.000
starRun0.0010.0010.000
subreadRun3.0014.7417.975
supportingReads4.4590.1324.590
tophatInstallation0.0010.0000.000
tophatRun0.0010.0000.000
validateSamFile0.0010.0000.001