Back to the "Multiple platform build/check report" A [B] C  D  E  F  G  H  I  J  K  L  M  N  O  P  Q  R  S  T  U  V  W  X  Y  Z 

BioC 3.2: BUILD BIN report for bsseq on moscato1

This page was generated on 2015-08-20 13:20:57 -0700 (Thu, 20 Aug 2015).

Package 123/1069HostnameOS / ArchINSTALLBUILDCHECKBUILD BIN
bsseq 1.5.5
Kasper Daniel Hansen
Snapshot Date: 2015-08-19 16:24:33 -0700 (Wed, 19 Aug 2015)
URL: https://hedgehog.fhcrc.org/bioconductor/trunk/madman/Rpacks/bsseq
Last Changed Rev: 106952 / Revision: 107602
Last Changed Date: 2015-07-31 08:56:54 -0700 (Fri, 31 Jul 2015)
zin1 Linux (Ubuntu 14.04.2 LTS) / x86_64  OK  OK  OK UNNEEDED, same version exists in internal repository
moscato1 Windows Server 2008 R2 Enterprise SP1 (64-bit) / x64  OK  OK  OK [ OK ]UNNEEDED, same version exists in internal repository
perceval Mac OS X Snow Leopard (10.6.8) / x86_64  OK  OK  OK  OK UNNEEDED, same version exists in internal repository
oaxaca Mac OS X Mavericks (10.9.5) / x86_64  OK  OK  OK  OK UNNEEDED, same version exists in internal repository

Summary

Package: bsseq
Version: 1.5.5
Command: cd bsseq.buildbin-libdir/bsseq && zip -r ../../bsseq_1.5.5.zip . & cd ../..
StartedAt: 2015-08-20 12:07:51 -0700 (Thu, 20 Aug 2015)
EndedAt: 2015-08-20 12:08:11 -0700 (Thu, 20 Aug 2015)
EllapsedTime: 19.5 seconds
RetCode: 0
Status:  OK  
PackageFile: bsseq_1.5.5.zip
PackageFileSize: 10.83 MiB

Command output

##############################################################################
##############################################################################
###
### Running command:
###
###   cd bsseq.buildbin-libdir/bsseq && zip -r ../../bsseq_1.5.5.zip . & cd ../..
###
##############################################################################
##############################################################################


  adding: CITATION (188 bytes security) (deflated 50%)
  adding: data/ (256 bytes security) (stored 0%)
  adding: data/datalist (188 bytes security) (stored 0%)
  adding: data/Rdata.rdb (188 bytes security) (deflated 2%)
  adding: data/Rdata.rds (188 bytes security) (deflated 1%)
  adding: data/Rdata.rdx (188 bytes security) (stored 0%)
  adding: DESCRIPTION (188 bytes security) (deflated 46%)
  adding: doc/ (256 bytes security) (stored 0%)
  adding: doc/bsseq.pdf (188 bytes security) (deflated 12%)
  adding: doc/bsseq.R (188 bytes security) (deflated 81%)
  adding: doc/bsseq.Rnw (188 bytes security) (deflated 63%)
  adding: doc/bsseq_analysis.pdf (188 bytes security) (deflated 10%)
  adding: doc/bsseq_analysis.R (188 bytes security) (deflated 77%)
  adding: doc/bsseq_analysis.Rnw (188 bytes security) (deflated 61%)
  adding: doc/index.html (188 bytes security) (deflated 66%)
  adding: extdata/ (256 bytes security) (stored 0%)
  adding: extdata/test_data.cytosineReport.gz (188 bytes security) (stored 0%)
  adding: extdata/test_data.fastq_bismark.bismark.cov.gz (188 bytes security) (deflated 0%)
  adding: help/ (256 bytes security) (stored 0%)
  adding: help/aliases.rds (188 bytes security) (stored 0%)
  adding: help/AnIndex (188 bytes security) (deflated 79%)
  adding: help/bsseq.rdb (188 bytes security) (deflated 1%)
  adding: help/bsseq.rdx (188 bytes security) (stored 0%)
  adding: help/paths.rds (188 bytes security) (stored 0%)
  adding: html/ (256 bytes security) (stored 0%)
  adding: html/00Index.html (188 bytes security) (deflated 84%)
  adding: html/R.css (188 bytes security) (deflated 75%)
  adding: INDEX (188 bytes security) (deflated 64%)
  adding: MD5 (188 bytes security) (deflated 44%)
  adding: Meta/ (256 bytes security) (stored 0%)
  adding: Meta/data.rds (188 bytes security) (stored 0%)
  adding: Meta/hsearch.rds (188 bytes security) (stored 0%)
  adding: Meta/links.rds (188 bytes security) (stored 0%)
  adding: Meta/nsInfo.rds (188 bytes security) (stored 0%)
  adding: Meta/package.rds (188 bytes security) (stored 0%)
  adding: Meta/Rd.rds (188 bytes security) (stored 0%)
  adding: Meta/vignette.rds (188 bytes security) (stored 0%)
  adding: NAMESPACE (188 bytes security) (deflated 65%)
  adding: NEWS.Rd (188 bytes security) (deflated 58%)
  adding: R/ (256 bytes security) (stored 0%)
  adding: R/bsseq (188 bytes security) (deflated 41%)
  adding: R/bsseq.rdb (188 bytes security) (deflated 28%)
  adding: R/bsseq.rdx (188 bytes security) (stored 0%)
  adding: scripts/ (256 bytes security) (stored 0%)
  adding: scripts/get_BS.chr22.R (188 bytes security) (deflated 61%)
  adding: unitTests/ (256 bytes security) (stored 0%)
  adding: unitTests/test_base.R (188 bytes security) (deflated 75%)
  adding: unitTests/test_perm.R (188 bytes security) (deflated 87%)
  adding: unitTests/test_read.bismark.R (188 bytes security) (deflated 80%)