| ballgown 2.1.1 Alyssa Frazee
 
 | Snapshot Date: 2015-08-23 16:24:14 -0700 (Sun, 23 Aug 2015) |  | URL: https://hedgehog.fhcrc.org/bioconductor/trunk/madman/Rpacks/ballgown |  | Last Changed Rev: 105646 / Revision: 107696 |  | Last Changed Date: 2015-06-29 21:29:06 -0700 (Mon, 29 Jun 2015) | 
 | zin1 | Linux (Ubuntu 14.04.2 LTS) / x86_64 | OK | [ OK ] | OK |  |  | 
| perceval | Mac OS X Snow Leopard (10.6.8) / x86_64 | OK | OK | OK | OK |  | 
| oaxaca | Mac OS X Mavericks (10.9.5) / x86_64 | OK | OK | OK | OK |  | 
##############################################################################
##############################################################################
###
### Running command:
###
###   /home/biocbuild/bbs-3.2-bioc/R/bin/R CMD build --keep-empty-dirs --no-resave-data ballgown
###
##############################################################################
##############################################################################
* checking for file ‘ballgown/DESCRIPTION’ ... OK
* preparing ‘ballgown’:
* checking DESCRIPTION meta-information ... OK
* installing the package to build vignettes
* creating vignettes ... OK
* checking for LF line-endings in source and make files
* checking for empty or unneeded directories
WARNING: directory ‘ballgown/tablemaker/tablemaker-2.1.1/build-aux’ is empty
WARNING: directory ‘ballgown/tablemaker/tablemaker-2.1.1/src/lemon/bits’ is empty
WARNING: directory ‘ballgown/tablemaker/tablemaker-2.1.1/src/lemon/concepts’ is empty
WARNING: directory ‘ballgown/tablemaker/tablemaker-2.1.1/src/locfit’ is empty
* looking to see if a ‘data/datalist’ file should be added
* building ‘ballgown_2.1.1.tar.gz’