| aroma.light 3.0.0 Henrik Bengtsson
 
 | Snapshot Date: 2015-10-26 19:24:07 -0400 (Mon, 26 Oct 2015) |  | URL: https://hedgehog.fhcrc.org/bioconductor/branches/RELEASE_3_2/madman/Rpacks/aroma.light |  | Last Changed Rev: 109589 / Revision: 109947 |  | Last Changed Date: 2015-10-13 15:36:05 -0400 (Tue, 13 Oct 2015) | 
 | linux1.bioconductor.org | Linux (Ubuntu 14.04.2 LTS) / x86_64 | OK | OK | OK |  |  | 
| windows1.bioconductor.org | Windows Server 2012 R2 Enterprise SP1 (64-bit) / x64 | OK | OK | OK | [ OK ] |  | 
| perceval | Mac OS X Snow Leopard (10.6.8) / x86_64 | OK | OK | OK | OK |  | 
| oaxaca | Mac OS X Mavericks (10.9.5) / x86_64 | OK | OK | OK | OK |  | 
##############################################################################
##############################################################################
###
### Running command:
###
###   cd aroma.light.buildbin-libdir/aroma.light && zip -r ../../aroma.light_3.0.0.zip . & cd ../..
###
##############################################################################
##############################################################################
  adding: CITATION (188 bytes security) (deflated 80%)
  adding: data-ex/ (208 bytes security) (stored 0%)
  adding: data-ex/PMT-RGData.dat (188 bytes security) (deflated 64%)
  adding: data-ex/TumorBoost,fracB,exampleData.Rbin (188 bytes security) (deflated 0%)
  adding: DESCRIPTION (188 bytes security) (deflated 45%)
  adding: help/ (208 bytes security) (stored 0%)
  adding: help/aliases.rds (188 bytes security) (stored 0%)
  adding: help/AnIndex (188 bytes security) (deflated 81%)
  adding: help/aroma.light.rdb (188 bytes security) (deflated 0%)
  adding: help/aroma.light.rdx (188 bytes security) (stored 0%)
  adding: help/paths.rds (188 bytes security) (stored 0%)
  adding: html/ (208 bytes security) (stored 0%)
  adding: html/00Index.html (188 bytes security) (deflated 86%)
  adding: html/R.css (188 bytes security) (deflated 75%)
  adding: INDEX (188 bytes security) (deflated 69%)
  adding: MD5 (188 bytes security) (deflated 51%)
  adding: Meta/ (208 bytes security) (stored 0%)
  adding: Meta/hsearch.rds (188 bytes security) (stored 0%)
  adding: Meta/links.rds (188 bytes security) (stored 0%)
  adding: Meta/nsInfo.rds (188 bytes security) (stored 0%)
  adding: Meta/package.rds (188 bytes security) (stored 0%)
  adding: Meta/Rd.rds (188 bytes security) (stored 0%)
  adding: NAMESPACE (188 bytes security) (deflated 76%)
  adding: NEWS (188 bytes security) (deflated 68%)
  adding: R/ (208 bytes security) (stored 0%)
  adding: R/aroma.light (188 bytes security) (deflated 41%)
  adding: R/aroma.light.rdb (188 bytes security) (deflated 8%)
  adding: R/aroma.light.rdx (188 bytes security) (stored 0%)
  adding: rsp/ (208 bytes security) (stored 0%)
  adding: rsp/.rspPlugins (188 bytes security) (deflated 21%)
  adding: rsp/AffineNormalization/ (208 bytes security) (stored 0%)
  adding: rsp/AffineNormalization/AffineNormalization.html.rsp (188 bytes security) (deflated 66%)
  adding: rsp/bgcorrection.html.rsp (188 bytes security) (deflated 60%)
  adding: rsp/figures/ (208 bytes security) (stored 0%)
  adding: rsp/figures/CalibrateMultiscan-GreenChannel-after.png (188 bytes security) (deflated 4%)
  adding: rsp/figures/CalibrateMultiscan-GreenChannel-before.png (188 bytes security) (deflated 6%)
  adding: rsp/figures/CalibrateMultiscan-RedChannel-after.png (188 bytes security) (deflated 4%)
  adding: rsp/figures/CalibrateMultiscan-RedChannel-before.png (188 bytes security) (deflated 6%)
  adding: rsp/figures/NormalizeAffine-after.png (188 bytes security) (deflated 4%)
  adding: rsp/figures/NormalizeAffine-before.png (188 bytes security) (deflated 5%)
  adding: rsp/figures/NormalizeAffine-nonweighted.png (188 bytes security) (deflated 4%)
  adding: rsp/figures/NormalizeAffine-raw.png (188 bytes security) (deflated 3%)
  adding: rsp/figures/NormalizeAffine-weighted.png (188 bytes security) (deflated 3%)
  adding: rsp/figures/NormalizeCurveFit-nonweighted.png (188 bytes security) (deflated 4%)
  adding: rsp/figures/NormalizeCurveFit-raw.png (188 bytes security) (deflated 3%)
  adding: rsp/figures/NormalizeCurveFit-weighted.png (188 bytes security) (deflated 3%)
  adding: rsp/index.html.rsp (188 bytes security) (deflated 58%)
  adding: rsp/MultiscanCalibration/ (208 bytes security) (stored 0%)
  adding: rsp/MultiscanCalibration/MultiscanCalibration.html.rsp (188 bytes security) (deflated 59%)
  adding: rsp/NormalizationWithWeights/ (208 bytes security) (stored 0%)
  adding: rsp/NormalizationWithWeights/NormalizationWithWeights.html.rsp (188 bytes security) (deflated 70%)
  adding: rsp/NormalizationWithWeights/TypesOfWeights.html (188 bytes security) (deflated 70%)
  adding: rsp/preprocessing.html.rsp (188 bytes security) (deflated 60%)
  adding: rsp/R/ (208 bytes security) (stored 0%)
  adding: rsp/R/weightedAffineNormalization.Rex (188 bytes security) (deflated 69%)
  adding: rsp/R/weightedCurveFitNormalization.Rex (188 bytes security) (deflated 69%)
  adding: rsp/README (188 bytes security) (deflated 30%)
  adding: rsp/references.html.rsp (188 bytes security) (deflated 58%)
  adding: rsp/src/ (208 bytes security) (stored 0%)
  adding: rsp/src/simpleFooter.html.rsp (188 bytes security) (deflated 42%)
  adding: rsp/src/simpleHead.html.rsp (188 bytes security) (deflated 50%)
  adding: rsp/src/simpleHeader.html.rsp (188 bytes security) (deflated 50%)
  adding: rsp/style.css (188 bytes security) (deflated 73%)