| altcdfenvs 2.31.0 Laurent Gautier
 
 | Snapshot Date: 2015-08-19 16:24:33 -0700 (Wed, 19 Aug 2015) |  | URL: https://hedgehog.fhcrc.org/bioconductor/trunk/madman/Rpacks/altcdfenvs |  | Last Changed Rev: 102594 / Revision: 107602 |  | Last Changed Date: 2015-04-16 13:02:44 -0700 (Thu, 16 Apr 2015) | 
 | zin1 | Linux (Ubuntu 14.04.2 LTS) / x86_64 | OK | OK | OK |  |  | 
| moscato1 | Windows Server 2008 R2 Enterprise SP1 (64-bit) / x64 | OK | OK | OK | [ OK ] |  | 
| perceval | Mac OS X Snow Leopard (10.6.8) / x86_64 | OK | OK | OK | OK |  | 
| oaxaca | Mac OS X Mavericks (10.9.5) / x86_64 | OK | OK | OK | OK |  | 
##############################################################################
##############################################################################
###
### Running command:
###
###   cd altcdfenvs.buildbin-libdir/altcdfenvs && zip -r ../../altcdfenvs_2.31.0.zip . & cd ../..
###
##############################################################################
##############################################################################
  adding: CITATION (188 bytes security) (deflated 51%)
  adding: data/ (256 bytes security) (stored 0%)
  adding: data/cdfenvEx.rda (188 bytes security) (stored 0%)
  adding: DESCRIPTION (188 bytes security) (deflated 42%)
  adding: doc/ (256 bytes security) (stored 0%)
  adding: doc/altcdfenvs.pdf (188 bytes security) (deflated 8%)
  adding: doc/altcdfenvs.R (188 bytes security) (deflated 75%)
  adding: doc/altcdfenvs.Rnw (188 bytes security) (deflated 58%)
  adding: doc/index.html (188 bytes security) (deflated 73%)
  adding: doc/modify.pdf (188 bytes security) (deflated 7%)
  adding: doc/modify.R (188 bytes security) (deflated 74%)
  adding: doc/modify.Rnw (188 bytes security) (deflated 54%)
  adding: doc/ngenomeschips.pdf (188 bytes security) (deflated 7%)
  adding: doc/ngenomeschips.R (188 bytes security) (deflated 75%)
  adding: doc/ngenomeschips.Rnw (188 bytes security) (deflated 54%)
  adding: exampleData/ (256 bytes security) (stored 0%)
  adding: exampleData/Plasmodium-Probeset-IDs.txt (188 bytes security) (deflated 85%)
  adding: exampleData/sample.fasta (188 bytes security) (deflated 65%)
  adding: exampleData/slamf_targets.RData (188 bytes security) (stored 0%)
  adding: help/ (256 bytes security) (stored 0%)
  adding: help/aliases.rds (188 bytes security) (stored 0%)
  adding: help/altcdfenvs.rdb (188 bytes security) (deflated 1%)
  adding: help/altcdfenvs.rdx (188 bytes security) (stored 0%)
  adding: help/AnIndex (188 bytes security) (deflated 75%)
  adding: help/paths.rds (188 bytes security) (stored 0%)
  adding: html/ (256 bytes security) (stored 0%)
  adding: html/00Index.html (188 bytes security) (deflated 82%)
  adding: html/R.css (188 bytes security) (deflated 75%)
  adding: INDEX (188 bytes security) (deflated 60%)
  adding: internalData/ (256 bytes security) (stored 0%)
  adding: internalData/chipspecs.tab (188 bytes security) (deflated 29%)
  adding: MD5 (188 bytes security) (deflated 44%)
  adding: Meta/ (256 bytes security) (stored 0%)
  adding: Meta/data.rds (188 bytes security) (stored 0%)
  adding: Meta/hsearch.rds (188 bytes security) (stored 0%)
  adding: Meta/links.rds (188 bytes security) (stored 0%)
  adding: Meta/nsInfo.rds (188 bytes security) (stored 0%)
  adding: Meta/package.rds (188 bytes security) (stored 0%)
  adding: Meta/Rd.rds (188 bytes security) (stored 0%)
  adding: Meta/vignette.rds (188 bytes security) (stored 0%)
  adding: NAMESPACE (188 bytes security) (deflated 23%)
  adding: R/ (256 bytes security) (stored 0%)
  adding: R/altcdfenvs (188 bytes security) (deflated 41%)
  adding: R/altcdfenvs.rdb (188 bytes security) (deflated 39%)
  adding: R/altcdfenvs.rdx (188 bytes security) (stored 0%)
  adding: UnitTests/ (256 bytes security) (stored 0%)
  adding: UnitTests/AffyProbesMatch_test.R (188 bytes security) (deflated 64%)