affxparser 1.42.0 Kasper Daniel Hansen
 | Snapshot Date: 2015-10-26 19:24:07 -0400 (Mon, 26 Oct 2015) |  | URL: https://hedgehog.fhcrc.org/bioconductor/branches/RELEASE_3_2/madman/Rpacks/affxparser |  | Last Changed Rev: 109589 / Revision: 109947 |  | Last Changed Date: 2015-10-13 15:36:05 -0400 (Tue, 13 Oct 2015) |  
  | linux1.bioconductor.org  | Linux (Ubuntu 14.04.2 LTS) / x86_64  |  OK  |  OK  |  WARNINGS  |  |   | 
| windows1.bioconductor.org  | Windows Server 2012 R2 Enterprise SP1 (64-bit) / x64  |  OK  |  OK  |  OK  | [ OK ] |   | 
| perceval  | Mac OS X Snow Leopard (10.6.8) / x86_64  |  OK  |  OK  |  WARNINGS  |  OK  |   | 
| oaxaca  | Mac OS X Mavericks (10.9.5) / x86_64  |  OK  |  OK  |  WARNINGS  |  OK  |   | 
##############################################################################
##############################################################################
###
### Running command:
###
###   cd affxparser.buildbin-libdir/affxparser && zip -r ../../affxparser_1.42.0.zip . & cd ../..
###
##############################################################################
##############################################################################
  adding: DESCRIPTION (188 bytes security) (deflated 47%)
  adding: extras/ (208 bytes security) (stored 0%)
  adding: extras/easternEgg.gz (188 bytes security) (deflated 0%)
  adding: help/ (208 bytes security) (stored 0%)
  adding: help/affxparser.rdb (188 bytes security) (deflated 2%)
  adding: help/affxparser.rdx (188 bytes security) (stored 0%)
  adding: help/aliases.rds (188 bytes security) (stored 0%)
  adding: help/AnIndex (188 bytes security) (deflated 68%)
  adding: help/paths.rds (188 bytes security) (stored 0%)
  adding: html/ (208 bytes security) (stored 0%)
  adding: html/00Index.html (188 bytes security) (deflated 78%)
  adding: html/R.css (188 bytes security) (deflated 75%)
  adding: INDEX (188 bytes security) (deflated 73%)
  adding: info/ (208 bytes security) (stored 0%)
  adding: info/changes2fusion.txt (188 bytes security) (deflated 44%)
  adding: info/fusion_1.1.0_patches/ (208 bytes security) (stored 0%)
  adding: info/fusion_1.1.0_patches/AffxByteArray.cpp-patch (188 bytes security) (deflated 42%)
  adding: info/fusion_1.1.0_patches/AffxConv.cpp-patch (188 bytes security) (deflated 37%)
  adding: info/fusion_1.1.0_patches/affy-base-types.h-patch (188 bytes security) (deflated 34%)
  adding: info/fusion_1.1.0_patches/AffymetrixBaseTypes.h-patch (188 bytes security) (deflated 36%)
  adding: info/fusion_1.1.0_patches/CDFFileData.cpp-patch (188 bytes security) (deflated 44%)
  adding: info/fusion_1.1.0_patches/gcc-4.7.cpp-patch (188 bytes security) (deflated 38%)
  adding: info/fusion_1.1.2_patches/ (208 bytes security) (stored 0%)
  adding: info/fusion_1.1.2_patches/AffxByteArray.cpp-patch (188 bytes security) (deflated 42%)
  adding: info/fusion_1.1.2_patches/AffxConv.cpp-patch (188 bytes security) (deflated 38%)
  adding: info/fusion_1.1.2_patches/AffxConv.cpp-patch2 (188 bytes security) (deflated 47%)
  adding: info/fusion_1.1.2_patches/affy-base-types.h-patch (188 bytes security) (deflated 41%)
  adding: info/fusion_1.1.2_patches/AffymetrixBaseTypes.h-patch (188 bytes security) (deflated 36%)
  adding: info/fusion_1.1.2_patches/CDFFileData.cpp-patch (188 bytes security) (deflated 53%)
  adding: info/fusion_1.1.2_patches/CELFileData.h-patch (188 bytes security) (deflated 50%)
  adding: info/fusion_1.1.2_patches/CHPMultiDataData.cpp-patch (188 bytes security) (deflated 59%)
  adding: info/fusion_1.1.2_patches/FileUtils.cpp-patch (188 bytes security) (deflated 55%)
  adding: info/fusion_1.1.2_patches/Fs.cpp-patch (188 bytes security) (deflated 78%)
  adding: info/fusion_1.1.2_patches/TsvFile.cpp-patch (188 bytes security) (deflated 54%)
  adding: info/fusion_1.1.2_patches/Util.cpp-patch (188 bytes security) (deflated 48%)
  adding: info/fusion_1.1.2_patches/Verbose.cpp-patch (188 bytes security) (deflated 39%)
  adding: info/fusion_sdk_license.html (188 bytes security) (deflated 67%)
  adding: info/Makefile (188 bytes security) (deflated 80%)
  adding: libs/ (208 bytes security) (stored 0%)
  adding: libs/i386/ (208 bytes security) (stored 0%)
  adding: libs/i386/affxparser.dll (188 bytes security) (deflated 64%)
  adding: libs/x64/ (208 bytes security) (stored 0%)
  adding: libs/x64/affxparser.dll (188 bytes security) (deflated 67%)
  adding: MD5 (188 bytes security) (deflated 53%)
  adding: Meta/ (208 bytes security) (stored 0%)
  adding: Meta/hsearch.rds (188 bytes security) (stored 0%)
  adding: Meta/links.rds (188 bytes security) (stored 0%)
  adding: Meta/nsInfo.rds (188 bytes security) (stored 0%)
  adding: Meta/package.rds (188 bytes security) (stored 0%)
  adding: Meta/Rd.rds (188 bytes security) (stored 0%)
  adding: NAMESPACE (188 bytes security) (deflated 30%)
  adding: NEWS (188 bytes security) (deflated 65%)
  adding: R/ (208 bytes security) (stored 0%)
  adding: R/affxparser (188 bytes security) (deflated 41%)
  adding: R/affxparser.rdb (188 bytes security) (deflated 1%)
  adding: R/affxparser.rdx (188 bytes security) (stored 0%)
  adding: testscripts/ (208 bytes security) (stored 0%)
  adding: testscripts/manualTest.R (188 bytes security) (deflated 45%)
  adding: testscripts/speedtest.R (188 bytes security) (deflated 55%)
  adding: testscripts/writeAndReadEmptyCdf.R (188 bytes security) (deflated 45%)
  adding: testscripts/writeAndReadEmptyCel.R (188 bytes security) (deflated 47%)