Back to the "Multiple platform build/check report"[A] B  C  D  E  F  G  H  I  J  K  L  M  N  O  P  Q  R  S  T  U  V  W  X  Y  Z 

BioC 3.2: CHECK report for a4Base on perceval

This page was generated on 2015-10-27 17:34:34 -0400 (Tue, 27 Oct 2015).

Package 2/1104HostnameOS / ArchINSTALLBUILDCHECKBUILD BIN
a4Base 1.18.0
Tobias Verbeke , Willem Ligtenberg
Snapshot Date: 2015-10-26 19:24:07 -0400 (Mon, 26 Oct 2015)
URL: https://hedgehog.fhcrc.org/bioconductor/branches/RELEASE_3_2/madman/Rpacks/a4Base
Last Changed Rev: 109589 / Revision: 109947
Last Changed Date: 2015-10-13 15:36:05 -0400 (Tue, 13 Oct 2015)
linux1.bioconductor.org Linux (Ubuntu 14.04.2 LTS) / x86_64  OK  OK  OK UNNEEDED, same version exists in internal repository
windows1.bioconductor.org Windows Server 2012 R2 Enterprise SP1 (64-bit) / x64  OK  OK  OK  OK UNNEEDED, same version exists in internal repository
perceval Mac OS X Snow Leopard (10.6.8) / x86_64  OK  OK [ TIMEOUT ] OK 
oaxaca Mac OS X Mavericks (10.9.5) / x86_64  OK  OK  OK  OK UNNEEDED, same version exists in internal repository

Summary

Package: a4Base
Version: 1.18.0
Command: /Library/Frameworks/R.framework/Versions/Current/Resources/bin/R CMD check --no-vignettes --timings a4Base_1.18.0.tar.gz
StartedAt: 2015-10-27 04:01:02 -0400 (Tue, 27 Oct 2015)
EndedAt: 2015-10-27 04:41:02 -0400 (Tue, 27 Oct 2015)
EllapsedTime: 2400.0 seconds
RetCode: None
Status:  TIMEOUT 
CheckDir: a4Base.Rcheck
Warnings: NA

Command output

##############################################################################
##############################################################################
###
### Running command:
###
###   /Library/Frameworks/R.framework/Versions/Current/Resources/bin/R CMD check --no-vignettes --timings a4Base_1.18.0.tar.gz
###
##############################################################################
##############################################################################


* using log directory ‘/Users/biocbuild/bbs-3.2-bioc/meat/a4Base.Rcheck’
* using R version 3.2.2 Patched (2015-10-08 r69496)
* using platform: x86_64-apple-darwin10.8.0 (64-bit)
* using session charset: UTF-8
* using option ‘--no-vignettes’
* checking for file ‘a4Base/DESCRIPTION’ ... OK
* checking extension type ... Package
* this is package ‘a4Base’ version ‘1.18.0’
* checking package namespace information ... OK
* checking package dependencies ... NOTE
Package which this enhances but not available for checking: ‘JavaGD’

Depends: includes the non-default packages:
  ‘grid’ ‘Biobase’ ‘AnnotationDbi’ ‘annaffy’ ‘mpm’ ‘genefilter’ ‘limma’
  ‘multtest’ ‘glmnet’ ‘a4Preproc’ ‘a4Core’ ‘gplots’
Adding so many packages to the search path is excessive and importing
selectively is preferable.
* checking if this is a source package ... OK
* checking if there is a namespace ... OK
* checking for hidden files and directories ... OK
* checking for portable file names ... OK
* checking for sufficient/correct file permissions ... OK
* checking whether package ‘a4Base’ can be installed ... [0m/20m] OK
* checking installed package size ... OK
* checking package directory ... OK
* checking DESCRIPTION meta-information ... NOTE
Malformed Description field: should contain one or more complete sentences.
* checking top-level files ... OK
* checking for left-over files ... OK
* checking index information ... OK
* checking package subdirectories ... OK
* checking R files for non-ASCII characters ... OK
* checking R files for syntax errors ... OK
* checking whether the package can be loaded ... OK
* checking whether the package can be loaded with stated dependencies ... OK
* checking whether the package can be unloaded cleanly ... OK
* checking whether the namespace can be loaded with stated dependencies ... OK
* checking whether the namespace can be unloaded cleanly ... OK
* checking dependencies in R code ... NOTE
'library' or 'require' calls to packages already attached by Depends:
  ‘Biobase’ ‘grid’
  Please remove these calls from your code.
'library' or 'require' calls in package code:
  ‘Cairo’ ‘gridSVG’
  Please use :: or requireNamespace() instead.
  See section 'Suggested packages' in the 'Writing R Extensions' manual.
Packages in Depends field not imported from:
  ‘a4Preproc’ ‘annaffy’ ‘AnnotationDbi’ ‘genefilter’ ‘glmnet’ ‘gplots’
  ‘grid’ ‘mpm’ ‘multtest’
  These packages need to be imported from (in the NAMESPACE file)
  for when this namespace is loaded but not attached.
* checking S3 generic/method consistency ... OK
* checking replacement functions ... OK
* checking foreign function calls ... OK
* checking R code for possible problems ... NOTE
filterVarInt: no visible global function definition for ‘pOverA’
filterVarInt: no visible global function definition for ‘filterfun’
filterVarInt: no visible global function definition for ‘genefilter’
fTest: no visible global function definition for ‘rowFtests’
fTest: no visible global function definition for ‘mt.rawp2adjp’
grid.imageGrob: no visible global function definition for ‘grid.draw’
heatmap.expressionSet: no visible global function definition for ‘unit’
heatmap.expressionSet: no visible global function definition for ‘gpar’
heatmap.expressionSet : <anonymous>: no visible global function
  definition for ‘colorpanel’
heatmap.expressionSet: no visible global function definition for
  ‘textGrob’
heatmap.expressionSet: no visible global function definition for
  ‘grid.layout’
heatmap.expressionSet: no visible global function definition for
  ‘grid.newpage’
heatmap.expressionSet: no visible global function definition for
  ‘convertUnit’
heatmap.expressionSet: no visible global function definition for
  ‘viewport’
heatmap.expressionSet: no visible global function definition for
  ‘pushViewport’
heatmap.expressionSet: no visible global function definition for
  ‘grid.text’
heatmap.expressionSet: no visible global function definition for
  ‘grid.rect’
heatmap.expressionSet: no visible global function definition for
  ‘popViewport’
heatmap.expressionSet: no visible global function definition for
  ‘unit.c’
heatmap.expressionSet: no visible global function definition for
  ‘grid.lines’
heatmap.expressionSet: no visible global function definition for
  ‘grid.xaxis’
imageGrob: no visible global function definition for ‘gTree’
imageGrob: no visible global function definition for ‘gList’
lassoReg: no visible global function definition for ‘glmnet’
makeImageRect: no visible global function definition for ‘rectGrob’
makeImageRect: no visible global function definition for ‘gpar’
plotLogRatio: no visible global function definition for ‘addGeneInfo’
plotLogRatio: no visible global function definition for ‘JavaGD’
plotLogRatio: no visible global function definition for ‘CairoPNG’
plotLogRatio: no visible global function definition for ‘viewport’
plotLogRatio: no visible global function definition for ‘grid.layout’
plotLogRatio: no visible global function definition for ‘pushViewport’
plotLogRatio: no visible global function definition for ‘grid.rect’
plotLogRatio: no visible global function definition for ‘gpar’
plotLogRatio: no visible global function definition for ‘grid.text’
plotLogRatio: no visible global function definition for ‘grid.garnish’
plotLogRatio: no visible global function definition for ‘popViewport’
plotLogRatio: no visible global function definition for ‘grid.lines’
plotLogRatio : <anonymous>: no visible global function definition for
  ‘grid.lines’
plotLogRatio : <anonymous>: no visible global function definition for
  ‘gpar’
plotLogRatio: no visible global function definition for ‘grid.segments’
plotLogRatio: no visible global function definition for
  ‘grid.hyperlink’
plotLogRatio: no visible global function definition for ‘gPath’
plotLogRatio: no visible global function definition for ‘grid.script’
plotLogRatio: no visible global function definition for ‘gridToSVG’
probe2gene: no visible global function definition for ‘aafSymbol’
probe2gene: no visible global function definition for ‘getText’
tTest: no visible global function definition for ‘rowttests’
tTest: no visible global function definition for ‘mt.rawp2adjp’
tTest2: no visible global function definition for ‘rowttests’
tTest2: no visible global function definition for ‘mt.rawp2adjp’
volcanoplotter: no visible global function definition for
  ‘grid.newpage’
volcanoplotter: no visible global function definition for
  ‘plotViewport’
volcanoplotter: no visible global function definition for
  ‘pushViewport’
volcanoplotter: no visible global function definition for ‘textGrob’
volcanoplotter: no visible global function definition for ‘unit’
volcanoplotter: no visible global function definition for ‘gpar’
volcanoplotter: no visible global function definition for ‘grobWidth’
volcanoplotter: no visible global function definition for
  ‘convertHeight’
volcanoplotter: no visible global function definition for
  ‘dataViewport’
volcanoplotter: no visible global function definition for ‘grid.pretty’
volcanoplotter: no visible global function definition for
  ‘current.viewport’
volcanoplotter: no visible global function definition for ‘xaxisGrob’
volcanoplotter: no visible global function definition for ‘grid.yaxis’
volcanoplotter: no visible global function definition for ‘editGrob’
volcanoplotter: no visible global function definition for ‘gEditList’
volcanoplotter: no visible global function definition for ‘gEdit’
volcanoplotter: no visible global function definition for ‘grid.draw’
volcanoplotter: no visible global function definition for ‘grid.points’
volcanoplotter: no visible global function definition for ‘grid.text’
topTable,limma : .local: no visible global function definition for
  ‘topTableF’
topTable,limma : .local: no visible binding for global variable
  ‘number’
topTable,limma : .local: no visible global function definition for
  ‘toptable’
topTable,MArrayLM : .local: no visible global function definition for
  ‘topTableF’
topTable,MArrayLM : .local: no visible binding for global variable
  ‘number’
topTable,MArrayLM : .local: no visible global function definition for
  ‘toptable’
* checking Rd files ... OK
* checking Rd metadata ... OK
* checking Rd cross-references ... OK
* checking for missing documentation entries ... OK
* checking for code/documentation mismatches ... OK
* checking Rd \usage sections ... OK
* checking Rd contents ... OK
* checking for unstated dependencies in examples ... OK
* checking contents of ‘data’ directory ... OK
* checking data for non-ASCII characters ... OK
* checking data for ASCII and uncompressed saves ... OK
* checking examples ... [87s/343s] OK
Examples with CPU or elapsed time > 5s
                      user system elapsed
spectralMap         14.675  0.873  18.874
computeLogRatio      9.185  0.223  30.326
plotLogRatio         8.985  0.162   9.169
addQuantilesColors   3.219  0.524 101.719
boxPlot              3.335  0.301  90.509
histPvalue           2.943  0.067   6.744
plotCombMultSamples  2.770  0.098   5.869
* checking PDF version of manual ...

a4Base.Rcheck/00install.out:

* installing *source* package ‘a4Base’ ...
** R
** data
** inst
** preparing package for lazy loading
** help
*** installing help indices
** building package indices
** testing if installed package can be loaded
* DONE (a4Base)

a4Base.Rcheck/a4Base-Ex.timings:

nameusersystemelapsed
a4palette0.0160.0010.396
addQuantilesColors 3.219 0.524101.719
boxPlot 3.335 0.30190.509
combineTwoExpressionSet0.0010.0000.001
computeLogRatio 9.185 0.22330.326
createExpressionSet0.0490.0000.049
filterVarInt2.7050.1052.907
heatmap.expressionSet0.0060.0020.142
histPvalue2.9430.0676.744
histpvalueplotter3.1170.0964.649
lassoReg2.7210.0892.821
logReg0.0010.0000.204
nlcvTT0.0000.0000.001
plot1gene2.5840.0794.282
plotComb2Samples2.8850.0873.283
plotCombMultSamples2.7700.0985.869
plotCombination2genes2.5340.0852.720
plotLogRatio8.9850.1629.169
probabilitiesPlot0.0010.0000.001
probe2gene2.7430.0792.823
profilesPlot2.5400.0882.635
propdegenescalculation2.8300.0882.956
replicates0.0030.0000.003
spectralMap14.675 0.87318.874
tTest2.9120.0763.099
volcanoPlot2.9140.1143.036