Back to the "Multiple platform build/check report" A  B  C  D  E  F  G  H  I  J  K  L  M  N  O  P  Q  R  S  T  U [V] W  X  Y  Z 

BioC 3.2: CHECK report for VariantAnnotation on linux1.bioconductor.org

This page was generated on 2015-10-27 17:24:59 -0400 (Tue, 27 Oct 2015).

Package 1082/1104HostnameOS / ArchINSTALLBUILDCHECKBUILD BIN
VariantAnnotation 1.16.1
Valerie Obenchain
Snapshot Date: 2015-10-26 19:24:07 -0400 (Mon, 26 Oct 2015)
URL: https://hedgehog.fhcrc.org/bioconductor/branches/RELEASE_3_2/madman/Rpacks/VariantAnnotation
Last Changed Rev: 109834 / Revision: 109947
Last Changed Date: 2015-10-22 07:56:00 -0400 (Thu, 22 Oct 2015)
linux1.bioconductor.org Linux (Ubuntu 14.04.2 LTS) / x86_64  OK  OK [ OK ]UNNEEDED, same version exists in internal repository
windows1.bioconductor.org Windows Server 2012 R2 Enterprise SP1 (64-bit) / x64  OK  OK  OK  OK UNNEEDED, same version exists in internal repository
perceval Mac OS X Snow Leopard (10.6.8) / x86_64  OK  OK  OK  OK UNNEEDED, same version exists in internal repository
oaxaca Mac OS X Mavericks (10.9.5) / x86_64  OK  OK  OK  OK UNNEEDED, same version exists in internal repository

Summary

Package: VariantAnnotation
Version: 1.16.1
Command: /home/biocbuild/bbs-3.2-bioc/R/bin/R CMD check --no-vignettes --timings VariantAnnotation_1.16.1.tar.gz
StartedAt: 2015-10-27 08:56:39 -0400 (Tue, 27 Oct 2015)
EndedAt: 2015-10-27 09:03:43 -0400 (Tue, 27 Oct 2015)
EllapsedTime: 423.5 seconds
RetCode: 0
Status:  OK 
CheckDir: VariantAnnotation.Rcheck
Warnings: 0

Command output

##############################################################################
##############################################################################
###
### Running command:
###
###   /home/biocbuild/bbs-3.2-bioc/R/bin/R CMD check --no-vignettes --timings VariantAnnotation_1.16.1.tar.gz
###
##############################################################################
##############################################################################


* using log directory ‘/home/biocbuild/bbs-3.2-bioc/meat/VariantAnnotation.Rcheck’
* using R version 3.2.2 (2015-08-14)
* using platform: x86_64-pc-linux-gnu (64-bit)
* using session charset: UTF-8
* using option ‘--no-vignettes’
* checking for file ‘VariantAnnotation/DESCRIPTION’ ... OK
* checking extension type ... Package
* this is package ‘VariantAnnotation’ version ‘1.16.1’
* checking package namespace information ... OK
* checking package dependencies ... OK
* checking if this is a source package ... OK
* checking if there is a namespace ... OK
* checking for hidden files and directories ... OK
* checking for portable file names ... OK
* checking for sufficient/correct file permissions ... OK
* checking whether package ‘VariantAnnotation’ can be installed ... [24s/24s] OK
* checking installed package size ... OK
* checking package directory ... OK
* checking ‘build’ directory ... OK
* checking DESCRIPTION meta-information ... NOTE
Malformed Description field: should contain one or more complete sentences.
* checking top-level files ... OK
* checking for left-over files ... OK
* checking index information ... OK
* checking package subdirectories ... OK
* checking R files for non-ASCII characters ... OK
* checking R files for syntax errors ... OK
* checking whether the package can be loaded ... OK
* checking whether the package can be loaded with stated dependencies ... OK
* checking whether the package can be unloaded cleanly ... OK
* checking whether the namespace can be loaded with stated dependencies ... OK
* checking whether the namespace can be unloaded cleanly ... OK
* checking dependencies in R code ... NOTE
'library' or 'require' call to ‘snpStats’ in package code.
  Please use :: or requireNamespace() instead.
  See section 'Suggested packages' in the 'Writing R Extensions' manual.
':::' call which should be '::': ‘DBI:::dbListFields’
  See the note in ?`:::` about the use of this operator.
Unexported objects imported by ':::' calls:
  ‘BiocGenerics:::replaceSlots’ ‘BiocGenerics:::testPackage’
  ‘GenomicRanges:::.bind.arrays’ ‘GenomicRanges:::.cbind.DataFrame’
  ‘IRanges:::.expandByColumnSet’ ‘Rsamtools:::.RsamtoolsFile’
  ‘Rsamtools:::.RsamtoolsFileList’ ‘Rsamtools:::.io_check_exists’
  ‘S4Vectors:::labeledLine’ ‘S4Vectors:::recycleVector’
  ‘S4Vectors:::selectSome’
  ‘SummarizedExperiment:::.SummarizedExperiment.charbound’
  See the note in ?`:::` about the use of this operator.
* checking S3 generic/method consistency ... OK
* checking replacement functions ... OK
* checking foreign function calls ... OK
* checking R code for possible problems ... NOTE
.predictCoding: no visible global function definition for
  ‘transcriptsBy’
.predictCodingGRangesList: no visible binding for global variable
  ‘GENETIC_CODE’
VRangesForMatching: no visible binding for global variable ‘REF’
VRangesForMatching: no visible binding for global variable ‘ALT’
probabilityToSnpMatrix: no visible global function definition for
  ‘post2g’
locateVariants,GRanges-TxDb-IntergenicVariants : .local: no visible
  global function definition for ‘transcriptsBy’
locateVariants,GRanges-TxDb-IntronVariants : .local: no visible global
  function definition for ‘intronsByTranscript’
locateVariants,GRanges-TxDb-SpliceSiteVariants : .local: no visible
  global function definition for ‘intronsByTranscript’
summarizeVariants,TxDb-VCF-IntronVariants: no visible global function
  definition for ‘intronsByTranscript’
summarizeVariants,TxDb-VCF-SpliceSiteVariants: no visible global
  function definition for ‘intronsByTranscript’
* checking Rd files ... OK
* checking Rd metadata ... OK
* checking Rd cross-references ... OK
* checking for missing documentation entries ... OK
* checking for code/documentation mismatches ... OK
* checking Rd \usage sections ... OK
* checking Rd contents ... OK
* checking for unstated dependencies in examples ... OK
* checking line endings in C/C++/Fortran sources/headers ... OK
* checking line endings in Makefiles ... OK
* checking compilation flags in Makevars ... OK
* checking for GNU extensions in Makefiles ... OK
* checking for portable use of $(BLAS_LIBS) and $(LAPACK_LIBS) ... OK
* checking compiled code ... NOTE
File ‘VariantAnnotation/libs/VariantAnnotation.so’:
  Found non-API call to R: ‘getConnection’

Compiled code should not call non-API entry points in R.

See ‘Writing portable packages’ in the ‘Writing R Extensions’ manual.
* checking installed files from ‘inst/doc’ ... OK
* checking files in ‘vignettes’ ... OK
* checking examples ... [75s/99s] OK
Examples with CPU or elapsed time > 5s
                            user system elapsed
predictCoding-methods     22.432  0.090  22.570
locateVariants-methods    19.942  0.215  20.193
PROVEANDb-class            6.864  0.100  30.233
summarizeVariants-methods  6.125  0.000   6.125
* checking for unstated dependencies in ‘tests’ ... OK
* checking tests ...
  Running ‘VariantAnnotation_unit_tests.R’ [134s/137s]
 [135s/137s] OK
* checking for unstated dependencies in vignettes ... OK
* checking package vignettes in ‘inst/doc’ ... OK
* checking running R code from vignettes ... SKIPPED
* checking re-building of vignette outputs ... SKIPPED
* checking PDF version of manual ... OK
* DONE

Status: 4 NOTEs
See
  ‘/home/biocbuild/bbs-3.2-bioc/meat/VariantAnnotation.Rcheck/00check.log’
for details.


VariantAnnotation.Rcheck/00install.out:

* installing *source* package ‘VariantAnnotation’ ...
** libs
gcc -std=gnu99 -I/home/biocbuild/bbs-3.2-bioc/R/include -DNDEBUG -D_USE_KNETFILE -DBGZF_CACHE -D_FILE_OFFSET_BITS=64 -D_LARGEFILE64_SOURCE -I/usr/local/include -I"/home/biocbuild/bbs-3.2-bioc/R/library/S4Vectors/include" -I"/home/biocbuild/bbs-3.2-bioc/R/library/IRanges/include" -I"/home/biocbuild/bbs-3.2-bioc/R/library/XVector/include" -I"/home/biocbuild/bbs-3.2-bioc/R/library/Biostrings/include" -I"/home/biocbuild/bbs-3.2-bioc/R/library/Rsamtools/include"   -fpic  -g -O2  -Wall -c Biostrings_stubs.c -o Biostrings_stubs.o
gcc -std=gnu99 -I/home/biocbuild/bbs-3.2-bioc/R/include -DNDEBUG -D_USE_KNETFILE -DBGZF_CACHE -D_FILE_OFFSET_BITS=64 -D_LARGEFILE64_SOURCE -I/usr/local/include -I"/home/biocbuild/bbs-3.2-bioc/R/library/S4Vectors/include" -I"/home/biocbuild/bbs-3.2-bioc/R/library/IRanges/include" -I"/home/biocbuild/bbs-3.2-bioc/R/library/XVector/include" -I"/home/biocbuild/bbs-3.2-bioc/R/library/Biostrings/include" -I"/home/biocbuild/bbs-3.2-bioc/R/library/Rsamtools/include"   -fpic  -g -O2  -Wall -c IRanges_stubs.c -o IRanges_stubs.o
gcc -std=gnu99 -I/home/biocbuild/bbs-3.2-bioc/R/include -DNDEBUG -D_USE_KNETFILE -DBGZF_CACHE -D_FILE_OFFSET_BITS=64 -D_LARGEFILE64_SOURCE -I/usr/local/include -I"/home/biocbuild/bbs-3.2-bioc/R/library/S4Vectors/include" -I"/home/biocbuild/bbs-3.2-bioc/R/library/IRanges/include" -I"/home/biocbuild/bbs-3.2-bioc/R/library/XVector/include" -I"/home/biocbuild/bbs-3.2-bioc/R/library/Biostrings/include" -I"/home/biocbuild/bbs-3.2-bioc/R/library/Rsamtools/include"   -fpic  -g -O2  -Wall -c R_init_VariantAnnotation.c -o R_init_VariantAnnotation.o
gcc -std=gnu99 -I/home/biocbuild/bbs-3.2-bioc/R/include -DNDEBUG -D_USE_KNETFILE -DBGZF_CACHE -D_FILE_OFFSET_BITS=64 -D_LARGEFILE64_SOURCE -I/usr/local/include -I"/home/biocbuild/bbs-3.2-bioc/R/library/S4Vectors/include" -I"/home/biocbuild/bbs-3.2-bioc/R/library/IRanges/include" -I"/home/biocbuild/bbs-3.2-bioc/R/library/XVector/include" -I"/home/biocbuild/bbs-3.2-bioc/R/library/Biostrings/include" -I"/home/biocbuild/bbs-3.2-bioc/R/library/Rsamtools/include"   -fpic  -g -O2  -Wall -c XVector_stubs.c -o XVector_stubs.o
gcc -std=gnu99 -I/home/biocbuild/bbs-3.2-bioc/R/include -DNDEBUG -D_USE_KNETFILE -DBGZF_CACHE -D_FILE_OFFSET_BITS=64 -D_LARGEFILE64_SOURCE -I/usr/local/include -I"/home/biocbuild/bbs-3.2-bioc/R/library/S4Vectors/include" -I"/home/biocbuild/bbs-3.2-bioc/R/library/IRanges/include" -I"/home/biocbuild/bbs-3.2-bioc/R/library/XVector/include" -I"/home/biocbuild/bbs-3.2-bioc/R/library/Biostrings/include" -I"/home/biocbuild/bbs-3.2-bioc/R/library/Rsamtools/include"   -fpic  -g -O2  -Wall -c dna_hash.c -o dna_hash.o
gcc -std=gnu99 -I/home/biocbuild/bbs-3.2-bioc/R/include -DNDEBUG -D_USE_KNETFILE -DBGZF_CACHE -D_FILE_OFFSET_BITS=64 -D_LARGEFILE64_SOURCE -I/usr/local/include -I"/home/biocbuild/bbs-3.2-bioc/R/library/S4Vectors/include" -I"/home/biocbuild/bbs-3.2-bioc/R/library/IRanges/include" -I"/home/biocbuild/bbs-3.2-bioc/R/library/XVector/include" -I"/home/biocbuild/bbs-3.2-bioc/R/library/Biostrings/include" -I"/home/biocbuild/bbs-3.2-bioc/R/library/Rsamtools/include"   -fpic  -g -O2  -Wall -c rle.c -o rle.o
gcc -std=gnu99 -I/home/biocbuild/bbs-3.2-bioc/R/include -DNDEBUG -D_USE_KNETFILE -DBGZF_CACHE -D_FILE_OFFSET_BITS=64 -D_LARGEFILE64_SOURCE -I/usr/local/include -I"/home/biocbuild/bbs-3.2-bioc/R/library/S4Vectors/include" -I"/home/biocbuild/bbs-3.2-bioc/R/library/IRanges/include" -I"/home/biocbuild/bbs-3.2-bioc/R/library/XVector/include" -I"/home/biocbuild/bbs-3.2-bioc/R/library/Biostrings/include" -I"/home/biocbuild/bbs-3.2-bioc/R/library/Rsamtools/include"   -fpic  -g -O2  -Wall -c strhash.c -o strhash.o
gcc -std=gnu99 -I/home/biocbuild/bbs-3.2-bioc/R/include -DNDEBUG -D_USE_KNETFILE -DBGZF_CACHE -D_FILE_OFFSET_BITS=64 -D_LARGEFILE64_SOURCE -I/usr/local/include -I"/home/biocbuild/bbs-3.2-bioc/R/library/S4Vectors/include" -I"/home/biocbuild/bbs-3.2-bioc/R/library/IRanges/include" -I"/home/biocbuild/bbs-3.2-bioc/R/library/XVector/include" -I"/home/biocbuild/bbs-3.2-bioc/R/library/Biostrings/include" -I"/home/biocbuild/bbs-3.2-bioc/R/library/Rsamtools/include"   -fpic  -g -O2  -Wall -c utilities.c -o utilities.o
gcc -std=gnu99 -I/home/biocbuild/bbs-3.2-bioc/R/include -DNDEBUG -D_USE_KNETFILE -DBGZF_CACHE -D_FILE_OFFSET_BITS=64 -D_LARGEFILE64_SOURCE -I/usr/local/include -I"/home/biocbuild/bbs-3.2-bioc/R/library/S4Vectors/include" -I"/home/biocbuild/bbs-3.2-bioc/R/library/IRanges/include" -I"/home/biocbuild/bbs-3.2-bioc/R/library/XVector/include" -I"/home/biocbuild/bbs-3.2-bioc/R/library/Biostrings/include" -I"/home/biocbuild/bbs-3.2-bioc/R/library/Rsamtools/include"   -fpic  -g -O2  -Wall -c vcffile.c -o vcffile.o
gcc -std=gnu99 -I/home/biocbuild/bbs-3.2-bioc/R/include -DNDEBUG -D_USE_KNETFILE -DBGZF_CACHE -D_FILE_OFFSET_BITS=64 -D_LARGEFILE64_SOURCE -I/usr/local/include -I"/home/biocbuild/bbs-3.2-bioc/R/library/S4Vectors/include" -I"/home/biocbuild/bbs-3.2-bioc/R/library/IRanges/include" -I"/home/biocbuild/bbs-3.2-bioc/R/library/XVector/include" -I"/home/biocbuild/bbs-3.2-bioc/R/library/Biostrings/include" -I"/home/biocbuild/bbs-3.2-bioc/R/library/Rsamtools/include"   -fpic  -g -O2  -Wall -c vcftype.c -o vcftype.o
gcc -std=gnu99 -I/home/biocbuild/bbs-3.2-bioc/R/include -DNDEBUG -D_USE_KNETFILE -DBGZF_CACHE -D_FILE_OFFSET_BITS=64 -D_LARGEFILE64_SOURCE -I/usr/local/include -I"/home/biocbuild/bbs-3.2-bioc/R/library/S4Vectors/include" -I"/home/biocbuild/bbs-3.2-bioc/R/library/IRanges/include" -I"/home/biocbuild/bbs-3.2-bioc/R/library/XVector/include" -I"/home/biocbuild/bbs-3.2-bioc/R/library/Biostrings/include" -I"/home/biocbuild/bbs-3.2-bioc/R/library/Rsamtools/include"   -fpic  -g -O2  -Wall -c writevcf.c -o writevcf.o
gcc -std=gnu99 -shared -L/home/biocbuild/bbs-3.2-bioc/R/lib -L/usr/local/lib -o VariantAnnotation.so Biostrings_stubs.o IRanges_stubs.o R_init_VariantAnnotation.o XVector_stubs.o dna_hash.o rle.o strhash.o utilities.o vcffile.o vcftype.o writevcf.o /home/biocbuild/bbs-3.2-bioc/R/library/Rsamtools/usrlib//libbam.a /home/biocbuild/bbs-3.2-bioc/R/library/Rsamtools/usrlib//libbcf.a /home/biocbuild/bbs-3.2-bioc/R/library/Rsamtools/usrlib//libtabix.a -lz -pthread -L/home/biocbuild/bbs-3.2-bioc/R/lib -lR
installing to /home/biocbuild/bbs-3.2-bioc/meat/VariantAnnotation.Rcheck/VariantAnnotation/libs
** R
** inst
** preparing package for lazy loading
Creating a new generic function for ‘tabulate’ in package ‘VariantAnnotation’
** help
*** installing help indices
** building package indices
** installing vignettes
** testing if installed package can be loaded
* DONE (VariantAnnotation)

VariantAnnotation.Rcheck/VariantAnnotation-Ex.timings:

nameusersystemelapsed
GLtoGP0.5950.0440.639
PROVEANDb-class 6.864 0.10030.233
PolyPhenDb-class0.6540.0180.918
SIFTDb-class0.0010.0000.001
ScanVcfParam-class0.6430.0110.654
VCF-class0.9050.0130.918
VCFHeader-class0.0410.0000.039
VRanges-class0.2710.0020.275
VRangesList-class0.2380.0000.237
VariantType-class0.0080.0030.012
VcfFile-class0.2690.0230.292
filterVcf-methods2.3530.0522.411
genotypeToSnpMatrix-methods1.6670.0501.721
getTranscriptSeqs-methods0.0000.0000.001
isSNV-methods0.5020.0080.511
locateVariants-methods19.942 0.21520.193
predictCoding-methods22.432 0.09022.570
probabilityToSnpMatrix0.0490.0000.049
readVcf-methods2.5690.0072.577
scanVcf-methods0.1720.0000.171
snpSummary0.2110.0000.212
summarizeVariants-methods6.1250.0006.125
writeVcf-methods1.4010.0001.400