Back to the "Multiple platform build/check report" A  B  C  D  E  F  G  H  I  J  K  L  M  N  O  P  Q  R  S  T  U [V] W  X  Y  Z 

BioC 3.2: CHECK report for VanillaICE on perceval

This page was generated on 2015-10-27 17:33:34 -0400 (Tue, 27 Oct 2015).

Package 1080/1104HostnameOS / ArchINSTALLBUILDCHECKBUILD BIN
VanillaICE 1.32.0
Robert Scharpf
Snapshot Date: 2015-10-26 19:24:07 -0400 (Mon, 26 Oct 2015)
URL: https://hedgehog.fhcrc.org/bioconductor/branches/RELEASE_3_2/madman/Rpacks/VanillaICE
Last Changed Rev: 109589 / Revision: 109947
Last Changed Date: 2015-10-13 15:36:05 -0400 (Tue, 13 Oct 2015)
linux1.bioconductor.org Linux (Ubuntu 14.04.2 LTS) / x86_64  OK  OK  OK UNNEEDED, same version exists in internal repository
windows1.bioconductor.org Windows Server 2012 R2 Enterprise SP1 (64-bit) / x64  OK  OK  OK  OK UNNEEDED, same version exists in internal repository
perceval Mac OS X Snow Leopard (10.6.8) / x86_64  OK  OK [ OK ] OK UNNEEDED, same version exists in internal repository
oaxaca Mac OS X Mavericks (10.9.5) / x86_64  OK  OK  OK  OK UNNEEDED, same version exists in internal repository

Summary

Package: VanillaICE
Version: 1.32.0
Command: /Library/Frameworks/R.framework/Versions/Current/Resources/bin/R CMD check --no-vignettes --timings VanillaICE_1.32.0.tar.gz
StartedAt: 2015-10-27 13:10:52 -0400 (Tue, 27 Oct 2015)
EndedAt: 2015-10-27 13:16:09 -0400 (Tue, 27 Oct 2015)
EllapsedTime: 317.9 seconds
RetCode: 0
Status:  OK 
CheckDir: VanillaICE.Rcheck
Warnings: 0

Command output

##############################################################################
##############################################################################
###
### Running command:
###
###   /Library/Frameworks/R.framework/Versions/Current/Resources/bin/R CMD check --no-vignettes --timings VanillaICE_1.32.0.tar.gz
###
##############################################################################
##############################################################################


* using log directory ‘/Users/biocbuild/bbs-3.2-bioc/meat/VanillaICE.Rcheck’
* using R version 3.2.2 Patched (2015-10-08 r69496)
* using platform: x86_64-apple-darwin10.8.0 (64-bit)
* using session charset: UTF-8
* using option ‘--no-vignettes’
* checking for file ‘VanillaICE/DESCRIPTION’ ... OK
* this is package ‘VanillaICE’ version ‘1.32.0’
* checking package namespace information ... OK
* checking package dependencies ... NOTE
Package which this enhances but not available for checking: ‘doRedis’
* checking if this is a source package ... OK
* checking if there is a namespace ... OK
* checking for hidden files and directories ... OK
* checking for portable file names ... OK
* checking for sufficient/correct file permissions ... OK
* checking whether package ‘VanillaICE’ can be installed ... [24s/25s] OK
* checking installed package size ... OK
* checking package directory ... OK
* checking ‘build’ directory ... OK
* checking DESCRIPTION meta-information ... NOTE
Malformed Description field: should contain one or more complete sentences.
* checking top-level files ... OK
* checking for left-over files ... OK
* checking index information ... OK
* checking package subdirectories ... OK
* checking R files for non-ASCII characters ... OK
* checking R files for syntax errors ... OK
* checking whether the package can be loaded ... OK
* checking whether the package can be loaded with stated dependencies ... OK
* checking whether the package can be unloaded cleanly ... OK
* checking whether the namespace can be loaded with stated dependencies ... OK
* checking whether the namespace can be unloaded cleanly ... OK
* checking dependencies in R code ... NOTE
'library' or 'require' call to ‘BSgenome.Hsapiens.UCSC.hg18’ in package code.
  Please use :: or requireNamespace() instead.
  See section 'Suggested packages' in the 'Writing R Extensions' manual.
Unexported object imported by a ':::' call: ‘GenomicRanges:::.ShallowSimpleListAssays’
  See the note in ?`:::` about the use of this operator.
* checking S3 generic/method consistency ... OK
* checking replacement functions ... OK
* checking foreign function calls ... OK
* checking R code for possible problems ... OK
* checking Rd files ... OK
* checking Rd metadata ... OK
* checking Rd cross-references ... OK
* checking for missing documentation entries ... OK
* checking for code/documentation mismatches ... OK
* checking Rd \usage sections ... OK
* checking Rd contents ... OK
* checking for unstated dependencies in examples ... OK
* checking contents of ‘data’ directory ... OK
* checking data for non-ASCII characters ... OK
* checking data for ASCII and uncompressed saves ... OK
* checking line endings in C/C++/Fortran sources/headers ... OK
* checking line endings in Makefiles ... OK
* checking compilation flags in Makevars ... OK
* checking for GNU extensions in Makefiles ... OK
* checking for portable use of $(BLAS_LIBS) and $(LAPACK_LIBS) ... OK
* checking compiled code ... OK
* checking sizes of PDF files under ‘inst/doc’ ... OK
* checking installed files from ‘inst/doc’ ... OK
* checking files in ‘vignettes’ ... OK
* checking examples ... [24s/24s] OK
* checking for unstated dependencies in ‘tests’ ... OK
* checking tests ...
  Running ‘doRUnit.R’ [42s/48s]
 [43s/48s] OK
* checking for unstated dependencies in vignettes ... OK
* checking package vignettes in ‘inst/doc’ ... OK
* checking running R code from vignettes ... SKIPPED
* checking re-building of vignette outputs ... SKIPPED
* checking PDF version of manual ... OK
* DONE

Status: 3 NOTEs
See
  ‘/Users/biocbuild/bbs-3.2-bioc/meat/VanillaICE.Rcheck/00check.log’
for details.


VanillaICE.Rcheck/00install.out:

* installing *source* package ‘VanillaICE’ ...
** libs
llvm-gcc-4.2 -arch x86_64 -std=gnu99 -I/Library/Frameworks/R.framework/Resources/include -DNDEBUG  -I/usr/local/include    -fPIC  -mtune=core2 -g -O2 -Wall  -c rinit.c -o rinit.o
llvm-gcc-4.2 -arch x86_64 -std=gnu99 -I/Library/Frameworks/R.framework/Resources/include -DNDEBUG  -I/usr/local/include    -fPIC  -mtune=core2 -g -O2 -Wall  -c viterbi.c -o viterbi.o
llvm-gcc-4.2 -arch x86_64 -std=gnu99 -dynamiclib -Wl,-headerpad_max_install_names -undefined dynamic_lookup -single_module -multiply_defined suppress -L/Library/Frameworks/R.framework/Resources/lib -L/usr/local/lib -L/usr/local/lib -o VanillaICE.so rinit.o viterbi.o -lm -F/Library/Frameworks/R.framework/.. -framework R -Wl,-framework -Wl,CoreFoundation
installing to /Users/biocbuild/bbs-3.2-bioc/meat/VanillaICE.Rcheck/VanillaICE/libs
** R
** data
** inst
** preparing package for lazy loading
Creating a new generic function for ‘distance’ in package ‘VanillaICE’
** help
*** installing help indices
** building package indices
** installing vignettes
** testing if installed package can be loaded
* DONE (VanillaICE)

VanillaICE.Rcheck/VanillaICE-Ex.timings:

nameusersystemelapsed
ArrayViews-class3.9360.1114.085
CopyNumScanParams0.0030.0000.003
EmissionParam-methods0.0150.0010.016
FilterParam-class0.5330.0020.534
HMM0.2800.0090.288
HMMList-class0.5830.0250.608
HmmGRanges0.0000.0010.001
HmmParam0.0050.0010.006
IO0.0140.0030.018
IdiogramParams-class0.5330.0220.564
SnpArrayExperiment-class0.1010.0040.105
SnpExperiment0.040.000.04
SnpGRanges0.0330.0000.033
TransitionParam0.0020.0000.002
cnvFilter1.0590.0211.080
constraints0.0010.0000.001
dropDuplicatedMapLocs0.1240.0060.129
emissionParam0.0060.0000.006
getExampleSnpExperiment000
getHmmParams0.0140.0000.014
hmm20.6460.0110.656
icePlatforms0.0000.0000.001
isHeterozygous0.4980.0100.509
parseSourceFile1.4090.0201.429
plotting1.5370.0381.575
robust-statistics0.0010.0000.002
snpArrayAssays0.0140.0040.016
sourcePaths0.0110.0000.011
sweepMode0.2480.0060.253
threshold0.0010.0000.001
viewports0.0020.0010.002