Back to the "Multiple platform build/check report" A  B  C  D  E  F  G  H  I  J  K  L  M  N  O  P  Q  R [S] T  U  V  W  X  Y  Z 

BioC 3.2: CHECK report for SummarizedExperiment on moscato1

This page was generated on 2015-08-20 13:24:15 -0700 (Thu, 20 Aug 2015).

Package 996/1069HostnameOS / ArchINSTALLBUILDCHECKBUILD BIN
SummarizedExperiment 0.3.3
Bioconductor Package Maintainer
Snapshot Date: 2015-08-19 16:24:33 -0700 (Wed, 19 Aug 2015)
URL: https://hedgehog.fhcrc.org/bioconductor/trunk/madman/Rpacks/SummarizedExperiment
Last Changed Rev: 107538 / Revision: 107602
Last Changed Date: 2015-08-18 08:01:19 -0700 (Tue, 18 Aug 2015)
zin1 Linux (Ubuntu 14.04.2 LTS) / x86_64  OK  OK  OK UNNEEDED, same version exists in internal repository
moscato1 Windows Server 2008 R2 Enterprise SP1 (64-bit) / x64  OK  OK [ OK ] OK UNNEEDED, same version exists in internal repository
perceval Mac OS X Snow Leopard (10.6.8) / x86_64  OK  OK  OK  OK UNNEEDED, same version exists in internal repository
oaxaca Mac OS X Mavericks (10.9.5) / x86_64  OK  OK  OK  OK UNNEEDED, same version exists in internal repository

Summary

Package: SummarizedExperiment
Version: 0.3.3
Command: rm -rf SummarizedExperiment.buildbin-libdir SummarizedExperiment.Rcheck && mkdir SummarizedExperiment.buildbin-libdir SummarizedExperiment.Rcheck && D:\biocbld\bbs-3.2-bioc\R\bin\R.exe CMD INSTALL --build --merge-multiarch --library=SummarizedExperiment.buildbin-libdir SummarizedExperiment_0.3.3.tar.gz >SummarizedExperiment.Rcheck\00install.out 2>&1 && cp SummarizedExperiment.Rcheck\00install.out SummarizedExperiment-install.out && D:\biocbld\bbs-3.2-bioc\R\bin\R.exe CMD check --library=SummarizedExperiment.buildbin-libdir --install="check:SummarizedExperiment-install.out" --force-multiarch --no-vignettes --timings SummarizedExperiment_0.3.3.tar.gz
StartedAt: 2015-08-20 10:54:03 -0700 (Thu, 20 Aug 2015)
EndedAt: 2015-08-20 10:58:13 -0700 (Thu, 20 Aug 2015)
EllapsedTime: 249.9 seconds
RetCode: 0
Status:  OK  
CheckDir: SummarizedExperiment.Rcheck
Warnings: 0

Command output

##############################################################################
##############################################################################
###
### Running command:
###
###   rm -rf SummarizedExperiment.buildbin-libdir SummarizedExperiment.Rcheck && mkdir SummarizedExperiment.buildbin-libdir SummarizedExperiment.Rcheck && D:\biocbld\bbs-3.2-bioc\R\bin\R.exe CMD INSTALL --build --merge-multiarch --library=SummarizedExperiment.buildbin-libdir SummarizedExperiment_0.3.3.tar.gz >SummarizedExperiment.Rcheck\00install.out 2>&1 && cp SummarizedExperiment.Rcheck\00install.out SummarizedExperiment-install.out  && D:\biocbld\bbs-3.2-bioc\R\bin\R.exe CMD check --library=SummarizedExperiment.buildbin-libdir --install="check:SummarizedExperiment-install.out" --force-multiarch --no-vignettes --timings SummarizedExperiment_0.3.3.tar.gz
###
##############################################################################
##############################################################################


* using log directory 'D:/biocbld/bbs-3.2-bioc/meat/SummarizedExperiment.Rcheck'
* using R version 3.2.2 (2015-08-14)
* using platform: x86_64-w64-mingw32 (64-bit)
* using session charset: ISO8859-1
* using option '--no-vignettes'
* checking for file 'SummarizedExperiment/DESCRIPTION' ... OK
* this is package 'SummarizedExperiment' version '0.3.3'
* checking package namespace information ... OK
* checking package dependencies ... OK
* checking if this is a source package ... OK
* checking if there is a namespace ... OK
* checking for hidden files and directories ... OK
* checking for portable file names ... OK
* checking whether package 'SummarizedExperiment' can be installed ... OK
* checking installed package size ... OK
* checking package directory ... OK
* checking 'build' directory ... OK
* checking DESCRIPTION meta-information ... OK
* checking top-level files ... OK
* checking for left-over files ... OK
* checking index information ... OK
* checking package subdirectories ... OK
* checking R files for non-ASCII characters ... OK
* checking R files for syntax errors ... OK
* loading checks for arch 'i386'
** checking whether the package can be loaded ... OK
** checking whether the package can be loaded with stated dependencies ... OK
** checking whether the package can be unloaded cleanly ... OK
** checking whether the namespace can be loaded with stated dependencies ... OK
** checking whether the namespace can be unloaded cleanly ... OK
* loading checks for arch 'x64'
** checking whether the package can be loaded ... OK
** checking whether the package can be loaded with stated dependencies ... OK
** checking whether the package can be unloaded cleanly ... OK
** checking whether the namespace can be loaded with stated dependencies ... OK
** checking whether the namespace can be unloaded cleanly ... OK
* checking dependencies in R code ... OK
* checking S3 generic/method consistency ... OK
* checking replacement functions ... OK
* checking foreign function calls ... OK
* checking R code for possible problems ... OK
* checking Rd files ... OK
* checking Rd metadata ... OK
* checking Rd cross-references ... OK
* checking for missing documentation entries ... OK
* checking for code/documentation mismatches ... OK
* checking Rd \usage sections ... OK
* checking Rd contents ... OK
* checking for unstated dependencies in examples ... OK
* checking installed files from 'inst/doc' ... OK
* checking files in 'vignettes' ... OK
* checking examples ...
** running examples for arch 'i386' ... [26s] OK
Examples with CPU or elapsed time > 5s
                                           user system elapsed
makeSummarizedExperimentFromExpressionSet 13.79   0.11   18.97
** running examples for arch 'x64' ... [23s] OK
Examples with CPU or elapsed time > 5s
                                           user system elapsed
makeSummarizedExperimentFromExpressionSet 15.62   0.08    15.7
* checking for unstated dependencies in 'tests' ... OK
* checking tests ...
** running tests for arch 'i386' ...
  Running 'SummarizedExperiment_unit_tests.R' [27s]
 [27s] OK
** running tests for arch 'x64' ...
  Running 'SummarizedExperiment_unit_tests.R' [27s]
 [28s] OK
* checking for unstated dependencies in vignettes ... OK
* checking package vignettes in 'inst/doc' ... OK
* checking running R code from vignettes ... SKIPPED
* checking re-building of vignette outputs ... SKIPPED
* checking PDF version of manual ... OK
* DONE

Status: OK

SummarizedExperiment.Rcheck/00install.out:


install for i386

* installing *source* package 'SummarizedExperiment' ...
** R
** inst
** preparing package for lazy loading
** help
*** installing help indices
** building package indices
** installing vignettes
** testing if installed package can be loaded

install for x64

* installing *source* package 'SummarizedExperiment' ...
** testing if installed package can be loaded
* MD5 sums
packaged installation of 'SummarizedExperiment' as SummarizedExperiment_0.3.3.zip
* DONE (SummarizedExperiment)

SummarizedExperiment.Rcheck/examples_i386/SummarizedExperiment-Ex.timings:

nameusersystemelapsed
Assays-class0.050.000.05
RangedSummarizedExperiment-class0.250.000.25
SummarizedExperiment0-class0.060.000.06
coverage-methods0.060.000.06
findOverlaps-methods0.110.000.11
inter-range-methods0.140.000.14
intra-range-methods0.110.000.11
makeSummarizedExperimentFromExpressionSet13.79 0.1118.97
nearest-methods0.860.000.86

SummarizedExperiment.Rcheck/examples_x64/SummarizedExperiment-Ex.timings:

nameusersystemelapsed
Assays-class0.070.000.07
RangedSummarizedExperiment-class0.290.000.29
SummarizedExperiment0-class0.060.000.07
coverage-methods0.080.000.07
findOverlaps-methods0.140.000.14
inter-range-methods0.170.000.18
intra-range-methods0.110.000.10
makeSummarizedExperimentFromExpressionSet15.62 0.0815.70
nearest-methods1.130.001.13