Back to the "Multiple platform build/check report" A  B  C  D  E  F  G  H  I  J  K  L  M  N  O  P  Q  R [S] T  U  V  W  X  Y  Z 

BioC 3.2: CHECK report for SLGI on linux1.bioconductor.org

This page was generated on 2015-10-27 17:24:11 -0400 (Tue, 27 Oct 2015).

Package 986/1104HostnameOS / ArchINSTALLBUILDCHECKBUILD BIN
SLGI 1.30.0
Nolwenn Le Meur
Snapshot Date: 2015-10-26 19:24:07 -0400 (Mon, 26 Oct 2015)
URL: https://hedgehog.fhcrc.org/bioconductor/branches/RELEASE_3_2/madman/Rpacks/SLGI
Last Changed Rev: 109589 / Revision: 109947
Last Changed Date: 2015-10-13 15:36:05 -0400 (Tue, 13 Oct 2015)
linux1.bioconductor.org Linux (Ubuntu 14.04.2 LTS) / x86_64  OK  OK [ OK ]UNNEEDED, same version exists in internal repository
windows1.bioconductor.org Windows Server 2012 R2 Enterprise SP1 (64-bit) / x64  OK  OK  OK  OK UNNEEDED, same version exists in internal repository
perceval Mac OS X Snow Leopard (10.6.8) / x86_64  OK  OK  OK  OK UNNEEDED, same version exists in internal repository
oaxaca Mac OS X Mavericks (10.9.5) / x86_64  OK  OK  OK  OK UNNEEDED, same version exists in internal repository

Summary

Package: SLGI
Version: 1.30.0
Command: /home/biocbuild/bbs-3.2-bioc/R/bin/R CMD check --no-vignettes --timings SLGI_1.30.0.tar.gz
StartedAt: 2015-10-27 08:14:40 -0400 (Tue, 27 Oct 2015)
EndedAt: 2015-10-27 08:17:48 -0400 (Tue, 27 Oct 2015)
EllapsedTime: 188.0 seconds
RetCode: 0
Status:  OK 
CheckDir: SLGI.Rcheck
Warnings: 0

Command output

##############################################################################
##############################################################################
###
### Running command:
###
###   /home/biocbuild/bbs-3.2-bioc/R/bin/R CMD check --no-vignettes --timings SLGI_1.30.0.tar.gz
###
##############################################################################
##############################################################################


* using log directory ‘/home/biocbuild/bbs-3.2-bioc/meat/SLGI.Rcheck’
* using R version 3.2.2 (2015-08-14)
* using platform: x86_64-pc-linux-gnu (64-bit)
* using session charset: UTF-8
* using option ‘--no-vignettes’
* checking for file ‘SLGI/DESCRIPTION’ ... OK
* this is package ‘SLGI’ version ‘1.30.0’
* checking package namespace information ... OK
* checking package dependencies ... OK
* checking if this is a source package ... OK
* checking if there is a namespace ... OK
* checking for hidden files and directories ... OK
* checking for portable file names ... OK
* checking for sufficient/correct file permissions ... OK
* checking whether package ‘SLGI’ can be installed ... [9s/9s] OK
* checking installed package size ... NOTE
  installed size is 15.9Mb
  sub-directories of 1Mb or more:
    data      4.2Mb
    extdata  11.3Mb
* checking package directory ... OK
* checking ‘build’ directory ... OK
* checking DESCRIPTION meta-information ... NOTE
Malformed Description field: should contain one or more complete sentences.
Packages listed in more than one of Depends, Imports, Suggests, Enhances:
  ‘ScISI’ ‘lattice’ ‘GO.db’
A package should be listed in only one of these fields.
* checking top-level files ... OK
* checking for left-over files ... OK
* checking index information ... OK
* checking package subdirectories ... OK
* checking R files for non-ASCII characters ... OK
* checking R files for syntax errors ... OK
* checking whether the package can be loaded ... OK
* checking whether the package can be loaded with stated dependencies ... OK
* checking whether the package can be unloaded cleanly ... OK
* checking whether the namespace can be loaded with stated dependencies ... OK
* checking whether the namespace can be unloaded cleanly ... OK
* checking dependencies in R code ... NOTE
'library' or 'require' call to ‘GO.db’ in package code.
  Please use :: or requireNamespace() instead.
  See section 'Suggested packages' in the 'Writing R Extensions' manual.
* checking S3 generic/method consistency ... OK
* checking replacement functions ... OK
* checking foreign function calls ... OK
* checking R code for possible problems ... OK
* checking Rd files ... OK
* checking Rd metadata ... OK
* checking Rd cross-references ... OK
* checking for missing documentation entries ... OK
* checking for code/documentation mismatches ... OK
* checking Rd \usage sections ... OK
* checking Rd contents ... OK
* checking for unstated dependencies in examples ... OK
* checking contents of ‘data’ directory ... OK
* checking data for non-ASCII characters ... OK
* checking data for ASCII and uncompressed saves ... OK
* checking installed files from ‘inst/doc’ ... OK
* checking files in ‘vignettes’ ... OK
* checking examples ... [93s/93s] OK
Examples with CPU or elapsed time > 5s
                 user system elapsed
iSummary       21.782  0.052  21.846
plot           10.649  0.008  10.678
modelSLGI      10.401  0.104  10.526
siResult-class  9.654  0.008   9.676
compare         8.148  0.260   8.417
twoWayTable     5.331  0.060   5.396
AtongFnDomain   5.346  0.043   5.393
* checking for unstated dependencies in vignettes ... OK
* checking package vignettes in ‘inst/doc’ ... OK
* checking running R code from vignettes ... SKIPPED
* checking re-building of vignette outputs ... SKIPPED
* checking PDF version of manual ... OK
* DONE

Status: 3 NOTEs
See
  ‘/home/biocbuild/bbs-3.2-bioc/meat/SLGI.Rcheck/00check.log’
for details.


SLGI.Rcheck/00install.out:

* installing *source* package ‘SLGI’ ...
** R
** data
** inst
** preparing package for lazy loading
No methods found in "Biobase" for requests: listlen
No methods found in "annotate" for requests: pubmed, buildPubMedAbst
No methods found in "BiocGenerics" for requests: plot
** help
*** installing help indices
** building package indices
** installing vignettes
** testing if installed package can be loaded
No methods found in "Biobase" for requests: listlen
No methods found in "annotate" for requests: pubmed, buildPubMedAbst
No methods found in "BiocGenerics" for requests: plot
* DONE (SLGI)

SLGI.Rcheck/SLGI-Ex.timings:

nameusersystemelapsed
Atong0.0120.0000.012
AtongFnDomain5.3460.0435.393
AtongPair0.0720.0040.077
SDL0.0050.0000.007
SGA0.0080.0000.009
SGD.SL0.2440.0080.253
TFmat0.0960.0000.097
byComplex0.5340.0240.558
comemberIn0.4090.0120.421
compare8.1480.2608.417
congruence0.0030.0000.003
createSquareMatrix0.1820.0000.182
domainDist2.1940.0202.217
essglist0.0120.0000.012
getInteraction0.0040.0000.004
getSharedDomains0.0250.0000.025
getSharedInteraction0.0020.0000.002
getTestedPairs0.0140.0000.014
getUniquePairs0.0190.0040.023
gi20050.0590.0000.059
gi20070.1420.0080.151
gi2Interactome0.0010.0000.002
hyperG0.0070.0000.007
iSummary21.782 0.05221.846
modelSLGI10.401 0.10410.526
normInteraction4.3920.0004.401
plot10.649 0.00810.678
seqMatcherAlign0.0010.0000.001
sharedBy2.5810.0162.596
sharedInt0.0020.0000.003
siResult-class9.6540.0089.676
test2Interact0.0030.0000.002
topInteraction4.9040.0124.918
twoWayTable5.3310.0605.396
withinComplex0.7550.0080.764