Back to the "Multiple platform build/check report" A  B  C  D  E  F  G  H  I  J  K  L  M  N  O  P  Q [R] S  T  U  V  W  X  Y  Z 

BioC 3.2: CHECK report for RpsiXML on moscato1

This page was generated on 2015-08-20 13:19:05 -0700 (Thu, 20 Aug 2015).

Package 882/1069HostnameOS / ArchINSTALLBUILDCHECKBUILD BIN
RpsiXML 2.11.0
Jitao David Zhang
Snapshot Date: 2015-08-19 16:24:33 -0700 (Wed, 19 Aug 2015)
URL: https://hedgehog.fhcrc.org/bioconductor/trunk/madman/Rpacks/RpsiXML
Last Changed Rev: 102594 / Revision: 107602
Last Changed Date: 2015-04-16 13:02:44 -0700 (Thu, 16 Apr 2015)
zin1 Linux (Ubuntu 14.04.2 LTS) / x86_64  OK  OK  OK UNNEEDED, same version exists in internal repository
moscato1 Windows Server 2008 R2 Enterprise SP1 (64-bit) / x64  OK  OK [ OK ] OK UNNEEDED, same version exists in internal repository
perceval Mac OS X Snow Leopard (10.6.8) / x86_64  OK  OK  OK  OK UNNEEDED, same version exists in internal repository
oaxaca Mac OS X Mavericks (10.9.5) / x86_64  OK  OK  OK  OK UNNEEDED, same version exists in internal repository

Summary

Package: RpsiXML
Version: 2.11.0
Command: rm -rf RpsiXML.buildbin-libdir RpsiXML.Rcheck && mkdir RpsiXML.buildbin-libdir RpsiXML.Rcheck && D:\biocbld\bbs-3.2-bioc\R\bin\R.exe CMD INSTALL --build --merge-multiarch --library=RpsiXML.buildbin-libdir RpsiXML_2.11.0.tar.gz >RpsiXML.Rcheck\00install.out 2>&1 && cp RpsiXML.Rcheck\00install.out RpsiXML-install.out && D:\biocbld\bbs-3.2-bioc\R\bin\R.exe CMD check --library=RpsiXML.buildbin-libdir --install="check:RpsiXML-install.out" --force-multiarch --no-vignettes --timings RpsiXML_2.11.0.tar.gz
StartedAt: 2015-08-20 09:54:09 -0700 (Thu, 20 Aug 2015)
EndedAt: 2015-08-20 09:59:06 -0700 (Thu, 20 Aug 2015)
EllapsedTime: 297.3 seconds
RetCode: 0
Status:  OK  
CheckDir: RpsiXML.Rcheck
Warnings: 0

Command output

##############################################################################
##############################################################################
###
### Running command:
###
###   rm -rf RpsiXML.buildbin-libdir RpsiXML.Rcheck && mkdir RpsiXML.buildbin-libdir RpsiXML.Rcheck && D:\biocbld\bbs-3.2-bioc\R\bin\R.exe CMD INSTALL --build --merge-multiarch --library=RpsiXML.buildbin-libdir RpsiXML_2.11.0.tar.gz >RpsiXML.Rcheck\00install.out 2>&1 && cp RpsiXML.Rcheck\00install.out RpsiXML-install.out  && D:\biocbld\bbs-3.2-bioc\R\bin\R.exe CMD check --library=RpsiXML.buildbin-libdir --install="check:RpsiXML-install.out" --force-multiarch --no-vignettes --timings RpsiXML_2.11.0.tar.gz
###
##############################################################################
##############################################################################


* using log directory 'D:/biocbld/bbs-3.2-bioc/meat/RpsiXML.Rcheck'
* using R version 3.2.2 (2015-08-14)
* using platform: x86_64-w64-mingw32 (64-bit)
* using session charset: ISO8859-1
* using option '--no-vignettes'
* checking for file 'RpsiXML/DESCRIPTION' ... OK
* this is package 'RpsiXML' version '2.11.0'
* checking package namespace information ... OK
* checking package dependencies ... NOTE
Depends: includes the non-default packages:
  'annotate' 'graph' 'Biobase' 'RBGL' 'XML' 'hypergraph'
  'AnnotationDbi'
Adding so many packages to the search path is excessive and importing
selectively is preferable.
* checking if this is a source package ... OK
* checking if there is a namespace ... OK
* checking for hidden files and directories ... OK
* checking for portable file names ... OK
* checking whether package 'RpsiXML' can be installed ... OK
* checking installed package size ... NOTE
  installed size is 33.7Mb
  sub-directories of 1Mb or more:
    extdata  32.7Mb
* checking package directory ... OK
* checking 'build' directory ... OK
* checking DESCRIPTION meta-information ... OK
* checking top-level files ... OK
* checking for left-over files ... OK
* checking index information ... OK
* checking package subdirectories ... OK
* checking R files for non-ASCII characters ... OK
* checking R files for syntax errors ... OK
* loading checks for arch 'i386'
** checking whether the package can be loaded ... OK
** checking whether the package can be loaded with stated dependencies ... OK
** checking whether the package can be unloaded cleanly ... OK
** checking whether the namespace can be loaded with stated dependencies ... OK
** checking whether the namespace can be unloaded cleanly ... OK
* loading checks for arch 'x64'
** checking whether the package can be loaded ... OK
** checking whether the package can be loaded with stated dependencies ... OK
** checking whether the package can be unloaded cleanly ... OK
** checking whether the namespace can be loaded with stated dependencies ... OK
** checking whether the namespace can be unloaded cleanly ... OK
* checking dependencies in R code ... OK
* checking S3 generic/method consistency ... OK
* checking replacement functions ... OK
* checking foreign function calls ... OK
* checking R code for possible problems ... NOTE
getAbstractByPMID: no visible global function definition for 'pubmed'
getAbstractByPMID: no visible global function definition for
  'buildPubMedAbst'
hyperGraphConverter: no visible global function definition for
  'inciMat'
list2Matrix: no visible global function definition for 'listLen'
list2Matrix: no visible global function definition for 'inciMat'
psimi25Hypergraph2GraphNEL: no visible global function definition for
  'toGraphNEL'
removeHypergraphNAnode: no visible global function definition for
  'hyperedges'
separateXMLDataByExpt : <anonymous>: no visible global function
  definition for 'listLen'
edgeLabel,psimi25Hypergraph : .local: no visible global function
  definition for 'hyperedgeLabels'
head,missing : .local: no visible binding for global variable '.Object'
hyperedgeNodes,Hypergraph : .local: no visible global function
  definition for 'hyperedges'
hyperedgeNodes,Hypergraph : .local: no visible global function
  definition for 'hyperedgeLabels'
numEdges,psimi25Hypergraph: no visible global function definition for
  'hyperedges'
tail,missing : .local: no visible binding for global variable '.Object'
translateID,psimi25Graph : .local: no visible global function
  definition for 'combineNodes'
translateID,psimi25Graph : .local: no visible global function
  definition for 'nodes<-'
* checking Rd files ... OK
* checking Rd metadata ... OK
* checking Rd cross-references ... OK
* checking for missing documentation entries ... OK
* checking for code/documentation mismatches ... OK
* checking Rd \usage sections ... OK
* checking Rd contents ... OK
* checking for unstated dependencies in examples ... OK
* checking line endings in Makefiles ... OK
* checking for GNU extensions in Makefiles ... OK
* checking installed files from 'inst/doc' ... OK
* checking files in 'vignettes' ... OK
* checking examples ...
** running examples for arch 'i386' ... [31s] OK
** running examples for arch 'x64' ... [37s] OK
Examples with CPU or elapsed time > 5s
            user system elapsed
translateID 7.05   0.02    7.07
* checking for unstated dependencies in 'tests' ... OK
* checking tests ...
** running tests for arch 'i386' ...
  Running 'psimi25Source_test.R' [29s]
 [29s] OK
** running tests for arch 'x64' ...
  Running 'psimi25Source_test.R' [33s]
 [33s] OK
* checking for unstated dependencies in vignettes ... OK
* checking package vignettes in 'inst/doc' ... OK
* checking running R code from vignettes ... SKIPPED
* checking re-building of vignette outputs ... SKIPPED
* checking PDF version of manual ... OK
* DONE

Status: 3 NOTEs
See
  'D:/biocbld/bbs-3.2-bioc/meat/RpsiXML.Rcheck/00check.log'
for details.


RpsiXML.Rcheck/00install.out:


install for i386

* installing *source* package 'RpsiXML' ...
** R
** inst
** preparing package for lazy loading
No methods found in "Biobase" for requests: listlen
No methods found in "annotate" for requests: pubmed, buildPubMedAbst
Note: in method for 'head' with signature 'x="ANY"': expanding the
signature to include omitted arguments in definition: x = "missing"
Note: in method for 'tail' with signature 'x="ANY"': expanding the
signature to include omitted arguments in definition: x = "missing"
** help
*** installing help indices
** building package indices
** installing vignettes
** testing if installed package can be loaded
No methods found in "Biobase" for requests: listlen
No methods found in "annotate" for requests: pubmed, buildPubMedAbst

install for x64

* installing *source* package 'RpsiXML' ...
** testing if installed package can be loaded
No methods found in "Biobase" for requests: listlen
No methods found in "annotate" for requests: pubmed, buildPubMedAbst
* MD5 sums
packaged installation of 'RpsiXML' as RpsiXML_2.11.0.zip
* DONE (RpsiXML)

RpsiXML.Rcheck/examples_i386/RpsiXML-Ex.timings:

nameusersystemelapsed
availableXrefs0.080.000.07
bait0.050.000.05
buildPCHypergraph2.100.012.12
complexName2.190.002.19
complexes2.240.002.24
eListHandler0.020.000.02
getAbstractByPMID0.590.031.14
graphSpeciesConverter2.610.072.65
interactionType0.050.000.05
interactions0.060.000.06
interactorInfo0.050.000.05
interactors1.720.031.74
null2na000
parsePsimi25Interaction2.490.003.76
psimi25Complex-class000
psimi25ComplexEntry-class000
psimi25Experiment-class000
psimi25Graph-class000
psimi25Hypergraph-class1.920.001.92
psimi25Hypergraph2GraphNEL000
psimi25Interaction-class0.010.000.02
psimi25InteractionEntry-class000
psimi25Interactor-class000
psimi25Source-class000
psimi25XML2Graph2.590.002.59
separateXMLDataByExpt0.460.010.47
translateID4.650.024.66
uniprot000
validatePSIMI25000

RpsiXML.Rcheck/examples_x64/RpsiXML-Ex.timings:

nameusersystemelapsed
availableXrefs0.170.010.19
bait0.060.000.06
buildPCHypergraph2.310.002.31
complexName2.390.052.44
complexes2.530.022.54
eListHandler0.010.000.01
getAbstractByPMID0.490.041.17
graphSpeciesConverter3.010.033.04
interactionType0.060.000.06
interactions0.080.000.08
interactorInfo0.080.000.08
interactors2.590.072.65
null2na000
parsePsimi25Interaction3.550.013.57
psimi25Complex-class000
psimi25ComplexEntry-class000
psimi25Experiment-class000
psimi25Graph-class000
psimi25Hypergraph-class2.500.002.48
psimi25Hypergraph2GraphNEL000
psimi25Interaction-class000
psimi25InteractionEntry-class000
psimi25Interactor-class000
psimi25Source-class000
psimi25XML2Graph3.840.033.90
separateXMLDataByExpt0.500.020.53
translateID7.050.027.07
uniprot000
validatePSIMI25000