Back to the "Multiple platform build/check report" A  B  C  D  E  F  G  H  I  J  K  L  M  N  O  P  Q [R] S  T  U  V  W  X  Y  Z 

BioC 3.2: BUILD report for Rhtslib on moscato1

This page was generated on 2015-08-20 13:23:50 -0700 (Thu, 20 Aug 2015).

Package 854/1069HostnameOS / ArchINSTALLBUILDCHECKBUILD BIN
Rhtslib 1.1.8
Nathaniel Hayden
Snapshot Date: 2015-08-19 16:24:33 -0700 (Wed, 19 Aug 2015)
URL: https://hedgehog.fhcrc.org/bioconductor/trunk/madman/Rpacks/Rhtslib
Last Changed Rev: 106714 / Revision: 107602
Last Changed Date: 2015-07-23 22:39:37 -0700 (Thu, 23 Jul 2015)
zin1 Linux (Ubuntu 14.04.2 LTS) / x86_64  OK  OK  WARNINGS UNNEEDED, same version exists in internal repository
moscato1 Windows Server 2008 R2 Enterprise SP1 (64-bit) / x64  OK [ OK ] WARNINGS  OK UNNEEDED, same version exists in internal repository
perceval Mac OS X Snow Leopard (10.6.8) / x86_64  OK  OK  WARNINGS  OK UNNEEDED, same version exists in internal repository
oaxaca Mac OS X Mavericks (10.9.5) / x86_64  OK  OK  WARNINGS  OK UNNEEDED, same version exists in internal repository

Summary

Package: Rhtslib
Version: 1.1.8
Command: chmod a+r Rhtslib -R && D:\biocbld\bbs-3.2-bioc\R\bin\R.exe CMD build --keep-empty-dirs --no-resave-data Rhtslib
StartedAt: 2015-08-19 23:51:16 -0700 (Wed, 19 Aug 2015)
EndedAt: 2015-08-19 23:51:54 -0700 (Wed, 19 Aug 2015)
EllapsedTime: 37.2 seconds
RetCode: 0
Status:  OK  
PackageFile: Rhtslib_1.1.8.tar.gz
PackageFileSize: 1.948 MiB

Command output

##############################################################################
##############################################################################
###
### Running command:
###
###   chmod a+r Rhtslib -R && D:\biocbld\bbs-3.2-bioc\R\bin\R.exe CMD build --keep-empty-dirs --no-resave-data Rhtslib
###
##############################################################################
##############################################################################


* checking for file 'Rhtslib/DESCRIPTION' ... OK
* preparing 'Rhtslib':
* checking DESCRIPTION meta-information ... OK
* cleaning src
* installing the package to build vignettes
* creating vignettes ... OK
* cleaning src
* checking for LF line-endings in source and make files
* checking for empty or unneeded directories
* building 'Rhtslib_1.1.8.tar.gz'
Warning: file 'Rhtslib/cleanup' did not have execute permissions: corrected
Warning: file 'Rhtslib/configure' did not have execute permissions: corrected
Warning: file 'Rhtslib/tools/configure' did not have execute permissions: corrected