RankProd 2.42.0 Fangxin Hong
 | Snapshot Date: 2015-10-26 19:24:07 -0400 (Mon, 26 Oct 2015) |  | URL: https://hedgehog.fhcrc.org/bioconductor/branches/RELEASE_3_2/madman/Rpacks/RankProd |  | Last Changed Rev: 109589 / Revision: 109947 |  | Last Changed Date: 2015-10-13 15:36:05 -0400 (Tue, 13 Oct 2015) |  
  | linux1.bioconductor.org  | Linux (Ubuntu 14.04.2 LTS) / x86_64  |  OK  |  OK  |  OK  |  |   | 
| windows1.bioconductor.org  | Windows Server 2012 R2 Enterprise SP1 (64-bit) / x64  |  OK  |  OK  |  OK  | [ OK ] |   | 
| perceval  | Mac OS X Snow Leopard (10.6.8) / x86_64  |  OK  |  OK  |  OK  |  OK  |   | 
| oaxaca  | Mac OS X Mavericks (10.9.5) / x86_64  |  OK  |  OK  |  OK  |  OK  |   | 
##############################################################################
##############################################################################
###
### Running command:
###
###   cd RankProd.buildbin-libdir/RankProd && zip -r ../../RankProd_2.42.0.zip . & cd ../..
###
##############################################################################
##############################################################################
  adding: data/ (208 bytes security) (stored 0%)
  adding: data/arab.rda (188 bytes security) (deflated 1%)
  adding: data/golub.rda (188 bytes security) (deflated 0%)
  adding: data/lymphoma.rda (188 bytes security) (deflated 0%)
  adding: DESCRIPTION (188 bytes security) (deflated 44%)
  adding: doc/ (208 bytes security) (stored 0%)
  adding: doc/index.html (188 bytes security) (deflated 58%)
  adding: doc/RankProd.pdf (188 bytes security) (deflated 8%)
  adding: doc/RankProd.R (188 bytes security) (deflated 84%)
  adding: doc/RankProd.Rnw (188 bytes security) (deflated 67%)
  adding: help/ (208 bytes security) (stored 0%)
  adding: help/aliases.rds (188 bytes security) (stored 0%)
  adding: help/AnIndex (188 bytes security) (deflated 71%)
  adding: help/paths.rds (188 bytes security) (stored 0%)
  adding: help/RankProd.rdb (188 bytes security) (deflated 1%)
  adding: help/RankProd.rdx (188 bytes security) (stored 0%)
  adding: html/ (208 bytes security) (stored 0%)
  adding: html/00Index.html (188 bytes security) (deflated 69%)
  adding: html/R.css (188 bytes security) (deflated 75%)
  adding: INDEX (188 bytes security) (deflated 60%)
  adding: LICENSE (188 bytes security) (deflated 12%)
  adding: MD5 (188 bytes security) (deflated 43%)
  adding: Meta/ (208 bytes security) (stored 0%)
  adding: Meta/data.rds (188 bytes security) (stored 0%)
  adding: Meta/hsearch.rds (188 bytes security) (stored 0%)
  adding: Meta/links.rds (188 bytes security) (stored 0%)
  adding: Meta/nsInfo.rds (188 bytes security) (stored 0%)
  adding: Meta/package.rds (188 bytes security) (stored 0%)
  adding: Meta/Rd.rds (188 bytes security) (stored 0%)
  adding: Meta/vignette.rds (188 bytes security) (stored 0%)
  adding: NAMESPACE (188 bytes security) (deflated 40%)
  adding: R/ (208 bytes security) (stored 0%)
  adding: R/RankProd (188 bytes security) (deflated 41%)
  adding: R/RankProd.rdb (188 bytes security) (deflated 1%)
  adding: R/RankProd.rdx (188 bytes security) (stored 0%)