ROntoTools 1.9.0 Calin Voichita
 | Snapshot Date: 2015-08-19 16:24:33 -0700 (Wed, 19 Aug 2015) |  | URL: https://hedgehog.fhcrc.org/bioconductor/trunk/madman/Rpacks/ROntoTools |  | Last Changed Rev: 102594 / Revision: 107602 |  | Last Changed Date: 2015-04-16 13:02:44 -0700 (Thu, 16 Apr 2015) |  
  | zin1  | Linux (Ubuntu 14.04.2 LTS) / x86_64  |  OK  |  OK  |  OK  |  |   | 
| moscato1  | Windows Server 2008 R2 Enterprise SP1 (64-bit) / x64  |  OK  |  OK  |  OK  | [ OK ] |   | 
| perceval  | Mac OS X Snow Leopard (10.6.8) / x86_64  |  OK  |  OK  |  OK  |  OK  |   | 
| oaxaca  | Mac OS X Mavericks (10.9.5) / x86_64  |  OK  |  OK  |  OK  |  OK  |   | 
##############################################################################
##############################################################################
###
### Running command:
###
###   cd ROntoTools.buildbin-libdir/ROntoTools && zip -r ../../ROntoTools_1.9.0.zip . & cd ../..
###
##############################################################################
##############################################################################
  adding: DESCRIPTION (188 bytes security) (deflated 41%)
  adding: doc/ (256 bytes security) (stored 0%)
  adding: doc/index.html (188 bytes security) (deflated 59%)
  adding: doc/rontotools.pdf (188 bytes security) (deflated 13%)
  adding: doc/rontotools.R (188 bytes security) (deflated 84%)
  adding: doc/rontotools.Rnw (188 bytes security) (deflated 67%)
  adding: extdata/ (256 bytes security) (stored 0%)
  adding: extdata/E-GEOD-21942.topTable.RData (188 bytes security) (deflated 0%)
  adding: extdata/KEGGRESTunparsed_hsa.RData (188 bytes security) (deflated 3%)
  adding: extdata/kpgDefault.RData (188 bytes security) (deflated 10%)
  adding: help/ (256 bytes security) (stored 0%)
  adding: help/aliases.rds (188 bytes security) (stored 0%)
  adding: help/AnIndex (188 bytes security) (deflated 71%)
  adding: help/paths.rds (188 bytes security) (stored 0%)
  adding: help/ROntoTools.rdb (188 bytes security) (deflated 1%)
  adding: help/ROntoTools.rdx (188 bytes security) (stored 0%)
  adding: html/ (256 bytes security) (stored 0%)
  adding: html/00Index.html (188 bytes security) (deflated 75%)
  adding: html/R.css (188 bytes security) (deflated 75%)
  adding: INDEX (188 bytes security) (deflated 66%)
  adding: MD5 (188 bytes security) (deflated 43%)
  adding: Meta/ (256 bytes security) (stored 0%)
  adding: Meta/hsearch.rds (188 bytes security) (stored 0%)
  adding: Meta/links.rds (188 bytes security) (stored 0%)
  adding: Meta/nsInfo.rds (188 bytes security) (stored 0%)
  adding: Meta/package.rds (188 bytes security) (stored 0%)
  adding: Meta/Rd.rds (188 bytes security) (stored 0%)
  adding: Meta/vignette.rds (188 bytes security) (stored 0%)
  adding: NAMESPACE (188 bytes security) (deflated 59%)
  adding: NEWS (188 bytes security) (deflated 49%)
  adding: R/ (256 bytes security) (stored 0%)
  adding: R/ROntoTools (188 bytes security) (deflated 41%)
  adding: R/ROntoTools.rdb (188 bytes security) (deflated 27%)
  adding: R/ROntoTools.rdx (188 bytes security) (stored 0%)
  adding: unitTests/ (256 bytes security) (stored 0%)
  adding: unitTests/test_alpha.R (188 bytes security) (deflated 58%)
  adding: unitTests/test_graphWeights.R (188 bytes security) (deflated 57%)
  adding: unitTests/test_nodeWeights.R (188 bytes security) (deflated 40%)
  adding: unitTests/test_pe.R (188 bytes security) (deflated 47%)